Workbook

Sheet سجل رسائل الصفقات
A1: سجل رسائل الصفقات
A2: صف واحد لكل رسالة مبيعات. اختر المرحلة، وأدخل سطر الموضوع والتاريخ، ثم الخطوة التالية الواحدة وتاريخ استحقاقها.
A3: أدخل «تاريخ الإنجاز» عند إنجاز الخطوة التالية. تتحدّث «حالة الخطوة التالية» و«أيام التأخير» و«حالة الصفقة» و«الملخص» تلقائياً. صفوف Olive Branch هي مثال الصفحة؛ أما تواريخ الأمثلة الأخرى فتتغير مع تاريخ اليوم.
A4: الصفقة | B4: جهة الاتصال | C4: المسؤول | D4: المرحلة | E4: الرسالة المرسلة (الموضوع) | F4: تاريخ الإرسال | G4: الرد | H4: الخطوة التالية | I4: تاريخ الاستحقاق | J4: تاريخ الإنجاز | K4: حالة الخطوة التالية | L4: أيام التأخير | M4: حالة الصفقة | N4: ملاحظات
A5: Olive Branch Bistro Group | B5: إينيس مورو | C5: جونا | D5: الرد على عميل محتمل وارد | E5: بخصوص تقاريركم الأسبوعية لـ4 مطاعم: موعدان لمكالمة | F5: 46297 | G5: نعم | H5: مكالمة استكشاف الثلاثاء 6 أكتوبر، 10:00 | I5: 46301 | J5: 46301 | K5: =IF(OR($A5="",$F5=""),"",IF($J5<>"","منجزة",IF(OR($H5="",$I5=""),IF($M5="مفتوحة","بلا خطوة تالية بتاريخ",""),IF(TODAY()>$I5,"متأخرة",IF(TODAY()=$I5,"مستحقة اليوم","لم يحن موعدها"))))) | L5: =IF($K5="متأخرة",TODAY()-$I5,"") | M5: =IF($A5="","",IF(COUNTIFS($A$5:$A$204,$A5,$D$5:$D$204,'القوائم'!$A$10)>0,"رابحة",IF(COUNTIFS($A$5:$A$204,$A5,$D$5:$D$204,'القوائم'!$A$11)>0,"خاسرة","مفتوحة"))) | N5: عميل محتمل من دردشة الموقع، الخميس 1 أكتوبر، 21:40. ردّت إينيس بعد 42 دقيقة.
A6: Olive Branch Bistro Group | B6: إينيس مورو | C6: جونا | D6: ملخص مكالمة أو عرض توضيحي | E6: ملخص: تقرير أسبوعي واحد لمطاعم Olive Branch | F6: 46301 | G6: نعم | H6: العرض بحلول الاثنين 12 أكتوبر | I6: 46307 | J6: 46307 | K6: =IF(OR($A6="",$F6=""),"",IF($J6<>"","منجزة",IF(OR($H6="",$I6=""),IF($M6="مفتوحة","بلا خطوة تالية بتاريخ",""),IF(TODAY()>$I6,"متأخرة",IF(TODAY()=$I6,"مستحقة اليوم","لم يحن موعدها"))))) | L6: =IF($K6="متأخرة",TODAY()-$I6,"") | M6: =IF($A6="","",IF(COUNTIFS($A$5:$A$204,$A6,$D$5:$D$204,'القوائم'!$A$10)>0,"رابحة",IF(COUNTIFS($A$5:$A$204,$A6,$D$5:$D$204,'القوائم'!$A$11)>0,"خاسرة","مفتوحة"))) | N6: تقرر إينيس وبول أوكونكوو في اجتماع الميزانية يوم 28 أكتوبر
A7: Olive Branch Bistro Group | B7: إينيس مورو | C7: جونا | D7: سؤال عن السعر | E7: أسعار Olive Branch: $480 شهرياً | F7: 46302 | G7: نعم | H7: عرض بالأسعار السنوية والشهرية | I7: 46307 | J7: 46307 | K7: =IF(OR($A7="",$F7=""),"",IF($J7<>"","منجزة",IF(OR($H7="",$I7=""),IF($M7="مفتوحة","بلا خطوة تالية بتاريخ",""),IF(TODAY()>$I7,"متأخرة",IF(TODAY()=$I7,"مستحقة اليوم","لم يحن موعدها"))))) | L7: =IF($K7="متأخرة",TODAY()-$I7,"") | M7: =IF($A7="","",IF(COUNTIFS($A$5:$A$204,$A7,$D$5:$D$204,'القوائم'!$A$10)>0,"رابحة",IF(COUNTIFS($A$5:$A$204,$A7,$D$5:$D$204,'القوائم'!$A$11)>0,"خاسرة","مفتوحة"))) | N7: $120 لكل مطعم شهرياً تُدفع سنوياً، و$900 رسوم إعداد
A8: Olive Branch Bistro Group | B8: إينيس مورو | C8: جونا | D8: العرض أو عرض السعر | E8: العرض Q-1042: تقارير أسبوعية لـ4 مطاعم | F8: 46307 | G8: نعم | H8: مكالمة مع إينيس وبول، الخميس 15 أكتوبر، 10:00 | I8: 46310 | J8: 46310 | K8: =IF(OR($A8="",$F8=""),"",IF($J8<>"","منجزة",IF(OR($H8="",$I8=""),IF($M8="مفتوحة","بلا خطوة تالية بتاريخ",""),IF(TODAY()>$I8,"متأخرة",IF(TODAY()=$I8,"مستحقة اليوم","لم يحن موعدها"))))) | L8: =IF($K8="متأخرة",TODAY()-$I8,"") | M8: =IF($A8="","",IF(COUNTIFS($A$5:$A$204,$A8,$D$5:$D$204,'القوائم'!$A$10)>0,"رابحة",IF(COUNTIFS($A$5:$A$204,$A8,$D$5:$D$204,'القوائم'!$A$11)>0,"خاسرة","مفتوحة"))) | N8: السنة الأولى $6,660، ساري حتى 30 أكتوبر
A9: Olive Branch Bistro Group | B9: إينيس مورو، بول أوكونكوو | C9: جونا | D9: تنسيق مع فريق الشراء | E9: لقراركم يوم 28 أكتوبر: السعر والشروط وتاريخ البدء | F9: 46316 | G9: نعم | H9: السؤال عن القرار بعد اجتماع 28 أكتوبر | I9: 46324 | J9: 46324 | K9: =IF(OR($A9="",$F9=""),"",IF($J9<>"","منجزة",IF(OR($H9="",$I9=""),IF($M9="مفتوحة","بلا خطوة تالية بتاريخ",""),IF(TODAY()>$I9,"متأخرة",IF(TODAY()=$I9,"مستحقة اليوم","لم يحن موعدها"))))) | L9: =IF($K9="متأخرة",TODAY()-$I9,"") | M9: =IF($A9="","",IF(COUNTIFS($A$5:$A$204,$A9,$D$5:$D$204,'القوائم'!$A$10)>0,"رابحة",IF(COUNTIFS($A$5:$A$204,$A9,$D$5:$D$204,'القوائم'!$A$11)>0,"خاسرة","مفتوحة"))) | N9: بول: تبدأ الفوترة السنوية يوم التشغيل، 23 نوفمبر
A10: Olive Branch Bistro Group | B10: إينيس مورو | C10: جونا | D10: رابحة: الخطوات التالية | E10: الخطوات التالية: تشغيل Olive Branch بحلول 23 نوفمبر | F10: 46324 | G10: نعم | H10: مكالمة الانطلاق الثلاثاء 3 نوفمبر، 10:00 | I10: 46329 | J10: 46329 | K10: =IF(OR($A10="",$F10=""),"",IF($J10<>"","منجزة",IF(OR($H10="",$I10=""),IF($M10="مفتوحة","بلا خطوة تالية بتاريخ",""),IF(TODAY()>$I10,"متأخرة",IF(TODAY()=$I10,"مستحقة اليوم","لم يحن موعدها"))))) | L10: =IF($K10="متأخرة",TODAY()-$I10,"") | M10: =IF($A10="","",IF(COUNTIFS($A$5:$A$204,$A10,$D$5:$D$204,'القوائم'!$A$10)>0,"رابحة",IF(COUNTIFS($A$5:$A$204,$A10,$D$5:$D$204,'القوائم'!$A$11)>0,"خاسرة","مفتوحة"))) | N10: تمت الموافقة في اجتماع الميزانية يوم 28 أكتوبر
A11: Olive Branch، المطعم الخامس | B11: إينيس مورو | C11: جونا | D11: التجديد أو البيع الإضافي | E11: مطعمكم الخامس: هل نضيفه إلى التقارير؟ | F11: 46350 | G11: نعم | H11: عرض سعر للمطعم الخامس | I11: 46353 | J11: 46352 | K11: =IF(OR($A11="",$F11=""),"",IF($J11<>"","منجزة",IF(OR($H11="",$I11=""),IF($M11="مفتوحة","بلا خطوة تالية بتاريخ",""),IF(TODAY()>$I11,"متأخرة",IF(TODAY()=$I11,"مستحقة اليوم","لم يحن موعدها"))))) | L11: =IF($K11="متأخرة",TODAY()-$I11,"") | M11: =IF($A11="","",IF(COUNTIFS($A$5:$A$204,$A11,$D$5:$D$204,'القوائم'!$A$10)>0,"رابحة",IF(COUNTIFS($A$5:$A$204,$A11,$D$5:$D$204,'القوائم'!$A$11)>0,"خاسرة","مفتوحة"))) | N11: $120 شهرياً و$225 رسوم إعداد. يُفتتح في فبراير.
A12: Harbor Lane Oyster Bar | B12: ميرا كوفالتشيك | C12: أستريد | D12: العرض أو عرض السعر | E12: العرض: تقارير أسبوعية لمطعمين | F12: =TODAY()-24 | G12: نعم | H12: مكالمة القرار | I12: =TODAY()-17 | J12: =TODAY()-17 | K12: =IF(OR($A12="",$F12=""),"",IF($J12<>"","منجزة",IF(OR($H12="",$I12=""),IF($M12="مفتوحة","بلا خطوة تالية بتاريخ",""),IF(TODAY()>$I12,"متأخرة",IF(TODAY()=$I12,"مستحقة اليوم","لم يحن موعدها"))))) | L12: =IF($K12="متأخرة",TODAY()-$I12,"") | M12: =IF($A12="","",IF(COUNTIFS($A$5:$A$204,$A12,$D$5:$D$204,'القوائم'!$A$10)>0,"رابحة",IF(COUNTIFS($A$5:$A$204,$A12,$D$5:$D$204,'القوائم'!$A$11)>0,"خاسرة","مفتوحة")))
A13: Harbor Lane Oyster Bar | B13: ميرا كوفالتشيك | C13: أستريد | D13: خاسرة: اسأل عن السبب | E13: إغلاق ملفكم، وسؤال واحد قبل ذلك | F13: =TODAY()-3 | G13: نعم | K13: =IF(OR($A13="",$F13=""),"",IF($J13<>"","منجزة",IF(OR($H13="",$I13=""),IF($M13="مفتوحة","بلا خطوة تالية بتاريخ",""),IF(TODAY()>$I13,"متأخرة",IF(TODAY()=$I13,"مستحقة اليوم","لم يحن موعدها"))))) | L13: =IF($K13="متأخرة",TODAY()-$I13,"") | M13: =IF($A13="","",IF(COUNTIFS($A$5:$A$204,$A13,$D$5:$D$204,'القوائم'!$A$10)>0,"رابحة",IF(COUNTIFS($A$5:$A$204,$A13,$D$5:$D$204,'القوائم'!$A$11)>0,"خاسرة","مفتوحة"))) | N13: السبب: التوقيت. سيفتتحون فرعاً جديداً أولاً.
A14: Kiln & Crust Pizza | B14: ديزموند فيريرا | C14: أستريد | D14: الرد على عميل محتمل وارد | E14: بخصوص تقاريركم الأسبوعية لـ3 مطاعم: موعدان لمكالمة | F14: =TODAY()-12 | G14: نعم | H14: مكالمة عرض توضيحي | I14: =TODAY()-8 | J14: =TODAY()-8 | K14: =IF(OR($A14="",$F14=""),"",IF($J14<>"","منجزة",IF(OR($H14="",$I14=""),IF($M14="مفتوحة","بلا خطوة تالية بتاريخ",""),IF(TODAY()>$I14,"متأخرة",IF(TODAY()=$I14,"مستحقة اليوم","لم يحن موعدها"))))) | L14: =IF($K14="متأخرة",TODAY()-$I14,"") | M14: =IF($A14="","",IF(COUNTIFS($A$5:$A$204,$A14,$D$5:$D$204,'القوائم'!$A$10)>0,"رابحة",IF(COUNTIFS($A$5:$A$204,$A14,$D$5:$D$204,'القوائم'!$A$11)>0,"خاسرة","مفتوحة")))
A15: Kiln & Crust Pizza | B15: ديزموند فيريرا | C15: أستريد | D15: ملخص مكالمة أو عرض توضيحي | E15: ملخص: تكلفة الطعام لكل مطعم، كل يوم اثنين | F15: =TODAY()-8 | G15: نعم | H15: العرض | I15: =TODAY()-6 | J15: =TODAY()-6 | K15: =IF(OR($A15="",$F15=""),"",IF($J15<>"","منجزة",IF(OR($H15="",$I15=""),IF($M15="مفتوحة","بلا خطوة تالية بتاريخ",""),IF(TODAY()>$I15,"متأخرة",IF(TODAY()=$I15,"مستحقة اليوم","لم يحن موعدها"))))) | L15: =IF($K15="متأخرة",TODAY()-$I15,"") | M15: =IF($A15="","",IF(COUNTIFS($A$5:$A$204,$A15,$D$5:$D$204,'القوائم'!$A$10)>0,"رابحة",IF(COUNTIFS($A$5:$A$204,$A15,$D$5:$D$204,'القوائم'!$A$11)>0,"خاسرة","مفتوحة")))
A16: Kiln & Crust Pizza | B16: ديزموند فيريرا | C16: أستريد | D16: العرض أو عرض السعر | E16: العرض: تقارير أسبوعية لـ3 مطاعم | F16: =TODAY()-6 | G16: لا | H16: رسالة اليوم 5: شيء واحد مفيد | I16: =TODAY()-1 | K16: =IF(OR($A16="",$F16=""),"",IF($J16<>"","منجزة",IF(OR($H16="",$I16=""),IF($M16="مفتوحة","بلا خطوة تالية بتاريخ",""),IF(TODAY()>$I16,"متأخرة",IF(TODAY()=$I16,"مستحقة اليوم","لم يحن موعدها"))))) | L16: =IF($K16="متأخرة",TODAY()-$I16,"") | M16: =IF($A16="","",IF(COUNTIFS($A$5:$A$204,$A16,$D$5:$D$204,'القوائم'!$A$10)>0,"رابحة",IF(COUNTIFS($A$5:$A$204,$A16,$D$5:$D$204,'القوائم'!$A$11)>0,"خاسرة","مفتوحة"))) | N16: لا رد بعد: اتبع سلسلة رسائل متابعة المبيعات
A17: Marlowe Street Deli | B17: دارا ويلان | C17: جونا | D17: الرد على عميل محتمل وارد | E17: بخصوص سؤالك عن تقارير تكلفة العمالة: موعدان لمكالمة | F17: =TODAY() | G17: لا | H17: مكالمة استكشاف | I17: =TODAY()+2 | K17: =IF(OR($A17="",$F17=""),"",IF($J17<>"","منجزة",IF(OR($H17="",$I17=""),IF($M17="مفتوحة","بلا خطوة تالية بتاريخ",""),IF(TODAY()>$I17,"متأخرة",IF(TODAY()=$I17,"مستحقة اليوم","لم يحن موعدها"))))) | L17: =IF($K17="متأخرة",TODAY()-$I17,"") | M17: =IF($A17="","",IF(COUNTIFS($A$5:$A$204,$A17,$D$5:$D$204,'القوائم'!$A$10)>0,"رابحة",IF(COUNTIFS($A$5:$A$204,$A17,$D$5:$D$204,'القوائم'!$A$11)>0,"خاسرة","مفتوحة")))
A18: Bellhaven Tavern | B18: سولفيغ هالفورسن | C18: أستريد | D18: التجديد أو البيع الإضافي | E18: تجديد اشتراككم: مراجعة في 20 دقيقة | F18: =TODAY()-7 | G18: نعم | H18: مكالمة مراجعة التجديد | I18: =TODAY() | K18: =IF(OR($A18="",$F18=""),"",IF($J18<>"","منجزة",IF(OR($H18="",$I18=""),IF($M18="مفتوحة","بلا خطوة تالية بتاريخ",""),IF(TODAY()>$I18,"متأخرة",IF(TODAY()=$I18,"مستحقة اليوم","لم يحن موعدها"))))) | L18: =IF($K18="متأخرة",TODAY()-$I18,"") | M18: =IF($A18="","",IF(COUNTIFS($A$5:$A$204,$A18,$D$5:$D$204,'القوائم'!$A$10)>0,"رابحة",IF(COUNTIFS($A$5:$A$204,$A18,$D$5:$D$204,'القوائم'!$A$11)>0,"خاسرة","مفتوحة"))) | N18: عميل منذ العام الماضي
A19: Two Rivers Taqueria | B19: توماس أرويو | C19: جونا | D19: سؤال عن السعر | E19: أسعار مطعمين: $240 شهرياً | F19: =TODAY()-2 | G19: لا | H19: العرض | K19: =IF(OR($A19="",$F19=""),"",IF($J19<>"","منجزة",IF(OR($H19="",$I19=""),IF($M19="مفتوحة","بلا خطوة تالية بتاريخ",""),IF(TODAY()>$I19,"متأخرة",IF(TODAY()=$I19,"مستحقة اليوم","لم يحن موعدها"))))) | L19: =IF($K19="متأخرة",TODAY()-$I19,"") | M19: =IF($A19="","",IF(COUNTIFS($A$5:$A$204,$A19,$D$5:$D$204,'القوائم'!$A$10)>0,"رابحة",IF(COUNTIFS($A$5:$A$204,$A19,$D$5:$D$204,'القوائم'!$A$11)>0,"خاسرة","مفتوحة"))) | N19: أضف تاريخ استحقاق
K20: =IF(OR($A20="",$F20=""),"",IF($J20<>"","منجزة",IF(OR($H20="",$I20=""),IF($M20="مفتوحة","بلا خطوة تالية بتاريخ",""),IF(TODAY()>$I20,"متأخرة",IF(TODAY()=$I20,"مستحقة اليوم","لم يحن موعدها"))))) | L20: =IF($K20="متأخرة",TODAY()-$I20,"") | M20: =IF($A20="","",IF(COUNTIFS($A$5:$A$204,$A20,$D$5:$D$204,'القوائم'!$A$10)>0,"رابحة",IF(COUNTIFS($A$5:$A$204,$A20,$D$5:$D$204,'القوائم'!$A$11)>0,"خاسرة","مفتوحة")))
K21: =IF(OR($A21="",$F21=""),"",IF($J21<>"","منجزة",IF(OR($H21="",$I21=""),IF($M21="مفتوحة","بلا خطوة تالية بتاريخ",""),IF(TODAY()>$I21,"متأخرة",IF(TODAY()=$I21,"مستحقة اليوم","لم يحن موعدها"))))) | L21: =IF($K21="متأخرة",TODAY()-$I21,"") | M21: =IF($A21="","",IF(COUNTIFS($A$5:$A$204,$A21,$D$5:$D$204,'القوائم'!$A$10)>0,"رابحة",IF(COUNTIFS($A$5:$A$204,$A21,$D$5:$D$204,'القوائم'!$A$11)>0,"خاسرة","مفتوحة")))
K22: =IF(OR($A22="",$F22=""),"",IF($J22<>"","منجزة",IF(OR($H22="",$I22=""),IF($M22="مفتوحة","بلا خطوة تالية بتاريخ",""),IF(TODAY()>$I22,"متأخرة",IF(TODAY()=$I22,"مستحقة اليوم","لم يحن موعدها"))))) | L22: =IF($K22="متأخرة",TODAY()-$I22,"") | M22: =IF($A22="","",IF(COUNTIFS($A$5:$A$204,$A22,$D$5:$D$204,'القوائم'!$A$10)>0,"رابحة",IF(COUNTIFS($A$5:$A$204,$A22,$D$5:$D$204,'القوائم'!$A$11)>0,"خاسرة","مفتوحة")))
K23: =IF(OR($A23="",$F23=""),"",IF($J23<>"","منجزة",IF(OR($H23="",$I23=""),IF($M23="مفتوحة","بلا خطوة تالية بتاريخ",""),IF(TODAY()>$I23,"متأخرة",IF(TODAY()=$I23,"مستحقة اليوم","لم يحن موعدها"))))) | L23: =IF($K23="متأخرة",TODAY()-$I23,"") | M23: =IF($A23="","",IF(COUNTIFS($A$5:$A$204,$A23,$D$5:$D$204,'القوائم'!$A$10)>0,"رابحة",IF(COUNTIFS($A$5:$A$204,$A23,$D$5:$D$204,'القوائم'!$A$11)>0,"خاسرة","مفتوحة")))
K24: =IF(OR($A24="",$F24=""),"",IF($J24<>"","منجزة",IF(OR($H24="",$I24=""),IF($M24="مفتوحة","بلا خطوة تالية بتاريخ",""),IF(TODAY()>$I24,"متأخرة",IF(TODAY()=$I24,"مستحقة اليوم","لم يحن موعدها"))))) | L24: =IF($K24="متأخرة",TODAY()-$I24,"") | M24: =IF($A24="","",IF(COUNTIFS($A$5:$A$204,$A24,$D$5:$D$204,'القوائم'!$A$10)>0,"رابحة",IF(COUNTIFS($A$5:$A$204,$A24,$D$5:$D$204,'القوائم'!$A$11)>0,"خاسرة","مفتوحة")))
K25: =IF(OR($A25="",$F25=""),"",IF($J25<>"","منجزة",IF(OR($H25="",$I25=""),IF($M25="مفتوحة","بلا خطوة تالية بتاريخ",""),IF(TODAY()>$I25,"متأخرة",IF(TODAY()=$I25,"مستحقة اليوم","لم يحن موعدها"))))) | L25: =IF($K25="متأخرة",TODAY()-$I25,"") | M25: =IF($A25="","",IF(COUNTIFS($A$5:$A$204,$A25,$D$5:$D$204,'القوائم'!$A$10)>0,"رابحة",IF(COUNTIFS($A$5:$A$204,$A25,$D$5:$D$204,'القوائم'!$A$11)>0,"خاسرة","مفتوحة")))
K26: =IF(OR($A26="",$F26=""),"",IF($J26<>"","منجزة",IF(OR($H26="",$I26=""),IF($M26="مفتوحة","بلا خطوة تالية بتاريخ",""),IF(TODAY()>$I26,"متأخرة",IF(TODAY()=$I26,"مستحقة اليوم","لم يحن موعدها"))))) | L26: =IF($K26="متأخرة",TODAY()-$I26,"") | M26: =IF($A26="","",IF(COUNTIFS($A$5:$A$204,$A26,$D$5:$D$204,'القوائم'!$A$10)>0,"رابحة",IF(COUNTIFS($A$5:$A$204,$A26,$D$5:$D$204,'القوائم'!$A$11)>0,"خاسرة","مفتوحة")))
K27: =IF(OR($A27="",$F27=""),"",IF($J27<>"","منجزة",IF(OR($H27="",$I27=""),IF($M27="مفتوحة","بلا خطوة تالية بتاريخ",""),IF(TODAY()>$I27,"متأخرة",IF(TODAY()=$I27,"مستحقة اليوم","لم يحن موعدها"))))) | L27: =IF($K27="متأخرة",TODAY()-$I27,"") | M27: =IF($A27="","",IF(COUNTIFS($A$5:$A$204,$A27,$D$5:$D$204,'القوائم'!$A$10)>0,"رابحة",IF(COUNTIFS($A$5:$A$204,$A27,$D$5:$D$204,'القوائم'!$A$11)>0,"خاسرة","مفتوحة")))
K28: =IF(OR($A28="",$F28=""),"",IF($J28<>"","منجزة",IF(OR($H28="",$I28=""),IF($M28="مفتوحة","بلا خطوة تالية بتاريخ",""),IF(TODAY()>$I28,"متأخرة",IF(TODAY()=$I28,"مستحقة اليوم","لم يحن موعدها"))))) | L28: =IF($K28="متأخرة",TODAY()-$I28,"") | M28: =IF($A28="","",IF(COUNTIFS($A$5:$A$204,$A28,$D$5:$D$204,'القوائم'!$A$10)>0,"رابحة",IF(COUNTIFS($A$5:$A$204,$A28,$D$5:$D$204,'القوائم'!$A$11)>0,"خاسرة","مفتوحة")))
K29: =IF(OR($A29="",$F29=""),"",IF($J29<>"","منجزة",IF(OR($H29="",$I29=""),IF($M29="مفتوحة","بلا خطوة تالية بتاريخ",""),IF(TODAY()>$I29,"متأخرة",IF(TODAY()=$I29,"مستحقة اليوم","لم يحن موعدها"))))) | L29: =IF($K29="متأخرة",TODAY()-$I29,"") | M29: =IF($A29="","",IF(COUNTIFS($A$5:$A$204,$A29,$D$5:$D$204,'القوائم'!$A$10)>0,"رابحة",IF(COUNTIFS($A$5:$A$204,$A29,$D$5:$D$204,'القوائم'!$A$11)>0,"خاسرة","مفتوحة")))
K30: =IF(OR($A30="",$F30=""),"",IF($J30<>"","منجزة",IF(OR($H30="",$I30=""),IF($M30="مفتوحة","بلا خطوة تالية بتاريخ",""),IF(TODAY()>$I30,"متأخرة",IF(TODAY()=$I30,"مستحقة اليوم","لم يحن موعدها"))))) | L30: =IF($K30="متأخرة",TODAY()-$I30,"") | M30: =IF($A30="","",IF(COUNTIFS($A$5:$A$204,$A30,$D$5:$D$204,'القوائم'!$A$10)>0,"رابحة",IF(COUNTIFS($A$5:$A$204,$A30,$D$5:$D$204,'القوائم'!$A$11)>0,"خاسرة","مفتوحة")))
K31: =IF(OR($A31="",$F31=""),"",IF($J31<>"","منجزة",IF(OR($H31="",$I31=""),IF($M31="مفتوحة","بلا خطوة تالية بتاريخ",""),IF(TODAY()>$I31,"متأخرة",IF(TODAY()=$I31,"مستحقة اليوم","لم يحن موعدها"))))) | L31: =IF($K31="متأخرة",TODAY()-$I31,"") | M31: =IF($A31="","",IF(COUNTIFS($A$5:$A$204,$A31,$D$5:$D$204,'القوائم'!$A$10)>0,"رابحة",IF(COUNTIFS($A$5:$A$204,$A31,$D$5:$D$204,'القوائم'!$A$11)>0,"خاسرة","مفتوحة")))
... K204: =IF(OR($A204="",$F204=""),"",IF($J204<>"","منجزة",IF(OR($H204="",$I204=""),IF($M204="مفتوحة","بلا خطوة تالية بتاريخ",""),IF(TODAY()>$I204,"متأخرة",IF(TODAY()=$I204,"مستحقة اليوم","لم يحن موعدها"))))) | L204: =IF($K204="متأخرة",TODAY()-$I204,"") | M204: =IF($A204="","",IF(COUNTIFS($A$5:$A$204,$A204,$D$5:$D$204,'القوائم'!$A$10)>0,"رابحة",IF(COUNTIFS($A$5:$A$204,$A204,$D$5:$D$204,'القوائم'!$A$11)>0,"خاسرة","مفتوحة")))

Sheet الملخص
A1: ملخص رسائل الصفقات
A2: مجاميع من ورقة «سجل رسائل الصفقات». تتحدّث عند تغيير أي صف.
A4: المقياس | B4: المجموع
A5: الرسائل المسجّلة | B5: =COUNTA('سجل رسائل الصفقات'!$A$5:$A$204)
A6: رسائل تلقّت رداً | B6: =COUNTIF('سجل رسائل الصفقات'!$G$5:$G$204,"نعم")
A7: نسبة الرد | B7: =IF(B5=0,"",B6/B5)
A8: خطوات تالية منجزة | B8: =COUNTIF('سجل رسائل الصفقات'!$K$5:$K$204,"منجزة")
A9: لم يحن موعدها | B9: =COUNTIF('سجل رسائل الصفقات'!$K$5:$K$204,"لم يحن موعدها")
A10: مستحقة اليوم | B10: =COUNTIF('سجل رسائل الصفقات'!$K$5:$K$204,"مستحقة اليوم")
A11: متأخرة | B11: =COUNTIF('سجل رسائل الصفقات'!$K$5:$K$204,"متأخرة")
A12: صفوف بلا خطوة تالية بتاريخ | B12: =COUNTIF('سجل رسائل الصفقات'!$K$5:$K$204,"بلا خطوة تالية بتاريخ")
A14: الصفقات حسب الحالة
A15: حالة الصفقة | B15: الصفقات
A16: مفتوحة | B16: =SUMPRODUCT(('سجل رسائل الصفقات'!$M$5:$M$204=A16)/COUNTIF('سجل رسائل الصفقات'!$A$5:$A$204,'سجل رسائل الصفقات'!$A$5:$A$204&""))
A17: رابحة | B17: =SUMPRODUCT(('سجل رسائل الصفقات'!$M$5:$M$204=A17)/COUNTIF('سجل رسائل الصفقات'!$A$5:$A$204,'سجل رسائل الصفقات'!$A$5:$A$204&""))
A18: خاسرة | B18: =SUMPRODUCT(('سجل رسائل الصفقات'!$M$5:$M$204=A18)/COUNTIF('سجل رسائل الصفقات'!$A$5:$A$204,'سجل رسائل الصفقات'!$A$5:$A$204&""))
A19: كل الصفقات | B19: =SUMPRODUCT(('سجل رسائل الصفقات'!$A$5:$A$204<>"")/COUNTIF('سجل رسائل الصفقات'!$A$5:$A$204,'سجل رسائل الصفقات'!$A$5:$A$204&""))
A20: نسبة الفوز (الرابحة من الرابحة والخاسرة) | B20: =IF(B17+B18=0,"",B17/(B17+B18))
A22: حسب المرحلة
A23: المرحلة | B23: الرسائل | C23: الردود | D23: نسبة الرد
A24: ='القوائم'!$A$5 | B24: =COUNTIF('سجل رسائل الصفقات'!$D$5:$D$204,A24) | C24: =COUNTIFS('سجل رسائل الصفقات'!$D$5:$D$204,A24,'سجل رسائل الصفقات'!$G$5:$G$204,"نعم") | D24: =IF(B24=0,"",C24/B24)
A25: ='القوائم'!$A$6 | B25: =COUNTIF('سجل رسائل الصفقات'!$D$5:$D$204,A25) | C25: =COUNTIFS('سجل رسائل الصفقات'!$D$5:$D$204,A25,'سجل رسائل الصفقات'!$G$5:$G$204,"نعم") | D25: =IF(B25=0,"",C25/B25)
A26: ='القوائم'!$A$7 | B26: =COUNTIF('سجل رسائل الصفقات'!$D$5:$D$204,A26) | C26: =COUNTIFS('سجل رسائل الصفقات'!$D$5:$D$204,A26,'سجل رسائل الصفقات'!$G$5:$G$204,"نعم") | D26: =IF(B26=0,"",C26/B26)
A27: ='القوائم'!$A$8 | B27: =COUNTIF('سجل رسائل الصفقات'!$D$5:$D$204,A27) | C27: =COUNTIFS('سجل رسائل الصفقات'!$D$5:$D$204,A27,'سجل رسائل الصفقات'!$G$5:$G$204,"نعم") | D27: =IF(B27=0,"",C27/B27)
A28: ='القوائم'!$A$9 | B28: =COUNTIF('سجل رسائل الصفقات'!$D$5:$D$204,A28) | C28: =COUNTIFS('سجل رسائل الصفقات'!$D$5:$D$204,A28,'سجل رسائل الصفقات'!$G$5:$G$204,"نعم") | D28: =IF(B28=0,"",C28/B28)
A29: ='القوائم'!$A$10 | B29: =COUNTIF('سجل رسائل الصفقات'!$D$5:$D$204,A29) | C29: =COUNTIFS('سجل رسائل الصفقات'!$D$5:$D$204,A29,'سجل رسائل الصفقات'!$G$5:$G$204,"نعم") | D29: =IF(B29=0,"",C29/B29)
A30: ='القوائم'!$A$11 | B30: =COUNTIF('سجل رسائل الصفقات'!$D$5:$D$204,A30) | C30: =COUNTIFS('سجل رسائل الصفقات'!$D$5:$D$204,A30,'سجل رسائل الصفقات'!$G$5:$G$204,"نعم") | D30: =IF(B30=0,"",C30/B30)
A31: ='القوائم'!$A$12 | B31: =COUNTIF('سجل رسائل الصفقات'!$D$5:$D$204,A31) | C31: =COUNTIFS('سجل رسائل الصفقات'!$D$5:$D$204,A31,'سجل رسائل الصفقات'!$G$5:$G$204,"نعم") | D31: =IF(B31=0,"",C31/B31)
A33: العمل المفتوح حسب المسؤول
A34: المسؤول | B34: الرسائل | C34: مستحقة اليوم | D34: متأخرة | E34: بلا خطوة تالية بتاريخ
A35: =IF('القوائم'!$B$5="","",'القوائم'!$B$5) | B35: =IF(A35="","",COUNTIF('سجل رسائل الصفقات'!$C$5:$C$204,A35)) | C35: =IF(A35="","",COUNTIFS('سجل رسائل الصفقات'!$C$5:$C$204,A35,'سجل رسائل الصفقات'!$K$5:$K$204,"مستحقة اليوم")) | D35: =IF(A35="","",COUNTIFS('سجل رسائل الصفقات'!$C$5:$C$204,A35,'سجل رسائل الصفقات'!$K$5:$K$204,"متأخرة")) | E35: =IF(A35="","",COUNTIFS('سجل رسائل الصفقات'!$C$5:$C$204,A35,'سجل رسائل الصفقات'!$K$5:$K$204,"بلا خطوة تالية بتاريخ"))
A36: =IF('القوائم'!$B$6="","",'القوائم'!$B$6) | B36: =IF(A36="","",COUNTIF('سجل رسائل الصفقات'!$C$5:$C$204,A36)) | C36: =IF(A36="","",COUNTIFS('سجل رسائل الصفقات'!$C$5:$C$204,A36,'سجل رسائل الصفقات'!$K$5:$K$204,"مستحقة اليوم")) | D36: =IF(A36="","",COUNTIFS('سجل رسائل الصفقات'!$C$5:$C$204,A36,'سجل رسائل الصفقات'!$K$5:$K$204,"متأخرة")) | E36: =IF(A36="","",COUNTIFS('سجل رسائل الصفقات'!$C$5:$C$204,A36,'سجل رسائل الصفقات'!$K$5:$K$204,"بلا خطوة تالية بتاريخ"))
A37: =IF('القوائم'!$B$7="","",'القوائم'!$B$7) | B37: =IF(A37="","",COUNTIF('سجل رسائل الصفقات'!$C$5:$C$204,A37)) | C37: =IF(A37="","",COUNTIFS('سجل رسائل الصفقات'!$C$5:$C$204,A37,'سجل رسائل الصفقات'!$K$5:$K$204,"مستحقة اليوم")) | D37: =IF(A37="","",COUNTIFS('سجل رسائل الصفقات'!$C$5:$C$204,A37,'سجل رسائل الصفقات'!$K$5:$K$204,"متأخرة")) | E37: =IF(A37="","",COUNTIFS('سجل رسائل الصفقات'!$C$5:$C$204,A37,'سجل رسائل الصفقات'!$K$5:$K$204,"بلا خطوة تالية بتاريخ"))
A38: =IF('القوائم'!$B$8="","",'القوائم'!$B$8) | B38: =IF(A38="","",COUNTIF('سجل رسائل الصفقات'!$C$5:$C$204,A38)) | C38: =IF(A38="","",COUNTIFS('سجل رسائل الصفقات'!$C$5:$C$204,A38,'سجل رسائل الصفقات'!$K$5:$K$204,"مستحقة اليوم")) | D38: =IF(A38="","",COUNTIFS('سجل رسائل الصفقات'!$C$5:$C$204,A38,'سجل رسائل الصفقات'!$K$5:$K$204,"متأخرة")) | E38: =IF(A38="","",COUNTIFS('سجل رسائل الصفقات'!$C$5:$C$204,A38,'سجل رسائل الصفقات'!$K$5:$K$204,"بلا خطوة تالية بتاريخ"))
A39: =IF('القوائم'!$B$9="","",'القوائم'!$B$9) | B39: =IF(A39="","",COUNTIF('سجل رسائل الصفقات'!$C$5:$C$204,A39)) | C39: =IF(A39="","",COUNTIFS('سجل رسائل الصفقات'!$C$5:$C$204,A39,'سجل رسائل الصفقات'!$K$5:$K$204,"مستحقة اليوم")) | D39: =IF(A39="","",COUNTIFS('سجل رسائل الصفقات'!$C$5:$C$204,A39,'سجل رسائل الصفقات'!$K$5:$K$204,"متأخرة")) | E39: =IF(A39="","",COUNTIFS('سجل رسائل الصفقات'!$C$5:$C$204,A39,'سجل رسائل الصفقات'!$K$5:$K$204,"بلا خطوة تالية بتاريخ"))
A40: =IF('القوائم'!$B$10="","",'القوائم'!$B$10) | B40: =IF(A40="","",COUNTIF('سجل رسائل الصفقات'!$C$5:$C$204,A40)) | C40: =IF(A40="","",COUNTIFS('سجل رسائل الصفقات'!$C$5:$C$204,A40,'سجل رسائل الصفقات'!$K$5:$K$204,"مستحقة اليوم")) | D40: =IF(A40="","",COUNTIFS('سجل رسائل الصفقات'!$C$5:$C$204,A40,'سجل رسائل الصفقات'!$K$5:$K$204,"متأخرة")) | E40: =IF(A40="","",COUNTIFS('سجل رسائل الصفقات'!$C$5:$C$204,A40,'سجل رسائل الصفقات'!$K$5:$K$204,"بلا خطوة تالية بتاريخ"))
A41: =IF('القوائم'!$B$11="","",'القوائم'!$B$11) | B41: =IF(A41="","",COUNTIF('سجل رسائل الصفقات'!$C$5:$C$204,A41)) | C41: =IF(A41="","",COUNTIFS('سجل رسائل الصفقات'!$C$5:$C$204,A41,'سجل رسائل الصفقات'!$K$5:$K$204,"مستحقة اليوم")) | D41: =IF(A41="","",COUNTIFS('سجل رسائل الصفقات'!$C$5:$C$204,A41,'سجل رسائل الصفقات'!$K$5:$K$204,"متأخرة")) | E41: =IF(A41="","",COUNTIFS('سجل رسائل الصفقات'!$C$5:$C$204,A41,'سجل رسائل الصفقات'!$K$5:$K$204,"بلا خطوة تالية بتاريخ"))
A42: =IF('القوائم'!$B$12="","",'القوائم'!$B$12) | B42: =IF(A42="","",COUNTIF('سجل رسائل الصفقات'!$C$5:$C$204,A42)) | C42: =IF(A42="","",COUNTIFS('سجل رسائل الصفقات'!$C$5:$C$204,A42,'سجل رسائل الصفقات'!$K$5:$K$204,"مستحقة اليوم")) | D42: =IF(A42="","",COUNTIFS('سجل رسائل الصفقات'!$C$5:$C$204,A42,'سجل رسائل الصفقات'!$K$5:$K$204,"متأخرة")) | E42: =IF(A42="","",COUNTIFS('سجل رسائل الصفقات'!$C$5:$C$204,A42,'سجل رسائل الصفقات'!$K$5:$K$204,"بلا خطوة تالية بتاريخ"))
A43: =IF('القوائم'!$B$13="","",'القوائم'!$B$13) | B43: =IF(A43="","",COUNTIF('سجل رسائل الصفقات'!$C$5:$C$204,A43)) | C43: =IF(A43="","",COUNTIFS('سجل رسائل الصفقات'!$C$5:$C$204,A43,'سجل رسائل الصفقات'!$K$5:$K$204,"مستحقة اليوم")) | D43: =IF(A43="","",COUNTIFS('سجل رسائل الصفقات'!$C$5:$C$204,A43,'سجل رسائل الصفقات'!$K$5:$K$204,"متأخرة")) | E43: =IF(A43="","",COUNTIFS('سجل رسائل الصفقات'!$C$5:$C$204,A43,'سجل رسائل الصفقات'!$K$5:$K$204,"بلا خطوة تالية بتاريخ"))
A44: =IF('القوائم'!$B$14="","",'القوائم'!$B$14) | B44: =IF(A44="","",COUNTIF('سجل رسائل الصفقات'!$C$5:$C$204,A44)) | C44: =IF(A44="","",COUNTIFS('سجل رسائل الصفقات'!$C$5:$C$204,A44,'سجل رسائل الصفقات'!$K$5:$K$204,"مستحقة اليوم")) | D44: =IF(A44="","",COUNTIFS('سجل رسائل الصفقات'!$C$5:$C$204,A44,'سجل رسائل الصفقات'!$K$5:$K$204,"متأخرة")) | E44: =IF(A44="","",COUNTIFS('سجل رسائل الصفقات'!$C$5:$C$204,A44,'سجل رسائل الصفقات'!$K$5:$K$204,"بلا خطوة تالية بتاريخ"))
A46: قالب مجاني من CRMsoftware.pro. بيانات المثال خيالية.

Sheet القوائم
A1: القوائم
A2: عدّل أسماء المسؤولين هنا. تعتمد القوائم المنسدلة في ورقة «سجل رسائل الصفقات» على هذه القوائم. حافظ على ترتيب المراحل: يبحث عمود «حالة الصفقة» عن المرحلة 6 (رابحة) والمرحلة 7 (خاسرة).
A4: المراحل | B4: المسؤولون | C4: الرد
A5: الرد على عميل محتمل وارد | B5: جونا | C5: نعم
A6: ملخص مكالمة أو عرض توضيحي | B6: أستريد | C6: لا
A7: سؤال عن السعر
A8: العرض أو عرض السعر
A9: تنسيق مع فريق الشراء
A10: رابحة: الخطوات التالية
A11: خاسرة: اسأل عن السبب
A12: التجديد أو البيع الإضافي
