Workbook

Sheet قائمة المنقطعين
A1: قائمة الاستعادة
A2: صف واحد لكل عميل منقطع أو عميل محتمل قديم. أدخل الفترة المعتادة وآخر شراء: يُملأ عمودا الأيام منذ آخر شراء و«منقطع» تلقائياً. أدخل تاريخ إرسال الرسالة 1: يحين موعد الرسالة 2 في اليوم 10 والرسالة 3 في اليوم 21، والتاريخ الذي يقع في عطلة نهاية الأسبوع ينتقل إلى الاثنين.
A3: أدخل كل تاريخ إرسال، وأي رد، وسبب المغادرة، والنتيجة. تتحدّث الخطوة التالية والحالة والمجاميع تلقائياً. تواريخ الأمثلة محسوبة نسبةً إلى تاريخ اليوم.
A4: العميل | B4: الفئة | C4: المسؤول | D4: الفترة المعتادة (بالأيام) | E4: آخر شراء | F4: آخر قيمة | G4: الأيام منذ آخر شراء | H4: منقطع | I4: إرسال الرسالة 1 | J4: موعد الرسالة 2 | K4: إرسال الرسالة 2 | L4: موعد الرسالة 3 | M4: إرسال الرسالة 3 | N4: تاريخ الرد | O4: ردّ بعد | P4: سبب المغادرة | Q4: النتيجة | R4: تاريخ العمل الجديد | S4: قيمة العمل الجديد | T4: الخطوة التالية | U4: التاريخ التالي | V4: الحالة | W4: ملاحظات
A5: إنغريد بولسن | B5: عميل سابق | C5: روزا | D5: 180 | E5: =TODAY()-359 | F5: 320 | G5: =IF($E5="","",TODAY()-MAX($E5,N($R5))) | H5: =IF(OR($D5="",$G5=""),"",IF($G5>=$D5*'الإعدادات والقوائم'!$B$5,"منقطع","ليس بعد")) | I5: =TODAY()-41 | J5: =IF($I5="","",WORKDAY($I5+'الإعدادات والقوائم'!$B$6-1,1)) | K5: =J5 | L5: =IF($I5="","",WORKDAY($I5+'الإعدادات والقوائم'!$B$7-1,1)) | N5: =K5 | O5: =IF(OR($N5="",$I5=""),"",IF(AND($M5<>"",$M5<=$N5),"الرسالة 3",IF(AND($K5<>"",$K5<=$N5),"الرسالة 2","الرسالة 1"))) | P5: مشكلة في الخدمة | Q5: عاد | R5: =I5+28 | S5: 320 | T5: =IF(OR($A5="",$N5<>"",$Q5<>""),"",IF($I5="",IF($H5="منقطع","الرسالة 1",""),IF($K5="","الرسالة 2",IF($M5="","الرسالة 3","إغلاق")))) | U5: =IF(OR($T5="",$T5="الرسالة 1"),"",IF($T5="الرسالة 2",$J5,IF($T5="الرسالة 3",$L5,$M5+'الإعدادات والقوائم'!$B$8))) | V5: =IF($A5="","",IF($Q5="طلب عدم المراسلة","لا تراسله",IF($Q5<>"","مغلق",IF($N5<>"","تم الرد",IF($T5="الرسالة 1","للإرسال",IF($T5="","غير منقطع",IF($T5="إغلاق",IF(TODAY()>=$U5,"أغلق الآن","بانتظار الموعد"),IF($U5<TODAY(),"متأخرة",IF($U5=TODAY(),"مستحقة اليوم","بانتظار الموعد"))))))))) | W5: خطوط على نوافذ الطابق العلوي في أكتوبر الماضي. أعاد ثيو التنظيف وراجع كل نافذة معها.
A6: راي دنمور، Elm Street Physio | B6: عميل سابق | C6: كينجي | D6: 30 | E6: =TODAY()-95 | F6: 180 | G6: =IF($E6="","",TODAY()-MAX($E6,N($R6))) | H6: =IF(OR($D6="",$G6=""),"",IF($G6>=$D6*'الإعدادات والقوائم'!$B$5,"منقطع","ليس بعد")) | I6: =TODAY()-33 | J6: =IF($I6="","",WORKDAY($I6+'الإعدادات والقوائم'!$B$6-1,1)) | K6: =J6 | L6: =IF($I6="","",WORKDAY($I6+'الإعدادات والقوائم'!$B$7-1,1)) | N6: =K6+2 | O6: =IF(OR($N6="",$I6=""),"",IF(AND($M6<>"",$M6<=$N6),"الرسالة 3",IF(AND($K6<>"",$K6<=$N6),"الرسالة 2","الرسالة 1"))) | P6: السعر | Q6: رفض | T6: =IF(OR($A6="",$N6<>"",$Q6<>""),"",IF($I6="",IF($H6="منقطع","الرسالة 1",""),IF($K6="","الرسالة 2",IF($M6="","الرسالة 3","إغلاق")))) | U6: =IF(OR($T6="",$T6="الرسالة 1"),"",IF($T6="الرسالة 2",$J6,IF($T6="الرسالة 3",$L6,$M6+'الإعدادات والقوائم'!$B$8))) | V6: =IF($A6="","",IF($Q6="طلب عدم المراسلة","لا تراسله",IF($Q6<>"","مغلق",IF($N6<>"","تم الرد",IF($T6="الرسالة 1","للإرسال",IF($T6="","غير منقطع",IF($T6="إغلاق",IF(TODAY()>=$U6,"أغلق الآن","بانتظار الموعد"),IF($U6<TODAY(),"متأخرة",IF($U6=TODAY(),"مستحقة اليوم","بانتظار الموعد"))))))))) | W6: اختار شركة أرخص. وافق على تواصل واحد في الربيع المقبل.
A7: ويندي مارش | B7: عميل سابق | C7: روزا | D7: 180 | E7: =TODAY()-300 | F7: 290 | G7: =IF($E7="","",TODAY()-MAX($E7,N($R7))) | H7: =IF(OR($D7="",$G7=""),"",IF($G7>=$D7*'الإعدادات والقوائم'!$B$5,"منقطع","ليس بعد")) | I7: =TODAY()-14 | J7: =IF($I7="","",WORKDAY($I7+'الإعدادات والقوائم'!$B$6-1,1)) | L7: =IF($I7="","",WORKDAY($I7+'الإعدادات والقوائم'!$B$7-1,1)) | O7: =IF(OR($N7="",$I7=""),"",IF(AND($M7<>"",$M7<=$N7),"الرسالة 3",IF(AND($K7<>"",$K7<=$N7),"الرسالة 2","الرسالة 1"))) | T7: =IF(OR($A7="",$N7<>"",$Q7<>""),"",IF($I7="",IF($H7="منقطع","الرسالة 1",""),IF($K7="","الرسالة 2",IF($M7="","الرسالة 3","إغلاق")))) | U7: =IF(OR($T7="",$T7="الرسالة 1"),"",IF($T7="الرسالة 2",$J7,IF($T7="الرسالة 3",$L7,$M7+'الإعدادات والقوائم'!$B$8))) | V7: =IF($A7="","",IF($Q7="طلب عدم المراسلة","لا تراسله",IF($Q7<>"","مغلق",IF($N7<>"","تم الرد",IF($T7="الرسالة 1","للإرسال",IF($T7="","غير منقطع",IF($T7="إغلاق",IF(TODAY()>=$U7,"أغلق الآن","بانتظار الموعد"),IF($U7<TODAY(),"متأخرة",IF($U7=TODAY(),"مستحقة اليوم","بانتظار الموعد")))))))))
A8: غاري ليندكفيست | B8: عميل سابق | C8: روزا | D8: 365 | E8: =TODAY()-600 | F8: 410 | G8: =IF($E8="","",TODAY()-MAX($E8,N($R8))) | H8: =IF(OR($D8="",$G8=""),"",IF($G8>=$D8*'الإعدادات والقوائم'!$B$5,"منقطع","ليس بعد")) | I8: =TODAY()-10 | J8: =IF($I8="","",WORKDAY($I8+'الإعدادات والقوائم'!$B$6-1,1)) | L8: =IF($I8="","",WORKDAY($I8+'الإعدادات والقوائم'!$B$7-1,1)) | O8: =IF(OR($N8="",$I8=""),"",IF(AND($M8<>"",$M8<=$N8),"الرسالة 3",IF(AND($K8<>"",$K8<=$N8),"الرسالة 2","الرسالة 1"))) | T8: =IF(OR($A8="",$N8<>"",$Q8<>""),"",IF($I8="",IF($H8="منقطع","الرسالة 1",""),IF($K8="","الرسالة 2",IF($M8="","الرسالة 3","إغلاق")))) | U8: =IF(OR($T8="",$T8="الرسالة 1"),"",IF($T8="الرسالة 2",$J8,IF($T8="الرسالة 3",$L8,$M8+'الإعدادات والقوائم'!$B$8))) | V8: =IF($A8="","",IF($Q8="طلب عدم المراسلة","لا تراسله",IF($Q8<>"","مغلق",IF($N8<>"","تم الرد",IF($T8="الرسالة 1","للإرسال",IF($T8="","غير منقطع",IF($T8="إغلاق",IF(TODAY()>=$U8,"أغلق الآن","بانتظار الموعد"),IF($U8<TODAY(),"متأخرة",IF($U8=TODAY(),"مستحقة اليوم","بانتظار الموعد"))))))))) | W8: منزل كبير، مرة في السنة قبل الصيف.
A9: ليام برينان | B9: عميل محتمل قديم | C9: كينجي | D9: 60 | E9: =TODAY()-130 | F9: 260 | G9: =IF($E9="","",TODAY()-MAX($E9,N($R9))) | H9: =IF(OR($D9="",$G9=""),"",IF($G9>=$D9*'الإعدادات والقوائم'!$B$5,"منقطع","ليس بعد")) | I9: =TODAY()-25 | J9: =IF($I9="","",WORKDAY($I9+'الإعدادات والقوائم'!$B$6-1,1)) | K9: =J9 | L9: =IF($I9="","",WORKDAY($I9+'الإعدادات والقوائم'!$B$7-1,1)) | M9: =L9 | O9: =IF(OR($N9="",$I9=""),"",IF(AND($M9<>"",$M9<=$N9),"الرسالة 3",IF(AND($K9<>"",$K9<=$N9),"الرسالة 2","الرسالة 1"))) | T9: =IF(OR($A9="",$N9<>"",$Q9<>""),"",IF($I9="",IF($H9="منقطع","الرسالة 1",""),IF($K9="","الرسالة 2",IF($M9="","الرسالة 3","إغلاق")))) | U9: =IF(OR($T9="",$T9="الرسالة 1"),"",IF($T9="الرسالة 2",$J9,IF($T9="الرسالة 3",$L9,$M9+'الإعدادات والقوائم'!$B$8))) | V9: =IF($A9="","",IF($Q9="طلب عدم المراسلة","لا تراسله",IF($Q9<>"","مغلق",IF($N9<>"","تم الرد",IF($T9="الرسالة 1","للإرسال",IF($T9="","غير منقطع",IF($T9="إغلاق",IF(TODAY()>=$U9,"أغلق الآن","بانتظار الموعد"),IF($U9<TODAY(),"متأخرة",IF($U9=TODAY(),"مستحقة اليوم","بانتظار الموعد"))))))))) | W9: عرض سعر لتنظيف مبنى جديد. لا رد بعد.
A10: أنيتا شاه، Lakeview Pediatrics | B10: عميل محتمل قديم | C10: كينجي | D10: 60 | E10: =TODAY()-50 | F10: 450 | G10: =IF($E10="","",TODAY()-MAX($E10,N($R10))) | H10: =IF(OR($D10="",$G10=""),"",IF($G10>=$D10*'الإعدادات والقوائم'!$B$5,"منقطع","ليس بعد")) | J10: =IF($I10="","",WORKDAY($I10+'الإعدادات والقوائم'!$B$6-1,1)) | L10: =IF($I10="","",WORKDAY($I10+'الإعدادات والقوائم'!$B$7-1,1)) | O10: =IF(OR($N10="",$I10=""),"",IF(AND($M10<>"",$M10<=$N10),"الرسالة 3",IF(AND($K10<>"",$K10<=$N10),"الرسالة 2","الرسالة 1"))) | T10: =IF(OR($A10="",$N10<>"",$Q10<>""),"",IF($I10="",IF($H10="منقطع","الرسالة 1",""),IF($K10="","الرسالة 2",IF($M10="","الرسالة 3","إغلاق")))) | U10: =IF(OR($T10="",$T10="الرسالة 1"),"",IF($T10="الرسالة 2",$J10,IF($T10="الرسالة 3",$L10,$M10+'الإعدادات والقوائم'!$B$8))) | V10: =IF($A10="","",IF($Q10="طلب عدم المراسلة","لا تراسله",IF($Q10<>"","مغلق",IF($N10<>"","تم الرد",IF($T10="الرسالة 1","للإرسال",IF($T10="","غير منقطع",IF($T10="إغلاق",IF(TODAY()>=$U10,"أغلق الآن","بانتظار الموعد"),IF($U10<TODAY(),"متأخرة",IF($U10=TODAY(),"مستحقة اليوم","بانتظار الموعد"))))))))) | W10: عرض السعر ما زال مفتوحاً: غير منقطع حتى اليوم 90.
A11: دينا بارك، Sunrise Yoga Studio | B11: ألغى الخدمة | C11: كينجي | D11: 30 | E11: =TODAY()-200 | F11: 150 | G11: =IF($E11="","",TODAY()-MAX($E11,N($R11))) | H11: =IF(OR($D11="",$G11=""),"",IF($G11>=$D11*'الإعدادات والقوائم'!$B$5,"منقطع","ليس بعد")) | I11: =TODAY()-30 | J11: =IF($I11="","",WORKDAY($I11+'الإعدادات والقوائم'!$B$6-1,1)) | L11: =IF($I11="","",WORKDAY($I11+'الإعدادات والقوائم'!$B$7-1,1)) | N11: =I11+3 | O11: =IF(OR($N11="",$I11=""),"",IF(AND($M11<>"",$M11<=$N11),"الرسالة 3",IF(AND($K11<>"",$K11<=$N11),"الرسالة 2","الرسالة 1"))) | P11: انتقل | Q11: رفض | T11: =IF(OR($A11="",$N11<>"",$Q11<>""),"",IF($I11="",IF($H11="منقطع","الرسالة 1",""),IF($K11="","الرسالة 2",IF($M11="","الرسالة 3","إغلاق")))) | U11: =IF(OR($T11="",$T11="الرسالة 1"),"",IF($T11="الرسالة 2",$J11,IF($T11="الرسالة 3",$L11,$M11+'الإعدادات والقوائم'!$B$8))) | V11: =IF($A11="","",IF($Q11="طلب عدم المراسلة","لا تراسله",IF($Q11<>"","مغلق",IF($N11<>"","تم الرد",IF($T11="الرسالة 1","للإرسال",IF($T11="","غير منقطع",IF($T11="إغلاق",IF(TODAY()>=$U11,"أغلق الآن","بانتظار الموعد"),IF($U11<TODAY(),"متأخرة",IF($U11=TODAY(),"مستحقة اليوم","بانتظار الموعد"))))))))) | W11: انتقل الاستوديو إلى دورهام. أُغلق السجل.
A12: دينيس بيل | B12: عميل سابق | C12: روزا | D12: 180 | E12: =TODAY()-280 | F12: 300 | G12: =IF($E12="","",TODAY()-MAX($E12,N($R12))) | H12: =IF(OR($D12="",$G12=""),"",IF($G12>=$D12*'الإعدادات والقوائم'!$B$5,"منقطع","ليس بعد")) | J12: =IF($I12="","",WORKDAY($I12+'الإعدادات والقوائم'!$B$6-1,1)) | L12: =IF($I12="","",WORKDAY($I12+'الإعدادات والقوائم'!$B$7-1,1)) | O12: =IF(OR($N12="",$I12=""),"",IF(AND($M12<>"",$M12<=$N12),"الرسالة 3",IF(AND($K12<>"",$K12<=$N12),"الرسالة 2","الرسالة 1"))) | T12: =IF(OR($A12="",$N12<>"",$Q12<>""),"",IF($I12="",IF($H12="منقطع","الرسالة 1",""),IF($K12="","الرسالة 2",IF($M12="","الرسالة 3","إغلاق")))) | U12: =IF(OR($T12="",$T12="الرسالة 1"),"",IF($T12="الرسالة 2",$J12,IF($T12="الرسالة 3",$L12,$M12+'الإعدادات والقوائم'!$B$8))) | V12: =IF($A12="","",IF($Q12="طلب عدم المراسلة","لا تراسله",IF($Q12<>"","مغلق",IF($N12<>"","تم الرد",IF($T12="الرسالة 1","للإرسال",IF($T12="","غير منقطع",IF($T12="إغلاق",IF(TODAY()>=$U12,"أغلق الآن","بانتظار الموعد"),IF($U12<TODAY(),"متأخرة",IF($U12=TODAY(),"مستحقة اليوم","بانتظار الموعد"))))))))) | W12: انقطع هذا الشهر: أرسل الرسالة 1 هذا الأسبوع.
A13: جوان فريزر | B13: عميل سابق | C13: روزا | D13: 180 | E13: =TODAY()-330 | F13: 260 | G13: =IF($E13="","",TODAY()-MAX($E13,N($R13))) | H13: =IF(OR($D13="",$G13=""),"",IF($G13>=$D13*'الإعدادات والقوائم'!$B$5,"منقطع","ليس بعد")) | I13: =TODAY()-20 | J13: =IF($I13="","",WORKDAY($I13+'الإعدادات والقوائم'!$B$6-1,1)) | L13: =IF($I13="","",WORKDAY($I13+'الإعدادات والقوائم'!$B$7-1,1)) | N13: =I13+1 | O13: =IF(OR($N13="",$I13=""),"",IF(AND($M13<>"",$M13<=$N13),"الرسالة 3",IF(AND($K13<>"",$K13<=$N13),"الرسالة 2","الرسالة 1"))) | P13: نسي فقط | Q13: عاد | R13: =I13+9 | S13: 260 | T13: =IF(OR($A13="",$N13<>"",$Q13<>""),"",IF($I13="",IF($H13="منقطع","الرسالة 1",""),IF($K13="","الرسالة 2",IF($M13="","الرسالة 3","إغلاق")))) | U13: =IF(OR($T13="",$T13="الرسالة 1"),"",IF($T13="الرسالة 2",$J13,IF($T13="الرسالة 3",$L13,$M13+'الإعدادات والقوائم'!$B$8))) | V13: =IF($A13="","",IF($Q13="طلب عدم المراسلة","لا تراسله",IF($Q13<>"","مغلق",IF($N13<>"","تم الرد",IF($T13="الرسالة 1","للإرسال",IF($T13="","غير منقطع",IF($T13="إغلاق",IF(TODAY()>=$U13,"أغلق الآن","بانتظار الموعد"),IF($U13<TODAY(),"متأخرة",IF($U13=TODAY(),"مستحقة اليوم","بانتظار الموعد"))))))))) | W13: حجزت عبر الهاتف. تريد تذكيراً بالبريد الإلكتروني كل ربيع.
A14: ليون هارتمان | B14: عميل سابق | C14: روزا | D14: 180 | E14: =TODAY()-290 | F14: 240 | G14: =IF($E14="","",TODAY()-MAX($E14,N($R14))) | H14: =IF(OR($D14="",$G14=""),"",IF($G14>=$D14*'الإعدادات والقوائم'!$B$5,"منقطع","ليس بعد")) | I14: =TODAY()-18 | J14: =IF($I14="","",WORKDAY($I14+'الإعدادات والقوائم'!$B$6-1,1)) | L14: =IF($I14="","",WORKDAY($I14+'الإعدادات والقوائم'!$B$7-1,1)) | N14: =I14 | O14: =IF(OR($N14="",$I14=""),"",IF(AND($M14<>"",$M14<=$N14),"الرسالة 3",IF(AND($K14<>"",$K14<=$N14),"الرسالة 2","الرسالة 1"))) | P14: لم يذكر السبب | Q14: طلب عدم المراسلة | T14: =IF(OR($A14="",$N14<>"",$Q14<>""),"",IF($I14="",IF($H14="منقطع","الرسالة 1",""),IF($K14="","الرسالة 2",IF($M14="","الرسالة 3","إغلاق")))) | U14: =IF(OR($T14="",$T14="الرسالة 1"),"",IF($T14="الرسالة 2",$J14,IF($T14="الرسالة 3",$L14,$M14+'الإعدادات والقوائم'!$B$8))) | V14: =IF($A14="","",IF($Q14="طلب عدم المراسلة","لا تراسله",IF($Q14<>"","مغلق",IF($N14<>"","تم الرد",IF($T14="الرسالة 1","للإرسال",IF($T14="","غير منقطع",IF($T14="إغلاق",IF(TODAY()>=$U14,"أغلق الآن","بانتظار الموعد"),IF($U14<TODAY(),"متأخرة",IF($U14=TODAY(),"مستحقة اليوم","بانتظار الموعد"))))))))) | W14: ردّ بكلمة «توقف». أُضيف إلى قائمة عدم المراسلة في اليوم نفسه.
A15: كارلا منديز | B15: عميل محتمل قديم | C15: كينجي | D15: 60 | E15: =TODAY()-210 | F15: 220 | G15: =IF($E15="","",TODAY()-MAX($E15,N($R15))) | H15: =IF(OR($D15="",$G15=""),"",IF($G15>=$D15*'الإعدادات والقوائم'!$B$5,"منقطع","ليس بعد")) | I15: =TODAY()-12 | J15: =IF($I15="","",WORKDAY($I15+'الإعدادات والقوائم'!$B$6-1,1)) | L15: =IF($I15="","",WORKDAY($I15+'الإعدادات والقوائم'!$B$7-1,1)) | O15: =IF(OR($N15="",$I15=""),"",IF(AND($M15<>"",$M15<=$N15),"الرسالة 3",IF(AND($K15<>"",$K15<=$N15),"الرسالة 2","الرسالة 1"))) | Q15: رسالة مرتدة | T15: =IF(OR($A15="",$N15<>"",$Q15<>""),"",IF($I15="",IF($H15="منقطع","الرسالة 1",""),IF($K15="","الرسالة 2",IF($M15="","الرسالة 3","إغلاق")))) | U15: =IF(OR($T15="",$T15="الرسالة 1"),"",IF($T15="الرسالة 2",$J15,IF($T15="الرسالة 3",$L15,$M15+'الإعدادات والقوائم'!$B$8))) | V15: =IF($A15="","",IF($Q15="طلب عدم المراسلة","لا تراسله",IF($Q15<>"","مغلق",IF($N15<>"","تم الرد",IF($T15="الرسالة 1","للإرسال",IF($T15="","غير منقطع",IF($T15="إغلاق",IF(TODAY()>=$U15,"أغلق الآن","بانتظار الموعد"),IF($U15<TODAY(),"متأخرة",IF($U15=TODAY(),"مستحقة اليوم","بانتظار الموعد"))))))))) | W15: ارتدّ العنوان. لا توجد بيانات تواصل أخرى: أُغلق السجل.
A16: ستيف نولان، Tanner & Rowe Insurance | B16: عميل سابق | C16: كينجي | D16: 90 | E16: =TODAY()-190 | F16: 380 | G16: =IF($E16="","",TODAY()-MAX($E16,N($R16))) | H16: =IF(OR($D16="",$G16=""),"",IF($G16>=$D16*'الإعدادات والقوائم'!$B$5,"منقطع","ليس بعد")) | I16: =TODAY()-35 | J16: =IF($I16="","",WORKDAY($I16+'الإعدادات والقوائم'!$B$6-1,1)) | K16: =J16 | L16: =IF($I16="","",WORKDAY($I16+'الإعدادات والقوائم'!$B$7-1,1)) | M16: =L16 | O16: =IF(OR($N16="",$I16=""),"",IF(AND($M16<>"",$M16<=$N16),"الرسالة 3",IF(AND($K16<>"",$K16<=$N16),"الرسالة 2","الرسالة 1"))) | T16: =IF(OR($A16="",$N16<>"",$Q16<>""),"",IF($I16="",IF($H16="منقطع","الرسالة 1",""),IF($K16="","الرسالة 2",IF($M16="","الرسالة 3","إغلاق")))) | U16: =IF(OR($T16="",$T16="الرسالة 1"),"",IF($T16="الرسالة 2",$J16,IF($T16="الرسالة 3",$L16,$M16+'الإعدادات والقوائم'!$B$8))) | V16: =IF($A16="","",IF($Q16="طلب عدم المراسلة","لا تراسله",IF($Q16<>"","مغلق",IF($N16<>"","تم الرد",IF($T16="الرسالة 1","للإرسال",IF($T16="","غير منقطع",IF($T16="إغلاق",IF(TODAY()>=$U16,"أغلق الآن","بانتظار الموعد"),IF($U16<TODAY(),"متأخرة",IF($U16=TODAY(),"مستحقة اليوم","بانتظار الموعد"))))))))) | W16: لا رد على 3 رسائل: أغلقه بنتيجة «لا رد».
A17: أغنيس أوغدن | B17: عميل سابق | C17: روزا | D17: 365 | E17: =TODAY()-590 | F17: 350 | G17: =IF($E17="","",TODAY()-MAX($E17,N($R17))) | H17: =IF(OR($D17="",$G17=""),"",IF($G17>=$D17*'الإعدادات والقوائم'!$B$5,"منقطع","ليس بعد")) | I17: =TODAY()-36 | J17: =IF($I17="","",WORKDAY($I17+'الإعدادات والقوائم'!$B$6-1,1)) | K17: =J17 | L17: =IF($I17="","",WORKDAY($I17+'الإعدادات والقوائم'!$B$7-1,1)) | M17: =L17 | N17: =M17+1 | O17: =IF(OR($N17="",$I17=""),"",IF(AND($M17<>"",$M17<=$N17),"الرسالة 3",IF(AND($K17<>"",$K17<=$N17),"الرسالة 2","الرسالة 1"))) | P17: لم يذكر السبب | Q17: ليس الآن | T17: =IF(OR($A17="",$N17<>"",$Q17<>""),"",IF($I17="",IF($H17="منقطع","الرسالة 1",""),IF($K17="","الرسالة 2",IF($M17="","الرسالة 3","إغلاق")))) | U17: =IF(OR($T17="",$T17="الرسالة 1"),"",IF($T17="الرسالة 2",$J17,IF($T17="الرسالة 3",$L17,$M17+'الإعدادات والقوائم'!$B$8))) | V17: =IF($A17="","",IF($Q17="طلب عدم المراسلة","لا تراسله",IF($Q17<>"","مغلق",IF($N17<>"","تم الرد",IF($T17="الرسالة 1","للإرسال",IF($T17="","غير منقطع",IF($T17="إغلاق",IF(TODAY()>=$U17,"أغلق الآن","بانتظار الموعد"),IF($U17<TODAY(),"متأخرة",IF($U17=TODAY(),"مستحقة اليوم","بانتظار الموعد"))))))))) | W17: طلبت أن نكتب إليها مرة أخرى في مارس. حُدّدت مهمة في 1 مارس.
A18: تيسا مور، Glenwood Vet Clinic | B18: ألغى الخدمة | C18: كينجي | D18: 30 | E18: =TODAY()-120 | F18: 190 | G18: =IF($E18="","",TODAY()-MAX($E18,N($R18))) | H18: =IF(OR($D18="",$G18=""),"",IF($G18>=$D18*'الإعدادات والقوائم'!$B$5,"منقطع","ليس بعد")) | I18: =TODAY()-28 | J18: =IF($I18="","",WORKDAY($I18+'الإعدادات والقوائم'!$B$6-1,1)) | K18: =J18 | L18: =IF($I18="","",WORKDAY($I18+'الإعدادات والقوائم'!$B$7-1,1)) | N18: =K18+1 | O18: =IF(OR($N18="",$I18=""),"",IF(AND($M18<>"",$M18<=$N18),"الرسالة 3",IF(AND($K18<>"",$K18<=$N18),"الرسالة 2","الرسالة 1"))) | P18: السعر | Q18: عاد | R18: =I18+16 | S18: 160 | T18: =IF(OR($A18="",$N18<>"",$Q18<>""),"",IF($I18="",IF($H18="منقطع","الرسالة 1",""),IF($K18="","الرسالة 2",IF($M18="","الرسالة 3","إغلاق")))) | U18: =IF(OR($T18="",$T18="الرسالة 1"),"",IF($T18="الرسالة 2",$J18,IF($T18="الرسالة 3",$L18,$M18+'الإعدادات والقوائم'!$B$8))) | V18: =IF($A18="","",IF($Q18="طلب عدم المراسلة","لا تراسله",IF($Q18<>"","مغلق",IF($N18<>"","تم الرد",IF($T18="الرسالة 1","للإرسال",IF($T18="","غير منقطع",IF($T18="إغلاق",IF(TODAY()>=$U18,"أغلق الآن","بانتظار الموعد"),IF($U18<TODAY(),"متأخرة",IF($U18=TODAY(),"مستحقة اليوم","بانتظار الموعد"))))))))) | W18: عادت إلى خطة شهرية، للجهة الخارجية فقط، بسعر أقل.
A19: فرانك موريتي | B19: عميل محتمل قديم | C19: كينجي | D19: 60 | E19: =TODAY()-160 | F19: 280 | G19: =IF($E19="","",TODAY()-MAX($E19,N($R19))) | H19: =IF(OR($D19="",$G19=""),"",IF($G19>=$D19*'الإعدادات والقوائم'!$B$5,"منقطع","ليس بعد")) | I19: =TODAY()-30 | J19: =IF($I19="","",WORKDAY($I19+'الإعدادات والقوائم'!$B$6-1,1)) | K19: =J19 | L19: =IF($I19="","",WORKDAY($I19+'الإعدادات والقوائم'!$B$7-1,1)) | N19: =K19+3 | O19: =IF(OR($N19="",$I19=""),"",IF(AND($M19<>"",$M19<=$N19),"الرسالة 3",IF(AND($K19<>"",$K19<=$N19),"الرسالة 2","الرسالة 1"))) | P19: اختار شركة أخرى | Q19: رفض | T19: =IF(OR($A19="",$N19<>"",$Q19<>""),"",IF($I19="",IF($H19="منقطع","الرسالة 1",""),IF($K19="","الرسالة 2",IF($M19="","الرسالة 3","إغلاق")))) | U19: =IF(OR($T19="",$T19="الرسالة 1"),"",IF($T19="الرسالة 2",$J19,IF($T19="الرسالة 3",$L19,$M19+'الإعدادات والقوائم'!$B$8))) | V19: =IF($A19="","",IF($Q19="طلب عدم المراسلة","لا تراسله",IF($Q19<>"","مغلق",IF($N19<>"","تم الرد",IF($T19="الرسالة 1","للإرسال",IF($T19="","غير منقطع",IF($T19="إغلاق",IF(TODAY()>=$U19,"أغلق الآن","بانتظار الموعد"),IF($U19<TODAY(),"متأخرة",IF($U19=TODAY(),"مستحقة اليوم","بانتظار الموعد"))))))))) | W19: استعان بشركة أخرى في الربيع.
A20: إلين ساتو | B20: عميل سابق | C20: روزا | D20: 180 | E20: =TODAY()-310 | F20: 310 | G20: =IF($E20="","",TODAY()-MAX($E20,N($R20))) | H20: =IF(OR($D20="",$G20=""),"",IF($G20>=$D20*'الإعدادات والقوائم'!$B$5,"منقطع","ليس بعد")) | I20: =TODAY()-3 | J20: =IF($I20="","",WORKDAY($I20+'الإعدادات والقوائم'!$B$6-1,1)) | L20: =IF($I20="","",WORKDAY($I20+'الإعدادات والقوائم'!$B$7-1,1)) | O20: =IF(OR($N20="",$I20=""),"",IF(AND($M20<>"",$M20<=$N20),"الرسالة 3",IF(AND($K20<>"",$K20<=$N20),"الرسالة 2","الرسالة 1"))) | T20: =IF(OR($A20="",$N20<>"",$Q20<>""),"",IF($I20="",IF($H20="منقطع","الرسالة 1",""),IF($K20="","الرسالة 2",IF($M20="","الرسالة 3","إغلاق")))) | U20: =IF(OR($T20="",$T20="الرسالة 1"),"",IF($T20="الرسالة 2",$J20,IF($T20="الرسالة 3",$L20,$M20+'الإعدادات والقوائم'!$B$8))) | V20: =IF($A20="","",IF($Q20="طلب عدم المراسلة","لا تراسله",IF($Q20<>"","مغلق",IF($N20<>"","تم الرد",IF($T20="الرسالة 1","للإرسال",IF($T20="","غير منقطع",IF($T20="إغلاق",IF(TODAY()>=$U20,"أغلق الآن","بانتظار الموعد"),IF($U20<TODAY(),"متأخرة",IF($U20=TODAY(),"مستحقة اليوم","بانتظار الموعد")))))))))
A21: غريغ سوليفان | B21: عميل سابق | C21: روزا | D21: 180 | E21: =TODAY()-420 | F21: 270 | G21: =IF($E21="","",TODAY()-MAX($E21,N($R21))) | H21: =IF(OR($D21="",$G21=""),"",IF($G21>=$D21*'الإعدادات والقوائم'!$B$5,"منقطع","ليس بعد")) | I21: =TODAY()-40 | J21: =IF($I21="","",WORKDAY($I21+'الإعدادات والقوائم'!$B$6-1,1)) | K21: =J21 | L21: =IF($I21="","",WORKDAY($I21+'الإعدادات والقوائم'!$B$7-1,1)) | M21: =L21 | O21: =IF(OR($N21="",$I21=""),"",IF(AND($M21<>"",$M21<=$N21),"الرسالة 3",IF(AND($K21<>"",$K21<=$N21),"الرسالة 2","الرسالة 1"))) | Q21: لا رد | T21: =IF(OR($A21="",$N21<>"",$Q21<>""),"",IF($I21="",IF($H21="منقطع","الرسالة 1",""),IF($K21="","الرسالة 2",IF($M21="","الرسالة 3","إغلاق")))) | U21: =IF(OR($T21="",$T21="الرسالة 1"),"",IF($T21="الرسالة 2",$J21,IF($T21="الرسالة 3",$L21,$M21+'الإعدادات والقوائم'!$B$8))) | V21: =IF($A21="","",IF($Q21="طلب عدم المراسلة","لا تراسله",IF($Q21<>"","مغلق",IF($N21<>"","تم الرد",IF($T21="الرسالة 1","للإرسال",IF($T21="","غير منقطع",IF($T21="إغلاق",IF(TODAY()>=$U21,"أغلق الآن","بانتظار الموعد"),IF($U21<TODAY(),"متأخرة",IF($U21=TODAY(),"مستحقة اليوم","بانتظار الموعد"))))))))) | W21: أُغلق بعد 7 أيام من الرسالة 3. لا رسائل استعادة لمدة 12 شهراً.
G22: =IF($E22="","",TODAY()-MAX($E22,N($R22))) | H22: =IF(OR($D22="",$G22=""),"",IF($G22>=$D22*'الإعدادات والقوائم'!$B$5,"منقطع","ليس بعد")) | J22: =IF($I22="","",WORKDAY($I22+'الإعدادات والقوائم'!$B$6-1,1)) | L22: =IF($I22="","",WORKDAY($I22+'الإعدادات والقوائم'!$B$7-1,1)) | O22: =IF(OR($N22="",$I22=""),"",IF(AND($M22<>"",$M22<=$N22),"الرسالة 3",IF(AND($K22<>"",$K22<=$N22),"الرسالة 2","الرسالة 1"))) | T22: =IF(OR($A22="",$N22<>"",$Q22<>""),"",IF($I22="",IF($H22="منقطع","الرسالة 1",""),IF($K22="","الرسالة 2",IF($M22="","الرسالة 3","إغلاق")))) | U22: =IF(OR($T22="",$T22="الرسالة 1"),"",IF($T22="الرسالة 2",$J22,IF($T22="الرسالة 3",$L22,$M22+'الإعدادات والقوائم'!$B$8))) | V22: =IF($A22="","",IF($Q22="طلب عدم المراسلة","لا تراسله",IF($Q22<>"","مغلق",IF($N22<>"","تم الرد",IF($T22="الرسالة 1","للإرسال",IF($T22="","غير منقطع",IF($T22="إغلاق",IF(TODAY()>=$U22,"أغلق الآن","بانتظار الموعد"),IF($U22<TODAY(),"متأخرة",IF($U22=TODAY(),"مستحقة اليوم","بانتظار الموعد")))))))))
G23: =IF($E23="","",TODAY()-MAX($E23,N($R23))) | H23: =IF(OR($D23="",$G23=""),"",IF($G23>=$D23*'الإعدادات والقوائم'!$B$5,"منقطع","ليس بعد")) | J23: =IF($I23="","",WORKDAY($I23+'الإعدادات والقوائم'!$B$6-1,1)) | L23: =IF($I23="","",WORKDAY($I23+'الإعدادات والقوائم'!$B$7-1,1)) | O23: =IF(OR($N23="",$I23=""),"",IF(AND($M23<>"",$M23<=$N23),"الرسالة 3",IF(AND($K23<>"",$K23<=$N23),"الرسالة 2","الرسالة 1"))) | T23: =IF(OR($A23="",$N23<>"",$Q23<>""),"",IF($I23="",IF($H23="منقطع","الرسالة 1",""),IF($K23="","الرسالة 2",IF($M23="","الرسالة 3","إغلاق")))) | U23: =IF(OR($T23="",$T23="الرسالة 1"),"",IF($T23="الرسالة 2",$J23,IF($T23="الرسالة 3",$L23,$M23+'الإعدادات والقوائم'!$B$8))) | V23: =IF($A23="","",IF($Q23="طلب عدم المراسلة","لا تراسله",IF($Q23<>"","مغلق",IF($N23<>"","تم الرد",IF($T23="الرسالة 1","للإرسال",IF($T23="","غير منقطع",IF($T23="إغلاق",IF(TODAY()>=$U23,"أغلق الآن","بانتظار الموعد"),IF($U23<TODAY(),"متأخرة",IF($U23=TODAY(),"مستحقة اليوم","بانتظار الموعد")))))))))
G24: =IF($E24="","",TODAY()-MAX($E24,N($R24))) | H24: =IF(OR($D24="",$G24=""),"",IF($G24>=$D24*'الإعدادات والقوائم'!$B$5,"منقطع","ليس بعد")) | J24: =IF($I24="","",WORKDAY($I24+'الإعدادات والقوائم'!$B$6-1,1)) | L24: =IF($I24="","",WORKDAY($I24+'الإعدادات والقوائم'!$B$7-1,1)) | O24: =IF(OR($N24="",$I24=""),"",IF(AND($M24<>"",$M24<=$N24),"الرسالة 3",IF(AND($K24<>"",$K24<=$N24),"الرسالة 2","الرسالة 1"))) | T24: =IF(OR($A24="",$N24<>"",$Q24<>""),"",IF($I24="",IF($H24="منقطع","الرسالة 1",""),IF($K24="","الرسالة 2",IF($M24="","الرسالة 3","إغلاق")))) | U24: =IF(OR($T24="",$T24="الرسالة 1"),"",IF($T24="الرسالة 2",$J24,IF($T24="الرسالة 3",$L24,$M24+'الإعدادات والقوائم'!$B$8))) | V24: =IF($A24="","",IF($Q24="طلب عدم المراسلة","لا تراسله",IF($Q24<>"","مغلق",IF($N24<>"","تم الرد",IF($T24="الرسالة 1","للإرسال",IF($T24="","غير منقطع",IF($T24="إغلاق",IF(TODAY()>=$U24,"أغلق الآن","بانتظار الموعد"),IF($U24<TODAY(),"متأخرة",IF($U24=TODAY(),"مستحقة اليوم","بانتظار الموعد")))))))))
G25: =IF($E25="","",TODAY()-MAX($E25,N($R25))) | H25: =IF(OR($D25="",$G25=""),"",IF($G25>=$D25*'الإعدادات والقوائم'!$B$5,"منقطع","ليس بعد")) | J25: =IF($I25="","",WORKDAY($I25+'الإعدادات والقوائم'!$B$6-1,1)) | L25: =IF($I25="","",WORKDAY($I25+'الإعدادات والقوائم'!$B$7-1,1)) | O25: =IF(OR($N25="",$I25=""),"",IF(AND($M25<>"",$M25<=$N25),"الرسالة 3",IF(AND($K25<>"",$K25<=$N25),"الرسالة 2","الرسالة 1"))) | T25: =IF(OR($A25="",$N25<>"",$Q25<>""),"",IF($I25="",IF($H25="منقطع","الرسالة 1",""),IF($K25="","الرسالة 2",IF($M25="","الرسالة 3","إغلاق")))) | U25: =IF(OR($T25="",$T25="الرسالة 1"),"",IF($T25="الرسالة 2",$J25,IF($T25="الرسالة 3",$L25,$M25+'الإعدادات والقوائم'!$B$8))) | V25: =IF($A25="","",IF($Q25="طلب عدم المراسلة","لا تراسله",IF($Q25<>"","مغلق",IF($N25<>"","تم الرد",IF($T25="الرسالة 1","للإرسال",IF($T25="","غير منقطع",IF($T25="إغلاق",IF(TODAY()>=$U25,"أغلق الآن","بانتظار الموعد"),IF($U25<TODAY(),"متأخرة",IF($U25=TODAY(),"مستحقة اليوم","بانتظار الموعد")))))))))
G26: =IF($E26="","",TODAY()-MAX($E26,N($R26))) | H26: =IF(OR($D26="",$G26=""),"",IF($G26>=$D26*'الإعدادات والقوائم'!$B$5,"منقطع","ليس بعد")) | J26: =IF($I26="","",WORKDAY($I26+'الإعدادات والقوائم'!$B$6-1,1)) | L26: =IF($I26="","",WORKDAY($I26+'الإعدادات والقوائم'!$B$7-1,1)) | O26: =IF(OR($N26="",$I26=""),"",IF(AND($M26<>"",$M26<=$N26),"الرسالة 3",IF(AND($K26<>"",$K26<=$N26),"الرسالة 2","الرسالة 1"))) | T26: =IF(OR($A26="",$N26<>"",$Q26<>""),"",IF($I26="",IF($H26="منقطع","الرسالة 1",""),IF($K26="","الرسالة 2",IF($M26="","الرسالة 3","إغلاق")))) | U26: =IF(OR($T26="",$T26="الرسالة 1"),"",IF($T26="الرسالة 2",$J26,IF($T26="الرسالة 3",$L26,$M26+'الإعدادات والقوائم'!$B$8))) | V26: =IF($A26="","",IF($Q26="طلب عدم المراسلة","لا تراسله",IF($Q26<>"","مغلق",IF($N26<>"","تم الرد",IF($T26="الرسالة 1","للإرسال",IF($T26="","غير منقطع",IF($T26="إغلاق",IF(TODAY()>=$U26,"أغلق الآن","بانتظار الموعد"),IF($U26<TODAY(),"متأخرة",IF($U26=TODAY(),"مستحقة اليوم","بانتظار الموعد")))))))))
G27: =IF($E27="","",TODAY()-MAX($E27,N($R27))) | H27: =IF(OR($D27="",$G27=""),"",IF($G27>=$D27*'الإعدادات والقوائم'!$B$5,"منقطع","ليس بعد")) | J27: =IF($I27="","",WORKDAY($I27+'الإعدادات والقوائم'!$B$6-1,1)) | L27: =IF($I27="","",WORKDAY($I27+'الإعدادات والقوائم'!$B$7-1,1)) | O27: =IF(OR($N27="",$I27=""),"",IF(AND($M27<>"",$M27<=$N27),"الرسالة 3",IF(AND($K27<>"",$K27<=$N27),"الرسالة 2","الرسالة 1"))) | T27: =IF(OR($A27="",$N27<>"",$Q27<>""),"",IF($I27="",IF($H27="منقطع","الرسالة 1",""),IF($K27="","الرسالة 2",IF($M27="","الرسالة 3","إغلاق")))) | U27: =IF(OR($T27="",$T27="الرسالة 1"),"",IF($T27="الرسالة 2",$J27,IF($T27="الرسالة 3",$L27,$M27+'الإعدادات والقوائم'!$B$8))) | V27: =IF($A27="","",IF($Q27="طلب عدم المراسلة","لا تراسله",IF($Q27<>"","مغلق",IF($N27<>"","تم الرد",IF($T27="الرسالة 1","للإرسال",IF($T27="","غير منقطع",IF($T27="إغلاق",IF(TODAY()>=$U27,"أغلق الآن","بانتظار الموعد"),IF($U27<TODAY(),"متأخرة",IF($U27=TODAY(),"مستحقة اليوم","بانتظار الموعد")))))))))
G28: =IF($E28="","",TODAY()-MAX($E28,N($R28))) | H28: =IF(OR($D28="",$G28=""),"",IF($G28>=$D28*'الإعدادات والقوائم'!$B$5,"منقطع","ليس بعد")) | J28: =IF($I28="","",WORKDAY($I28+'الإعدادات والقوائم'!$B$6-1,1)) | L28: =IF($I28="","",WORKDAY($I28+'الإعدادات والقوائم'!$B$7-1,1)) | O28: =IF(OR($N28="",$I28=""),"",IF(AND($M28<>"",$M28<=$N28),"الرسالة 3",IF(AND($K28<>"",$K28<=$N28),"الرسالة 2","الرسالة 1"))) | T28: =IF(OR($A28="",$N28<>"",$Q28<>""),"",IF($I28="",IF($H28="منقطع","الرسالة 1",""),IF($K28="","الرسالة 2",IF($M28="","الرسالة 3","إغلاق")))) | U28: =IF(OR($T28="",$T28="الرسالة 1"),"",IF($T28="الرسالة 2",$J28,IF($T28="الرسالة 3",$L28,$M28+'الإعدادات والقوائم'!$B$8))) | V28: =IF($A28="","",IF($Q28="طلب عدم المراسلة","لا تراسله",IF($Q28<>"","مغلق",IF($N28<>"","تم الرد",IF($T28="الرسالة 1","للإرسال",IF($T28="","غير منقطع",IF($T28="إغلاق",IF(TODAY()>=$U28,"أغلق الآن","بانتظار الموعد"),IF($U28<TODAY(),"متأخرة",IF($U28=TODAY(),"مستحقة اليوم","بانتظار الموعد")))))))))
G29: =IF($E29="","",TODAY()-MAX($E29,N($R29))) | H29: =IF(OR($D29="",$G29=""),"",IF($G29>=$D29*'الإعدادات والقوائم'!$B$5,"منقطع","ليس بعد")) | J29: =IF($I29="","",WORKDAY($I29+'الإعدادات والقوائم'!$B$6-1,1)) | L29: =IF($I29="","",WORKDAY($I29+'الإعدادات والقوائم'!$B$7-1,1)) | O29: =IF(OR($N29="",$I29=""),"",IF(AND($M29<>"",$M29<=$N29),"الرسالة 3",IF(AND($K29<>"",$K29<=$N29),"الرسالة 2","الرسالة 1"))) | T29: =IF(OR($A29="",$N29<>"",$Q29<>""),"",IF($I29="",IF($H29="منقطع","الرسالة 1",""),IF($K29="","الرسالة 2",IF($M29="","الرسالة 3","إغلاق")))) | U29: =IF(OR($T29="",$T29="الرسالة 1"),"",IF($T29="الرسالة 2",$J29,IF($T29="الرسالة 3",$L29,$M29+'الإعدادات والقوائم'!$B$8))) | V29: =IF($A29="","",IF($Q29="طلب عدم المراسلة","لا تراسله",IF($Q29<>"","مغلق",IF($N29<>"","تم الرد",IF($T29="الرسالة 1","للإرسال",IF($T29="","غير منقطع",IF($T29="إغلاق",IF(TODAY()>=$U29,"أغلق الآن","بانتظار الموعد"),IF($U29<TODAY(),"متأخرة",IF($U29=TODAY(),"مستحقة اليوم","بانتظار الموعد")))))))))
G30: =IF($E30="","",TODAY()-MAX($E30,N($R30))) | H30: =IF(OR($D30="",$G30=""),"",IF($G30>=$D30*'الإعدادات والقوائم'!$B$5,"منقطع","ليس بعد")) | J30: =IF($I30="","",WORKDAY($I30+'الإعدادات والقوائم'!$B$6-1,1)) | L30: =IF($I30="","",WORKDAY($I30+'الإعدادات والقوائم'!$B$7-1,1)) | O30: =IF(OR($N30="",$I30=""),"",IF(AND($M30<>"",$M30<=$N30),"الرسالة 3",IF(AND($K30<>"",$K30<=$N30),"الرسالة 2","الرسالة 1"))) | T30: =IF(OR($A30="",$N30<>"",$Q30<>""),"",IF($I30="",IF($H30="منقطع","الرسالة 1",""),IF($K30="","الرسالة 2",IF($M30="","الرسالة 3","إغلاق")))) | U30: =IF(OR($T30="",$T30="الرسالة 1"),"",IF($T30="الرسالة 2",$J30,IF($T30="الرسالة 3",$L30,$M30+'الإعدادات والقوائم'!$B$8))) | V30: =IF($A30="","",IF($Q30="طلب عدم المراسلة","لا تراسله",IF($Q30<>"","مغلق",IF($N30<>"","تم الرد",IF($T30="الرسالة 1","للإرسال",IF($T30="","غير منقطع",IF($T30="إغلاق",IF(TODAY()>=$U30,"أغلق الآن","بانتظار الموعد"),IF($U30<TODAY(),"متأخرة",IF($U30=TODAY(),"مستحقة اليوم","بانتظار الموعد")))))))))
G31: =IF($E31="","",TODAY()-MAX($E31,N($R31))) | H31: =IF(OR($D31="",$G31=""),"",IF($G31>=$D31*'الإعدادات والقوائم'!$B$5,"منقطع","ليس بعد")) | J31: =IF($I31="","",WORKDAY($I31+'الإعدادات والقوائم'!$B$6-1,1)) | L31: =IF($I31="","",WORKDAY($I31+'الإعدادات والقوائم'!$B$7-1,1)) | O31: =IF(OR($N31="",$I31=""),"",IF(AND($M31<>"",$M31<=$N31),"الرسالة 3",IF(AND($K31<>"",$K31<=$N31),"الرسالة 2","الرسالة 1"))) | T31: =IF(OR($A31="",$N31<>"",$Q31<>""),"",IF($I31="",IF($H31="منقطع","الرسالة 1",""),IF($K31="","الرسالة 2",IF($M31="","الرسالة 3","إغلاق")))) | U31: =IF(OR($T31="",$T31="الرسالة 1"),"",IF($T31="الرسالة 2",$J31,IF($T31="الرسالة 3",$L31,$M31+'الإعدادات والقوائم'!$B$8))) | V31: =IF($A31="","",IF($Q31="طلب عدم المراسلة","لا تراسله",IF($Q31<>"","مغلق",IF($N31<>"","تم الرد",IF($T31="الرسالة 1","للإرسال",IF($T31="","غير منقطع",IF($T31="إغلاق",IF(TODAY()>=$U31,"أغلق الآن","بانتظار الموعد"),IF($U31<TODAY(),"متأخرة",IF($U31=TODAY(),"مستحقة اليوم","بانتظار الموعد")))))))))
G32: =IF($E32="","",TODAY()-MAX($E32,N($R32))) | H32: =IF(OR($D32="",$G32=""),"",IF($G32>=$D32*'الإعدادات والقوائم'!$B$5,"منقطع","ليس بعد")) | J32: =IF($I32="","",WORKDAY($I32+'الإعدادات والقوائم'!$B$6-1,1)) | L32: =IF($I32="","",WORKDAY($I32+'الإعدادات والقوائم'!$B$7-1,1)) | O32: =IF(OR($N32="",$I32=""),"",IF(AND($M32<>"",$M32<=$N32),"الرسالة 3",IF(AND($K32<>"",$K32<=$N32),"الرسالة 2","الرسالة 1"))) | T32: =IF(OR($A32="",$N32<>"",$Q32<>""),"",IF($I32="",IF($H32="منقطع","الرسالة 1",""),IF($K32="","الرسالة 2",IF($M32="","الرسالة 3","إغلاق")))) | U32: =IF(OR($T32="",$T32="الرسالة 1"),"",IF($T32="الرسالة 2",$J32,IF($T32="الرسالة 3",$L32,$M32+'الإعدادات والقوائم'!$B$8))) | V32: =IF($A32="","",IF($Q32="طلب عدم المراسلة","لا تراسله",IF($Q32<>"","مغلق",IF($N32<>"","تم الرد",IF($T32="الرسالة 1","للإرسال",IF($T32="","غير منقطع",IF($T32="إغلاق",IF(TODAY()>=$U32,"أغلق الآن","بانتظار الموعد"),IF($U32<TODAY(),"متأخرة",IF($U32=TODAY(),"مستحقة اليوم","بانتظار الموعد")))))))))
G33: =IF($E33="","",TODAY()-MAX($E33,N($R33))) | H33: =IF(OR($D33="",$G33=""),"",IF($G33>=$D33*'الإعدادات والقوائم'!$B$5,"منقطع","ليس بعد")) | J33: =IF($I33="","",WORKDAY($I33+'الإعدادات والقوائم'!$B$6-1,1)) | L33: =IF($I33="","",WORKDAY($I33+'الإعدادات والقوائم'!$B$7-1,1)) | O33: =IF(OR($N33="",$I33=""),"",IF(AND($M33<>"",$M33<=$N33),"الرسالة 3",IF(AND($K33<>"",$K33<=$N33),"الرسالة 2","الرسالة 1"))) | T33: =IF(OR($A33="",$N33<>"",$Q33<>""),"",IF($I33="",IF($H33="منقطع","الرسالة 1",""),IF($K33="","الرسالة 2",IF($M33="","الرسالة 3","إغلاق")))) | U33: =IF(OR($T33="",$T33="الرسالة 1"),"",IF($T33="الرسالة 2",$J33,IF($T33="الرسالة 3",$L33,$M33+'الإعدادات والقوائم'!$B$8))) | V33: =IF($A33="","",IF($Q33="طلب عدم المراسلة","لا تراسله",IF($Q33<>"","مغلق",IF($N33<>"","تم الرد",IF($T33="الرسالة 1","للإرسال",IF($T33="","غير منقطع",IF($T33="إغلاق",IF(TODAY()>=$U33,"أغلق الآن","بانتظار الموعد"),IF($U33<TODAY(),"متأخرة",IF($U33=TODAY(),"مستحقة اليوم","بانتظار الموعد")))))))))
... G204: =IF($E204="","",TODAY()-MAX($E204,N($R204))) | H204: =IF(OR($D204="",$G204=""),"",IF($G204>=$D204*'الإعدادات والقوائم'!$B$5,"منقطع","ليس بعد")) | J204: =IF($I204="","",WORKDAY($I204+'الإعدادات والقوائم'!$B$6-1,1)) | L204: =IF($I204="","",WORKDAY($I204+'الإعدادات والقوائم'!$B$7-1,1)) | O204: =IF(OR($N204="",$I204=""),"",IF(AND($M204<>"",$M204<=$N204),"الرسالة 3",IF(AND($K204<>"",$K204<=$N204),"الرسالة 2","الرسالة 1"))) | T204: =IF(OR($A204="",$N204<>"",$Q204<>""),"",IF($I204="",IF($H204="منقطع","الرسالة 1",""),IF($K204="","الرسالة 2",IF($M204="","الرسالة 3","إغلاق")))) | U204: =IF(OR($T204="",$T204="الرسالة 1"),"",IF($T204="الرسالة 2",$J204,IF($T204="الرسالة 3",$L204,$M204+'الإعدادات والقوائم'!$B$8))) | V204: =IF($A204="","",IF($Q204="طلب عدم المراسلة","لا تراسله",IF($Q204<>"","مغلق",IF($N204<>"","تم الرد",IF($T204="الرسالة 1","للإرسال",IF($T204="","غير منقطع",IF($T204="إغلاق",IF(TODAY()>=$U204,"أغلق الآن","بانتظار الموعد"),IF($U204<TODAY(),"متأخرة",IF($U204=TODAY(),"مستحقة اليوم","بانتظار الموعد")))))))))

Sheet الملخص
A1: ملخص الاستعادة
A2: مجاميع من ورقة «قائمة المنقطعين». تُحسب النسب من عدد من تم التواصل معهم (أُرسلت إليهم الرسالة 1).
A4: المقياس | B4: المجموع
A5: الأشخاص في القائمة | B5: =COUNTA('قائمة المنقطعين'!$A$5:$A$204)
A6: المنقطعون الآن | B6: =COUNTIF('قائمة المنقطعين'!$H$5:$H$204,"منقطع")
A7: تم التواصل معهم (أُرسلت الرسالة 1) | B7: =COUNT('قائمة المنقطعين'!$I$5:$I$204)
A8: الردود | B8: =COUNT('قائمة المنقطعين'!$N$5:$N$204)
A9: نسبة الرد | B9: =IF(B7=0,"",B8/B7)
A10: عادوا | B10: =COUNTIF('قائمة المنقطعين'!$Q$5:$Q$204,"عاد")
A11: نسبة إعادة التنشيط | B11: =IF(B7=0,"",B10/B7)
A12: إيرادات أول عمل جديد | B12: =SUMIFS('قائمة المنقطعين'!$S$5:$S$204,'قائمة المنقطعين'!$Q$5:$Q$204,"عاد")
A13: طلبوا عدم المراسلة | B13: =COUNTIF('قائمة المنقطعين'!$Q$5:$Q$204,"طلب عدم المراسلة")
A14: نسبة طلبات عدم المراسلة | B14: =IF(B7=0,"",B13/B7)
A15: رسائل مرتدة | B15: =COUNTIF('قائمة المنقطعين'!$Q$5:$Q$204,"رسالة مرتدة")
A16: أُغلقت بلا رد | B16: =COUNTIF('قائمة المنقطعين'!$Q$5:$Q$204,"لا رد")
A17: منقطعون، الرسالة 1 للإرسال | B17: =COUNTIF('قائمة المنقطعين'!$V$5:$V$204,"للإرسال")
A18: رسائل متأخرة | B18: =COUNTIF('قائمة المنقطعين'!$V$5:$V$204,"متأخرة")
A19: رسائل مستحقة اليوم | B19: =COUNTIF('قائمة المنقطعين'!$V$5:$V$204,"مستحقة اليوم")
A20: جاهزة للإغلاق (قاعدة التوقف) | B20: =COUNTIF('قائمة المنقطعين'!$V$5:$V$204,"أغلق الآن")
A21: تم الرد، النتيجة لم تُسجّل | B21: =COUNTIF('قائمة المنقطعين'!$V$5:$V$204,"تم الرد")
A23: حسب الفئة
A24: الفئة | B24: تم التواصل | C24: الردود | D24: عادوا | E24: نسبة إعادة التنشيط | F24: الإيرادات | G24: طلبوا عدم المراسلة
A25: ='الإعدادات والقوائم'!$B$13 | B25: =COUNTIFS('قائمة المنقطعين'!$B$5:$B$204,A25,'قائمة المنقطعين'!$I$5:$I$204,">0") | C25: =COUNTIFS('قائمة المنقطعين'!$B$5:$B$204,A25,'قائمة المنقطعين'!$N$5:$N$204,">0") | D25: =COUNTIFS('قائمة المنقطعين'!$B$5:$B$204,A25,'قائمة المنقطعين'!$Q$5:$Q$204,"عاد") | E25: =IF(B25=0,"",D25/B25) | F25: =SUMIFS('قائمة المنقطعين'!$S$5:$S$204,'قائمة المنقطعين'!$B$5:$B$204,A25,'قائمة المنقطعين'!$Q$5:$Q$204,"عاد") | G25: =COUNTIFS('قائمة المنقطعين'!$B$5:$B$204,A25,'قائمة المنقطعين'!$Q$5:$Q$204,"طلب عدم المراسلة")
A26: ='الإعدادات والقوائم'!$B$14 | B26: =COUNTIFS('قائمة المنقطعين'!$B$5:$B$204,A26,'قائمة المنقطعين'!$I$5:$I$204,">0") | C26: =COUNTIFS('قائمة المنقطعين'!$B$5:$B$204,A26,'قائمة المنقطعين'!$N$5:$N$204,">0") | D26: =COUNTIFS('قائمة المنقطعين'!$B$5:$B$204,A26,'قائمة المنقطعين'!$Q$5:$Q$204,"عاد") | E26: =IF(B26=0,"",D26/B26) | F26: =SUMIFS('قائمة المنقطعين'!$S$5:$S$204,'قائمة المنقطعين'!$B$5:$B$204,A26,'قائمة المنقطعين'!$Q$5:$Q$204,"عاد") | G26: =COUNTIFS('قائمة المنقطعين'!$B$5:$B$204,A26,'قائمة المنقطعين'!$Q$5:$Q$204,"طلب عدم المراسلة")
A27: ='الإعدادات والقوائم'!$B$15 | B27: =COUNTIFS('قائمة المنقطعين'!$B$5:$B$204,A27,'قائمة المنقطعين'!$I$5:$I$204,">0") | C27: =COUNTIFS('قائمة المنقطعين'!$B$5:$B$204,A27,'قائمة المنقطعين'!$N$5:$N$204,">0") | D27: =COUNTIFS('قائمة المنقطعين'!$B$5:$B$204,A27,'قائمة المنقطعين'!$Q$5:$Q$204,"عاد") | E27: =IF(B27=0,"",D27/B27) | F27: =SUMIFS('قائمة المنقطعين'!$S$5:$S$204,'قائمة المنقطعين'!$B$5:$B$204,A27,'قائمة المنقطعين'!$Q$5:$Q$204,"عاد") | G27: =COUNTIFS('قائمة المنقطعين'!$B$5:$B$204,A27,'قائمة المنقطعين'!$Q$5:$Q$204,"طلب عدم المراسلة")
A29: الردود حسب الرسالة
A30: ردّ بعد | B30: الردود | C30: عادوا
A31: الرسالة 1 | B31: =COUNTIF('قائمة المنقطعين'!$O$5:$O$204,A31) | C31: =COUNTIFS('قائمة المنقطعين'!$O$5:$O$204,A31,'قائمة المنقطعين'!$Q$5:$Q$204,"عاد")
A32: الرسالة 2 | B32: =COUNTIF('قائمة المنقطعين'!$O$5:$O$204,A32) | C32: =COUNTIFS('قائمة المنقطعين'!$O$5:$O$204,A32,'قائمة المنقطعين'!$Q$5:$Q$204,"عاد")
A33: الرسالة 3 | B33: =COUNTIF('قائمة المنقطعين'!$O$5:$O$204,A33) | C33: =COUNTIFS('قائمة المنقطعين'!$O$5:$O$204,A33,'قائمة المنقطعين'!$Q$5:$Q$204,"عاد")
A35: سبب المغادرة
A36: السبب | B36: الأشخاص | C36: عادوا
A37: ='الإعدادات والقوائم'!$C$13 | B37: =COUNTIF('قائمة المنقطعين'!$P$5:$P$204,A37) | C37: =COUNTIFS('قائمة المنقطعين'!$P$5:$P$204,A37,'قائمة المنقطعين'!$Q$5:$Q$204,"عاد")
A38: ='الإعدادات والقوائم'!$C$14 | B38: =COUNTIF('قائمة المنقطعين'!$P$5:$P$204,A38) | C38: =COUNTIFS('قائمة المنقطعين'!$P$5:$P$204,A38,'قائمة المنقطعين'!$Q$5:$Q$204,"عاد")
A39: ='الإعدادات والقوائم'!$C$15 | B39: =COUNTIF('قائمة المنقطعين'!$P$5:$P$204,A39) | C39: =COUNTIFS('قائمة المنقطعين'!$P$5:$P$204,A39,'قائمة المنقطعين'!$Q$5:$Q$204,"عاد")
A40: ='الإعدادات والقوائم'!$C$16 | B40: =COUNTIF('قائمة المنقطعين'!$P$5:$P$204,A40) | C40: =COUNTIFS('قائمة المنقطعين'!$P$5:$P$204,A40,'قائمة المنقطعين'!$Q$5:$Q$204,"عاد")
A41: ='الإعدادات والقوائم'!$C$17 | B41: =COUNTIF('قائمة المنقطعين'!$P$5:$P$204,A41) | C41: =COUNTIFS('قائمة المنقطعين'!$P$5:$P$204,A41,'قائمة المنقطعين'!$Q$5:$Q$204,"عاد")
A42: ='الإعدادات والقوائم'!$C$18 | B42: =COUNTIF('قائمة المنقطعين'!$P$5:$P$204,A42) | C42: =COUNTIFS('قائمة المنقطعين'!$P$5:$P$204,A42,'قائمة المنقطعين'!$Q$5:$Q$204,"عاد")
A43: ='الإعدادات والقوائم'!$C$19 | B43: =COUNTIF('قائمة المنقطعين'!$P$5:$P$204,A43) | C43: =COUNTIFS('قائمة المنقطعين'!$P$5:$P$204,A43,'قائمة المنقطعين'!$Q$5:$Q$204,"عاد")
A45: العمل المفتوح حسب المسؤول
...

Sheet الإعدادات والقوائم
A1: الإعدادات
A2: غيّر الأرقام لتناسب عملك. تستخدمها ورقة «قائمة المنقطعين».
A4: الإعداد | B4: القيمة
A5: منقطع بعد هذا العدد من أضعاف الفترة المعتادة | B5: 1.5
A6: الرسالة 2: عدد الأيام بعد الرسالة 1 | B6: 10
A7: الرسالة 3: عدد الأيام بعد الرسالة 1 | B7: 21
A8: أغلق السجل بعد هذا العدد من الأيام من الرسالة 3، إذا لم يرد أحد | B8: 7
A10: القوائم المنسدلة
A11: عدّل أسماء المسؤولين هنا. تعتمد القوائم المنسدلة في ورقة «قائمة المنقطعين» على هذه القوائم.
A12: المسؤولون | B12: الفئات | C12: سبب المغادرة | D12: النتيجة
A13: روزا | B13: عميل سابق | C13: السعر | D13: عاد
A14: كينجي | B14: عميل محتمل قديم | C14: مشكلة في الخدمة | D14: ليس الآن
B15: ألغى الخدمة | C15: اختار شركة أخرى | D15: رفض
C16: انتقل | D16: لا رد
C17: لم يعد بحاجة إليها | D17: طلب عدم المراسلة
C18: نسي فقط | D18: رسالة مرتدة
C19: لم يذكر السبب
A24: قاعدة الانقطاع حسب نوع العميل
A25: نوع العميل | B25: الفترة المعتادة | C25: منقطع بعد
A26: منزل، ربيعاً وخريفاً | B26: 180 يوماً | C26: 270 يوماً
A27: منزل، مرة في السنة | B27: 365 يوماً | C27: 548 يوماً
A28: مكتب، شهرياً | B28: 30 يوماً | C28: 45 يوماً
A29: مكتب، كل 3 أشهر | B29: 90 يوماً | C29: 135 يوماً
A30: عميل محتمل قديم، لم يقبل عرض السعر | B30: 60 يوماً للقرار | C30: 90 يوماً بعد عرض السعر
A31: ألغى خطة منتظمة | B31: فترة الخطة | C31: 1.5 ضعف الفترة بعد تاريخ الإلغاء
