Workbook

Sheet Follow-up-Liste
A1: Follow-up-Tabelle für den Vertrieb
A2: Eine Zeile je Angebot. Tragen Sie das Angebotsdatum einmal ein: Die Fälligkeiten für Tag 2, 5, 9 und 14 füllen sich selbst, und ein Datum am Wochenende rückt auf Montag.
A3: Tragen Sie ein, wann Sie jede E-Mail gesendet haben, dazu eine Antwort und das Ergebnis. Nächste E-Mail, Status und Summen aktualisieren sich automatisch. Die Beispieldaten sind relativ zu heute.
A4: Deal | B4: Kontakt | C4: Verantwortlich | D4: Wert | E4: Angebot gesendet | F4: Tag 2 fällig | G4: Tag 2 gesendet | H4: Tag 5 fällig | I4: Tag 5 gesendet | J4: Tag 9 fällig | K4: Tag 9 gesendet | L4: Tag 14 fällig | M4: Tag 14 gesendet | N4: Antwortdatum | O4: Antwort | P4: Antwort nach | Q4: Ergebnis | R4: Nächster Schritt | S4: Nächste E-Mail | T4: Nächste Fälligkeit | U4: Status | V4: Notizen
A5: Nächtliche Reinigung · Harbor Dental | B5: Elena Ruiz | C5: Kim | D5: 22680 | E5: =TODAY()-15 | F5: =IF($E5="","",WORKDAY($E5+1,1)) | G5: =F5 | H5: =IF($E5="","",WORKDAY($E5+4,1)) | I5: =H5 | J5: =IF($E5="","",WORKDAY($E5+8,1)) | L5: =IF($E5="","",WORKDAY($E5+13,1)) | N5: =I5 | O5: Geantwortet | P5: =IF($N5="","",IF(AND($M5<>"",$M5<=$N5),"Tag 14",IF(AND($K5<>"",$K5<=$N5),"Tag 9",IF(AND($I5<>"",$I5<=$N5),"Tag 5",IF(AND($G5<>"",$G5<=$N5),"Tag 2","Tag 0"))))) | Q5: Gewonnen | R5: Starttermin bestätigen und das Team einweisen | S5: =IF(OR($E5="",$Q5="Gewonnen",$Q5="Verloren",$O5<>""),"",IF($G5="","Tag 2",IF($I5="","Tag 5",IF($K5="","Tag 9",IF($M5="","Tag 14",""))))) | T5: =IF($S5="","",IF($G5="",$F5,IF($I5="",$H5,IF($K5="",$J5,$L5)))) | U5: =IF(OR($A5="",$E5=""),"",IF(OR($Q5="Gewonnen",$Q5="Verloren"),"Erledigt",IF($O5<>"","Gestoppt",IF($S5="","Erledigt",IF($T5<TODAY(),"Überfällig",IF($T5=TODAY(),"Fällig heute","Im Plan")))))) | V5: Einwände zu Preis und Entscheider. Per E-Signatur unterschrieben.
A6: Büroreinigung · Lakeside Law | B6: Mark Owens | C6: Dan | D6: 14400 | E6: =TODAY()-9 | F6: =IF($E6="","",WORKDAY($E6+1,1)) | G6: =F6 | H6: =IF($E6="","",WORKDAY($E6+4,1)) | I6: =H6 | J6: =IF($E6="","",WORKDAY($E6+8,1)) | L6: =IF($E6="","",WORKDAY($E6+13,1)) | P6: =IF($N6="","",IF(AND($M6<>"",$M6<=$N6),"Tag 14",IF(AND($K6<>"",$K6<=$N6),"Tag 9",IF(AND($I6<>"",$I6<=$N6),"Tag 5",IF(AND($G6<>"",$G6<=$N6),"Tag 2","Tag 0"))))) | Q6: Offen | R6: E-Mail von Tag 9 senden | S6: =IF(OR($E6="",$Q6="Gewonnen",$Q6="Verloren",$O6<>""),"",IF($G6="","Tag 2",IF($I6="","Tag 5",IF($K6="","Tag 9",IF($M6="","Tag 14",""))))) | T6: =IF($S6="","",IF($G6="",$F6,IF($I6="",$H6,IF($K6="",$J6,$L6)))) | U6: =IF(OR($A6="",$E6=""),"",IF(OR($Q6="Gewonnen",$Q6="Verloren"),"Erledigt",IF($O6<>"","Gestoppt",IF($S6="","Erledigt",IF($T6<TODAY(),"Überfällig",IF($T6=TODAY(),"Fällig heute","Im Plan"))))))
A7: Fitnessstudio-Reinigung · CoreFit Studio | B7: Jamal Reed | C7: Kim | D7: 9600 | E7: =TODAY()-8 | F7: =IF($E7="","",WORKDAY($E7+1,1)) | G7: =F7 | H7: =IF($E7="","",WORKDAY($E7+4,1)) | J7: =IF($E7="","",WORKDAY($E7+8,1)) | L7: =IF($E7="","",WORKDAY($E7+13,1)) | P7: =IF($N7="","",IF(AND($M7<>"",$M7<=$N7),"Tag 14",IF(AND($K7<>"",$K7<=$N7),"Tag 9",IF(AND($I7<>"",$I7<=$N7),"Tag 5",IF(AND($G7<>"",$G7<=$N7),"Tag 2","Tag 0"))))) | Q7: Offen | R7: E-Mail von Tag 5 heute senden | S7: =IF(OR($E7="",$Q7="Gewonnen",$Q7="Verloren",$O7<>""),"",IF($G7="","Tag 2",IF($I7="","Tag 5",IF($K7="","Tag 9",IF($M7="","Tag 14",""))))) | T7: =IF($S7="","",IF($G7="",$F7,IF($I7="",$H7,IF($K7="",$J7,$L7)))) | U7: =IF(OR($A7="",$E7=""),"",IF(OR($Q7="Gewonnen",$Q7="Verloren"),"Erledigt",IF($O7<>"","Gestoppt",IF($S7="","Erledigt",IF($T7<TODAY(),"Überfällig",IF($T7=TODAY(),"Fällig heute","Im Plan"))))))
A8: Tägliche Reinigung · Pinecrest Insurance | B8: Sara Lin | C8: Kim | D8: 18000 | E8: =TODAY()-3 | F8: =IF($E8="","",WORKDAY($E8+1,1)) | G8: =F8 | H8: =IF($E8="","",WORKDAY($E8+4,1)) | J8: =IF($E8="","",WORKDAY($E8+8,1)) | L8: =IF($E8="","",WORKDAY($E8+13,1)) | P8: =IF($N8="","",IF(AND($M8<>"",$M8<=$N8),"Tag 14",IF(AND($K8<>"",$K8<=$N8),"Tag 9",IF(AND($I8<>"",$I8<=$N8),"Tag 5",IF(AND($G8<>"",$G8<=$N8),"Tag 2","Tag 0"))))) | Q8: Offen | R8: An Tag 5 einen Musterzeitplan senden | S8: =IF(OR($E8="",$Q8="Gewonnen",$Q8="Verloren",$O8<>""),"",IF($G8="","Tag 2",IF($I8="","Tag 5",IF($K8="","Tag 9",IF($M8="","Tag 14",""))))) | T8: =IF($S8="","",IF($G8="",$F8,IF($I8="",$H8,IF($K8="",$J8,$L8)))) | U8: =IF(OR($A8="",$E8=""),"",IF(OR($Q8="Gewonnen",$Q8="Verloren"),"Erledigt",IF($O8<>"","Gestoppt",IF($S8="","Erledigt",IF($T8<TODAY(),"Überfällig",IF($T8=TODAY(),"Fällig heute","Im Plan"))))))
A9: Grundreinigung · Oak Street Bakery | B9: Tom Becker | C9: Dan | D9: 3200 | E9: =TODAY()-12 | F9: =IF($E9="","",WORKDAY($E9+1,1)) | H9: =IF($E9="","",WORKDAY($E9+4,1)) | J9: =IF($E9="","",WORKDAY($E9+8,1)) | L9: =IF($E9="","",WORKDAY($E9+13,1)) | N9: =E9+1 | O9: Nicht jetzt | P9: =IF($N9="","",IF(AND($M9<>"",$M9<=$N9),"Tag 14",IF(AND($K9<>"",$K9<=$N9),"Tag 9",IF(AND($I9<>"",$I9<=$N9),"Tag 5",IF(AND($G9<>"",$G9<=$N9),"Tag 2","Tag 0"))))) | Q9: Offen | R9: Im Januar wegen des neuen Budgets nachfragen | S9: =IF(OR($E9="",$Q9="Gewonnen",$Q9="Verloren",$O9<>""),"",IF($G9="","Tag 2",IF($I9="","Tag 5",IF($K9="","Tag 9",IF($M9="","Tag 14",""))))) | T9: =IF($S9="","",IF($G9="",$F9,IF($I9="",$H9,IF($K9="",$J9,$L9)))) | U9: =IF(OR($A9="",$E9=""),"",IF(OR($Q9="Gewonnen",$Q9="Verloren"),"Erledigt",IF($O9<>"","Gestoppt",IF($S9="","Erledigt",IF($T9<TODAY(),"Überfällig",IF($T9=TODAY(),"Fällig heute","Im Plan")))))) | V9: Einwand Zeitpunkt
A10: Wöchentliche Reinigung · Riverside Vet Clinic | B10: Ana Silva | C10: Dan | D10: 7800 | E10: =TODAY()-20 | F10: =IF($E10="","",WORKDAY($E10+1,1)) | G10: =F10 | H10: =IF($E10="","",WORKDAY($E10+4,1)) | I10: =H10 | J10: =IF($E10="","",WORKDAY($E10+8,1)) | K10: =J10 | L10: =IF($E10="","",WORKDAY($E10+13,1)) | M10: =L10 | P10: =IF($N10="","",IF(AND($M10<>"",$M10<=$N10),"Tag 14",IF(AND($K10<>"",$K10<=$N10),"Tag 9",IF(AND($I10<>"",$I10<=$N10),"Tag 5",IF(AND($G10<>"",$G10<=$N10),"Tag 2","Tag 0"))))) | Q10: Verloren | R10: Eine Nachfrage in 6 Monaten | S10: =IF(OR($E10="",$Q10="Gewonnen",$Q10="Verloren",$O10<>""),"",IF($G10="","Tag 2",IF($I10="","Tag 5",IF($K10="","Tag 9",IF($M10="","Tag 14",""))))) | T10: =IF($S10="","",IF($G10="",$F10,IF($I10="",$H10,IF($K10="",$J10,$L10)))) | U10: =IF(OR($A10="",$E10=""),"",IF(OR($Q10="Gewonnen",$Q10="Verloren"),"Erledigt",IF($O10<>"","Gestoppt",IF($S10="","Erledigt",IF($T10<TODAY(),"Überfällig",IF($T10=TODAY(),"Fällig heute","Im Plan")))))) | V10: Keine Antwort nach Tag 14
A11: Nächtliche Reinigung · Summit Coworking | B11: Leo Park | C11: Kim | D11: 31200 | E11: =TODAY()-10 | F11: =IF($E11="","",WORKDAY($E11+1,1)) | G11: =F11 | H11: =IF($E11="","",WORKDAY($E11+4,1)) | I11: =H11 | J11: =IF($E11="","",WORKDAY($E11+8,1)) | L11: =IF($E11="","",WORKDAY($E11+13,1)) | N11: =I11+1 | O11: Abgesagt | P11: =IF($N11="","",IF(AND($M11<>"",$M11<=$N11),"Tag 14",IF(AND($K11<>"",$K11<=$N11),"Tag 9",IF(AND($I11<>"",$I11<=$N11),"Tag 5",IF(AND($G11<>"",$G11<=$N11),"Tag 2","Tag 0"))))) | Q11: Verloren | R11: In 6 Monaten um Rückmeldung bitten | S11: =IF(OR($E11="",$Q11="Gewonnen",$Q11="Verloren",$O11<>""),"",IF($G11="","Tag 2",IF($I11="","Tag 5",IF($K11="","Tag 9",IF($M11="","Tag 14",""))))) | T11: =IF($S11="","",IF($G11="",$F11,IF($I11="",$H11,IF($K11="",$J11,$L11)))) | U11: =IF(OR($A11="",$E11=""),"",IF(OR($Q11="Gewonnen",$Q11="Verloren"),"Erledigt",IF($O11<>"","Gestoppt",IF($S11="","Erledigt",IF($T11<TODAY(),"Überfällig",IF($T11=TODAY(),"Fällig heute","Im Plan")))))) | V11: Hat sich für einen günstigeren Wettbewerber entschieden
A12: Büroreinigung · Greenleaf Accounting | B12: Maria Gomez | C12: Dan | D12: 10800 | E12: =TODAY()-1 | F12: =IF($E12="","",WORKDAY($E12+1,1)) | H12: =IF($E12="","",WORKDAY($E12+4,1)) | J12: =IF($E12="","",WORKDAY($E12+8,1)) | L12: =IF($E12="","",WORKDAY($E12+13,1)) | P12: =IF($N12="","",IF(AND($M12<>"",$M12<=$N12),"Tag 14",IF(AND($K12<>"",$K12<=$N12),"Tag 9",IF(AND($I12<>"",$I12<=$N12),"Tag 5",IF(AND($G12<>"",$G12<=$N12),"Tag 2","Tag 0"))))) | Q12: Offen | R12: Nachfrage von Tag 2 senden | S12: =IF(OR($E12="",$Q12="Gewonnen",$Q12="Verloren",$O12<>""),"",IF($G12="","Tag 2",IF($I12="","Tag 5",IF($K12="","Tag 9",IF($M12="","Tag 14",""))))) | T12: =IF($S12="","",IF($G12="",$F12,IF($I12="",$H12,IF($K12="",$J12,$L12)))) | U12: =IF(OR($A12="",$E12=""),"",IF(OR($Q12="Gewonnen",$Q12="Verloren"),"Erledigt",IF($O12<>"","Gestoppt",IF($S12="","Erledigt",IF($T12<TODAY(),"Überfällig",IF($T12=TODAY(),"Fällig heute","Im Plan"))))))
F13: =IF($E13="","",WORKDAY($E13+1,1)) | H13: =IF($E13="","",WORKDAY($E13+4,1)) | J13: =IF($E13="","",WORKDAY($E13+8,1)) | L13: =IF($E13="","",WORKDAY($E13+13,1)) | P13: =IF($N13="","",IF(AND($M13<>"",$M13<=$N13),"Tag 14",IF(AND($K13<>"",$K13<=$N13),"Tag 9",IF(AND($I13<>"",$I13<=$N13),"Tag 5",IF(AND($G13<>"",$G13<=$N13),"Tag 2","Tag 0"))))) | S13: =IF(OR($E13="",$Q13="Gewonnen",$Q13="Verloren",$O13<>""),"",IF($G13="","Tag 2",IF($I13="","Tag 5",IF($K13="","Tag 9",IF($M13="","Tag 14",""))))) | T13: =IF($S13="","",IF($G13="",$F13,IF($I13="",$H13,IF($K13="",$J13,$L13)))) | U13: =IF(OR($A13="",$E13=""),"",IF(OR($Q13="Gewonnen",$Q13="Verloren"),"Erledigt",IF($O13<>"","Gestoppt",IF($S13="","Erledigt",IF($T13<TODAY(),"Überfällig",IF($T13=TODAY(),"Fällig heute","Im Plan"))))))
F14: =IF($E14="","",WORKDAY($E14+1,1)) | H14: =IF($E14="","",WORKDAY($E14+4,1)) | J14: =IF($E14="","",WORKDAY($E14+8,1)) | L14: =IF($E14="","",WORKDAY($E14+13,1)) | P14: =IF($N14="","",IF(AND($M14<>"",$M14<=$N14),"Tag 14",IF(AND($K14<>"",$K14<=$N14),"Tag 9",IF(AND($I14<>"",$I14<=$N14),"Tag 5",IF(AND($G14<>"",$G14<=$N14),"Tag 2","Tag 0"))))) | S14: =IF(OR($E14="",$Q14="Gewonnen",$Q14="Verloren",$O14<>""),"",IF($G14="","Tag 2",IF($I14="","Tag 5",IF($K14="","Tag 9",IF($M14="","Tag 14",""))))) | T14: =IF($S14="","",IF($G14="",$F14,IF($I14="",$H14,IF($K14="",$J14,$L14)))) | U14: =IF(OR($A14="",$E14=""),"",IF(OR($Q14="Gewonnen",$Q14="Verloren"),"Erledigt",IF($O14<>"","Gestoppt",IF($S14="","Erledigt",IF($T14<TODAY(),"Überfällig",IF($T14=TODAY(),"Fällig heute","Im Plan"))))))
F15: =IF($E15="","",WORKDAY($E15+1,1)) | H15: =IF($E15="","",WORKDAY($E15+4,1)) | J15: =IF($E15="","",WORKDAY($E15+8,1)) | L15: =IF($E15="","",WORKDAY($E15+13,1)) | P15: =IF($N15="","",IF(AND($M15<>"",$M15<=$N15),"Tag 14",IF(AND($K15<>"",$K15<=$N15),"Tag 9",IF(AND($I15<>"",$I15<=$N15),"Tag 5",IF(AND($G15<>"",$G15<=$N15),"Tag 2","Tag 0"))))) | S15: =IF(OR($E15="",$Q15="Gewonnen",$Q15="Verloren",$O15<>""),"",IF($G15="","Tag 2",IF($I15="","Tag 5",IF($K15="","Tag 9",IF($M15="","Tag 14",""))))) | T15: =IF($S15="","",IF($G15="",$F15,IF($I15="",$H15,IF($K15="",$J15,$L15)))) | U15: =IF(OR($A15="",$E15=""),"",IF(OR($Q15="Gewonnen",$Q15="Verloren"),"Erledigt",IF($O15<>"","Gestoppt",IF($S15="","Erledigt",IF($T15<TODAY(),"Überfällig",IF($T15=TODAY(),"Fällig heute","Im Plan"))))))
F16: =IF($E16="","",WORKDAY($E16+1,1)) | H16: =IF($E16="","",WORKDAY($E16+4,1)) | J16: =IF($E16="","",WORKDAY($E16+8,1)) | L16: =IF($E16="","",WORKDAY($E16+13,1)) | P16: =IF($N16="","",IF(AND($M16<>"",$M16<=$N16),"Tag 14",IF(AND($K16<>"",$K16<=$N16),"Tag 9",IF(AND($I16<>"",$I16<=$N16),"Tag 5",IF(AND($G16<>"",$G16<=$N16),"Tag 2","Tag 0"))))) | S16: =IF(OR($E16="",$Q16="Gewonnen",$Q16="Verloren",$O16<>""),"",IF($G16="","Tag 2",IF($I16="","Tag 5",IF($K16="","Tag 9",IF($M16="","Tag 14",""))))) | T16: =IF($S16="","",IF($G16="",$F16,IF($I16="",$H16,IF($K16="",$J16,$L16)))) | U16: =IF(OR($A16="",$E16=""),"",IF(OR($Q16="Gewonnen",$Q16="Verloren"),"Erledigt",IF($O16<>"","Gestoppt",IF($S16="","Erledigt",IF($T16<TODAY(),"Überfällig",IF($T16=TODAY(),"Fällig heute","Im Plan"))))))
F17: =IF($E17="","",WORKDAY($E17+1,1)) | H17: =IF($E17="","",WORKDAY($E17+4,1)) | J17: =IF($E17="","",WORKDAY($E17+8,1)) | L17: =IF($E17="","",WORKDAY($E17+13,1)) | P17: =IF($N17="","",IF(AND($M17<>"",$M17<=$N17),"Tag 14",IF(AND($K17<>"",$K17<=$N17),"Tag 9",IF(AND($I17<>"",$I17<=$N17),"Tag 5",IF(AND($G17<>"",$G17<=$N17),"Tag 2","Tag 0"))))) | S17: =IF(OR($E17="",$Q17="Gewonnen",$Q17="Verloren",$O17<>""),"",IF($G17="","Tag 2",IF($I17="","Tag 5",IF($K17="","Tag 9",IF($M17="","Tag 14",""))))) | T17: =IF($S17="","",IF($G17="",$F17,IF($I17="",$H17,IF($K17="",$J17,$L17)))) | U17: =IF(OR($A17="",$E17=""),"",IF(OR($Q17="Gewonnen",$Q17="Verloren"),"Erledigt",IF($O17<>"","Gestoppt",IF($S17="","Erledigt",IF($T17<TODAY(),"Überfällig",IF($T17=TODAY(),"Fällig heute","Im Plan"))))))
F18: =IF($E18="","",WORKDAY($E18+1,1)) | H18: =IF($E18="","",WORKDAY($E18+4,1)) | J18: =IF($E18="","",WORKDAY($E18+8,1)) | L18: =IF($E18="","",WORKDAY($E18+13,1)) | P18: =IF($N18="","",IF(AND($M18<>"",$M18<=$N18),"Tag 14",IF(AND($K18<>"",$K18<=$N18),"Tag 9",IF(AND($I18<>"",$I18<=$N18),"Tag 5",IF(AND($G18<>"",$G18<=$N18),"Tag 2","Tag 0"))))) | S18: =IF(OR($E18="",$Q18="Gewonnen",$Q18="Verloren",$O18<>""),"",IF($G18="","Tag 2",IF($I18="","Tag 5",IF($K18="","Tag 9",IF($M18="","Tag 14",""))))) | T18: =IF($S18="","",IF($G18="",$F18,IF($I18="",$H18,IF($K18="",$J18,$L18)))) | U18: =IF(OR($A18="",$E18=""),"",IF(OR($Q18="Gewonnen",$Q18="Verloren"),"Erledigt",IF($O18<>"","Gestoppt",IF($S18="","Erledigt",IF($T18<TODAY(),"Überfällig",IF($T18=TODAY(),"Fällig heute","Im Plan"))))))
F19: =IF($E19="","",WORKDAY($E19+1,1)) | H19: =IF($E19="","",WORKDAY($E19+4,1)) | J19: =IF($E19="","",WORKDAY($E19+8,1)) | L19: =IF($E19="","",WORKDAY($E19+13,1)) | P19: =IF($N19="","",IF(AND($M19<>"",$M19<=$N19),"Tag 14",IF(AND($K19<>"",$K19<=$N19),"Tag 9",IF(AND($I19<>"",$I19<=$N19),"Tag 5",IF(AND($G19<>"",$G19<=$N19),"Tag 2","Tag 0"))))) | S19: =IF(OR($E19="",$Q19="Gewonnen",$Q19="Verloren",$O19<>""),"",IF($G19="","Tag 2",IF($I19="","Tag 5",IF($K19="","Tag 9",IF($M19="","Tag 14",""))))) | T19: =IF($S19="","",IF($G19="",$F19,IF($I19="",$H19,IF($K19="",$J19,$L19)))) | U19: =IF(OR($A19="",$E19=""),"",IF(OR($Q19="Gewonnen",$Q19="Verloren"),"Erledigt",IF($O19<>"","Gestoppt",IF($S19="","Erledigt",IF($T19<TODAY(),"Überfällig",IF($T19=TODAY(),"Fällig heute","Im Plan"))))))
F20: =IF($E20="","",WORKDAY($E20+1,1)) | H20: =IF($E20="","",WORKDAY($E20+4,1)) | J20: =IF($E20="","",WORKDAY($E20+8,1)) | L20: =IF($E20="","",WORKDAY($E20+13,1)) | P20: =IF($N20="","",IF(AND($M20<>"",$M20<=$N20),"Tag 14",IF(AND($K20<>"",$K20<=$N20),"Tag 9",IF(AND($I20<>"",$I20<=$N20),"Tag 5",IF(AND($G20<>"",$G20<=$N20),"Tag 2","Tag 0"))))) | S20: =IF(OR($E20="",$Q20="Gewonnen",$Q20="Verloren",$O20<>""),"",IF($G20="","Tag 2",IF($I20="","Tag 5",IF($K20="","Tag 9",IF($M20="","Tag 14",""))))) | T20: =IF($S20="","",IF($G20="",$F20,IF($I20="",$H20,IF($K20="",$J20,$L20)))) | U20: =IF(OR($A20="",$E20=""),"",IF(OR($Q20="Gewonnen",$Q20="Verloren"),"Erledigt",IF($O20<>"","Gestoppt",IF($S20="","Erledigt",IF($T20<TODAY(),"Überfällig",IF($T20=TODAY(),"Fällig heute","Im Plan"))))))
F21: =IF($E21="","",WORKDAY($E21+1,1)) | H21: =IF($E21="","",WORKDAY($E21+4,1)) | J21: =IF($E21="","",WORKDAY($E21+8,1)) | L21: =IF($E21="","",WORKDAY($E21+13,1)) | P21: =IF($N21="","",IF(AND($M21<>"",$M21<=$N21),"Tag 14",IF(AND($K21<>"",$K21<=$N21),"Tag 9",IF(AND($I21<>"",$I21<=$N21),"Tag 5",IF(AND($G21<>"",$G21<=$N21),"Tag 2","Tag 0"))))) | S21: =IF(OR($E21="",$Q21="Gewonnen",$Q21="Verloren",$O21<>""),"",IF($G21="","Tag 2",IF($I21="","Tag 5",IF($K21="","Tag 9",IF($M21="","Tag 14",""))))) | T21: =IF($S21="","",IF($G21="",$F21,IF($I21="",$H21,IF($K21="",$J21,$L21)))) | U21: =IF(OR($A21="",$E21=""),"",IF(OR($Q21="Gewonnen",$Q21="Verloren"),"Erledigt",IF($O21<>"","Gestoppt",IF($S21="","Erledigt",IF($T21<TODAY(),"Überfällig",IF($T21=TODAY(),"Fällig heute","Im Plan"))))))
F22: =IF($E22="","",WORKDAY($E22+1,1)) | H22: =IF($E22="","",WORKDAY($E22+4,1)) | J22: =IF($E22="","",WORKDAY($E22+8,1)) | L22: =IF($E22="","",WORKDAY($E22+13,1)) | P22: =IF($N22="","",IF(AND($M22<>"",$M22<=$N22),"Tag 14",IF(AND($K22<>"",$K22<=$N22),"Tag 9",IF(AND($I22<>"",$I22<=$N22),"Tag 5",IF(AND($G22<>"",$G22<=$N22),"Tag 2","Tag 0"))))) | S22: =IF(OR($E22="",$Q22="Gewonnen",$Q22="Verloren",$O22<>""),"",IF($G22="","Tag 2",IF($I22="","Tag 5",IF($K22="","Tag 9",IF($M22="","Tag 14",""))))) | T22: =IF($S22="","",IF($G22="",$F22,IF($I22="",$H22,IF($K22="",$J22,$L22)))) | U22: =IF(OR($A22="",$E22=""),"",IF(OR($Q22="Gewonnen",$Q22="Verloren"),"Erledigt",IF($O22<>"","Gestoppt",IF($S22="","Erledigt",IF($T22<TODAY(),"Überfällig",IF($T22=TODAY(),"Fällig heute","Im Plan"))))))
F23: =IF($E23="","",WORKDAY($E23+1,1)) | H23: =IF($E23="","",WORKDAY($E23+4,1)) | J23: =IF($E23="","",WORKDAY($E23+8,1)) | L23: =IF($E23="","",WORKDAY($E23+13,1)) | P23: =IF($N23="","",IF(AND($M23<>"",$M23<=$N23),"Tag 14",IF(AND($K23<>"",$K23<=$N23),"Tag 9",IF(AND($I23<>"",$I23<=$N23),"Tag 5",IF(AND($G23<>"",$G23<=$N23),"Tag 2","Tag 0"))))) | S23: =IF(OR($E23="",$Q23="Gewonnen",$Q23="Verloren",$O23<>""),"",IF($G23="","Tag 2",IF($I23="","Tag 5",IF($K23="","Tag 9",IF($M23="","Tag 14",""))))) | T23: =IF($S23="","",IF($G23="",$F23,IF($I23="",$H23,IF($K23="",$J23,$L23)))) | U23: =IF(OR($A23="",$E23=""),"",IF(OR($Q23="Gewonnen",$Q23="Verloren"),"Erledigt",IF($O23<>"","Gestoppt",IF($S23="","Erledigt",IF($T23<TODAY(),"Überfällig",IF($T23=TODAY(),"Fällig heute","Im Plan"))))))
F24: =IF($E24="","",WORKDAY($E24+1,1)) | H24: =IF($E24="","",WORKDAY($E24+4,1)) | J24: =IF($E24="","",WORKDAY($E24+8,1)) | L24: =IF($E24="","",WORKDAY($E24+13,1)) | P24: =IF($N24="","",IF(AND($M24<>"",$M24<=$N24),"Tag 14",IF(AND($K24<>"",$K24<=$N24),"Tag 9",IF(AND($I24<>"",$I24<=$N24),"Tag 5",IF(AND($G24<>"",$G24<=$N24),"Tag 2","Tag 0"))))) | S24: =IF(OR($E24="",$Q24="Gewonnen",$Q24="Verloren",$O24<>""),"",IF($G24="","Tag 2",IF($I24="","Tag 5",IF($K24="","Tag 9",IF($M24="","Tag 14",""))))) | T24: =IF($S24="","",IF($G24="",$F24,IF($I24="",$H24,IF($K24="",$J24,$L24)))) | U24: =IF(OR($A24="",$E24=""),"",IF(OR($Q24="Gewonnen",$Q24="Verloren"),"Erledigt",IF($O24<>"","Gestoppt",IF($S24="","Erledigt",IF($T24<TODAY(),"Überfällig",IF($T24=TODAY(),"Fällig heute","Im Plan"))))))
... F204: =IF($E204="","",WORKDAY($E204+1,1)) | H204: =IF($E204="","",WORKDAY($E204+4,1)) | J204: =IF($E204="","",WORKDAY($E204+8,1)) | L204: =IF($E204="","",WORKDAY($E204+13,1)) | P204: =IF($N204="","",IF(AND($M204<>"",$M204<=$N204),"Tag 14",IF(AND($K204<>"",$K204<=$N204),"Tag 9",IF(AND($I204<>"",$I204<=$N204),"Tag 5",IF(AND($G204<>"",$G204<=$N204),"Tag 2","Tag 0"))))) | S204: =IF(OR($E204="",$Q204="Gewonnen",$Q204="Verloren",$O204<>""),"",IF($G204="","Tag 2",IF($I204="","Tag 5",IF($K204="","Tag 9",IF($M204="","Tag 14",""))))) | T204: =IF($S204="","",IF($G204="",$F204,IF($I204="",$H204,IF($K204="",$J204,$L204)))) | U204: =IF(OR($A204="",$E204=""),"",IF(OR($Q204="Gewonnen",$Q204="Verloren"),"Erledigt",IF($O204<>"","Gestoppt",IF($S204="","Erledigt",IF($T204<TODAY(),"Überfällig",IF($T204=TODAY(),"Fällig heute","Im Plan"))))))

Sheet Übersicht
A1: Follow-up-Übersicht
A2: Summen aus dem Blatt Follow-up-Liste. Sie aktualisieren sich, wenn Sie eine Zeile ändern.
A4: Kennzahl | B4: Summe
A5: Angebote in der Tabelle | B5: =COUNTA('Follow-up-Liste'!$A$5:$A$204)
A6: Offene Deals | B6: =B5-B9-B10
A7: Antworten | B7: =COUNTA('Follow-up-Liste'!$O$5:$O$204)
A8: Antwortquote | B8: =IF(B5=0,"",B7/B5)
A9: Gewonnen | B9: =COUNTIF('Follow-up-Liste'!$Q$5:$Q$204,"Gewonnen")
A10: Verloren | B10: =COUNTIF('Follow-up-Liste'!$Q$5:$Q$204,"Verloren")
A11: Gewinnquote abgeschlossener Deals | B11: =IF(B9+B10=0,"",B9/(B9+B10))
A12: Überfällige Follow-ups | B12: =COUNTIF('Follow-up-Liste'!$U$5:$U$204,"Überfällig")
A13: Heute fällige Follow-ups | B13: =COUNTIF('Follow-up-Liste'!$U$5:$U$204,"Fällig heute")
A14: Gestoppt, nächster Schritt nötig | B14: =COUNTIF('Follow-up-Liste'!$U$5:$U$204,"Gestoppt")
A15: Wert der offenen Pipeline | B15: =SUM('Follow-up-Liste'!$D$5:$D$204)-SUMIF('Follow-up-Liste'!$Q$5:$Q$204,"Gewonnen",'Follow-up-Liste'!$D$5:$D$204)-SUMIF('Follow-up-Liste'!$Q$5:$Q$204,"Verloren",'Follow-up-Liste'!$D$5:$D$204)
A16: Gewonnener Wert | B16: =SUMIF('Follow-up-Liste'!$Q$5:$Q$204,"Gewonnen",'Follow-up-Liste'!$D$5:$D$204)
A18: Antworten nach zuletzt gesendeter E-Mail
A19: Letzte E-Mail vor der Antwort | B19: Antworten
A20: Tag 0 | B20: =COUNTIF('Follow-up-Liste'!$P$5:$P$204,A20)
A21: Tag 2 | B21: =COUNTIF('Follow-up-Liste'!$P$5:$P$204,A21)
A22: Tag 5 | B22: =COUNTIF('Follow-up-Liste'!$P$5:$P$204,A22)
A23: Tag 9 | B23: =COUNTIF('Follow-up-Liste'!$P$5:$P$204,A23)
A24: Tag 14 | B24: =COUNTIF('Follow-up-Liste'!$P$5:$P$204,A24)
A26: Nach verantwortlicher Person
A27: Verantwortlich | B27: Offene Deals | C27: Überfällig | D27: Fällig heute
A28: =IF('Listen'!A5="","",'Listen'!A5) | B28: =IF(A28="","",COUNTIF('Follow-up-Liste'!$C$5:$C$204,A28)-COUNTIFS('Follow-up-Liste'!$C$5:$C$204,A28,'Follow-up-Liste'!$Q$5:$Q$204,"Gewonnen")-COUNTIFS('Follow-up-Liste'!$C$5:$C$204,A28,'Follow-up-Liste'!$Q$5:$Q$204,"Verloren")) | C28: =IF(A28="","",COUNTIFS('Follow-up-Liste'!$C$5:$C$204,A28,'Follow-up-Liste'!$U$5:$U$204,"Überfällig")) | D28: =IF(A28="","",COUNTIFS('Follow-up-Liste'!$C$5:$C$204,A28,'Follow-up-Liste'!$U$5:$U$204,"Fällig heute"))
A29: =IF('Listen'!A6="","",'Listen'!A6) | B29: =IF(A29="","",COUNTIF('Follow-up-Liste'!$C$5:$C$204,A29)-COUNTIFS('Follow-up-Liste'!$C$5:$C$204,A29,'Follow-up-Liste'!$Q$5:$Q$204,"Gewonnen")-COUNTIFS('Follow-up-Liste'!$C$5:$C$204,A29,'Follow-up-Liste'!$Q$5:$Q$204,"Verloren")) | C29: =IF(A29="","",COUNTIFS('Follow-up-Liste'!$C$5:$C$204,A29,'Follow-up-Liste'!$U$5:$U$204,"Überfällig")) | D29: =IF(A29="","",COUNTIFS('Follow-up-Liste'!$C$5:$C$204,A29,'Follow-up-Liste'!$U$5:$U$204,"Fällig heute"))
A30: =IF('Listen'!A7="","",'Listen'!A7) | B30: =IF(A30="","",COUNTIF('Follow-up-Liste'!$C$5:$C$204,A30)-COUNTIFS('Follow-up-Liste'!$C$5:$C$204,A30,'Follow-up-Liste'!$Q$5:$Q$204,"Gewonnen")-COUNTIFS('Follow-up-Liste'!$C$5:$C$204,A30,'Follow-up-Liste'!$Q$5:$Q$204,"Verloren")) | C30: =IF(A30="","",COUNTIFS('Follow-up-Liste'!$C$5:$C$204,A30,'Follow-up-Liste'!$U$5:$U$204,"Überfällig")) | D30: =IF(A30="","",COUNTIFS('Follow-up-Liste'!$C$5:$C$204,A30,'Follow-up-Liste'!$U$5:$U$204,"Fällig heute"))
A31: =IF('Listen'!A8="","",'Listen'!A8) | B31: =IF(A31="","",COUNTIF('Follow-up-Liste'!$C$5:$C$204,A31)-COUNTIFS('Follow-up-Liste'!$C$5:$C$204,A31,'Follow-up-Liste'!$Q$5:$Q$204,"Gewonnen")-COUNTIFS('Follow-up-Liste'!$C$5:$C$204,A31,'Follow-up-Liste'!$Q$5:$Q$204,"Verloren")) | C31: =IF(A31="","",COUNTIFS('Follow-up-Liste'!$C$5:$C$204,A31,'Follow-up-Liste'!$U$5:$U$204,"Überfällig")) | D31: =IF(A31="","",COUNTIFS('Follow-up-Liste'!$C$5:$C$204,A31,'Follow-up-Liste'!$U$5:$U$204,"Fällig heute"))
A32: =IF('Listen'!A9="","",'Listen'!A9) | B32: =IF(A32="","",COUNTIF('Follow-up-Liste'!$C$5:$C$204,A32)-COUNTIFS('Follow-up-Liste'!$C$5:$C$204,A32,'Follow-up-Liste'!$Q$5:$Q$204,"Gewonnen")-COUNTIFS('Follow-up-Liste'!$C$5:$C$204,A32,'Follow-up-Liste'!$Q$5:$Q$204,"Verloren")) | C32: =IF(A32="","",COUNTIFS('Follow-up-Liste'!$C$5:$C$204,A32,'Follow-up-Liste'!$U$5:$U$204,"Überfällig")) | D32: =IF(A32="","",COUNTIFS('Follow-up-Liste'!$C$5:$C$204,A32,'Follow-up-Liste'!$U$5:$U$204,"Fällig heute"))
A33: =IF('Listen'!A10="","",'Listen'!A10) | B33: =IF(A33="","",COUNTIF('Follow-up-Liste'!$C$5:$C$204,A33)-COUNTIFS('Follow-up-Liste'!$C$5:$C$204,A33,'Follow-up-Liste'!$Q$5:$Q$204,"Gewonnen")-COUNTIFS('Follow-up-Liste'!$C$5:$C$204,A33,'Follow-up-Liste'!$Q$5:$Q$204,"Verloren")) | C33: =IF(A33="","",COUNTIFS('Follow-up-Liste'!$C$5:$C$204,A33,'Follow-up-Liste'!$U$5:$U$204,"Überfällig")) | D33: =IF(A33="","",COUNTIFS('Follow-up-Liste'!$C$5:$C$204,A33,'Follow-up-Liste'!$U$5:$U$204,"Fällig heute"))
A35: Kostenlose Vorlage von CRMsoftware.pro. Fiktive Beispieldaten.

Sheet Listen
A1: Listen und Zeitplan
A2: Ändern Sie hier die Namen der Verantwortlichen. Die Auswahllisten auf dem Blatt Follow-up-Liste nutzen diese Listen.
A4: Verantwortliche | B4: Antwort | C4: Ergebnis
A5: Kim | B5: Geantwortet | C5: Offen
A6: Dan | B6: Gespräch gebucht | C6: Gewonnen
B7: Nicht jetzt | C7: Verloren
B8: Abgesagt
A16: Die Sequenz
A17: Tag | B17: E-Mail | C17: Zweck | D17: Stoppen oder wechseln, wenn
A18: Tag 0 | B18: Angebot gesendet | C18: Das Angebot zusammenfassen und um ein 15-minütiges Gespräch bitten | D18: Gespräch gebucht: danach die Zusammenfassung senden
A19: Tag 2 | B19: Kurze Nachfrage | C19: Klären, ob es angekommen ist, und das Gespräch erneut anbieten | D19: Jede Antwort, ein gebuchtes Gespräch oder ein Nein
A20: Tag 5 | B20: Mehrwert bieten | C20: Etwas senden, das bei der Entscheidung hilft | D20: Jede Antwort, ein gebuchtes Gespräch oder ein Nein
A21: Tag 9 | B21: Keine Antwort | C21: Vier einfache Antworten anbieten, auch Nein | D21: Jede Antwort, auch „nicht jetzt“
A22: Tag 14 | B22: Vorgang schließen | C22: Höflich schließen und die Tür offen lassen | D22: 3 Werktage keine Antwort: Verloren
