Workbook

Sheet Tableau de routage
A1: Tableau de routage des chats
A2: Une ligne par sujet. Choisissez le responsable, le suppléant et la personne d’escalade dans l’équipe de la feuille Horaires. Statut et Chats enregistrés se remplissent seuls.
A4: Sujet | B4: Pages ou canal | C4: Urgence | D4: Responsable | E4: Suppléant | F4: Première réponse en heures ouvrées (minutes) | G4: Hors horaires : réponse avant (jour ouvré suivant) | H4: Escalade après (minutes) | I4: Escalade vers | J4: L’IA répond elle-même | K4: L’IA transfère quand | L4: Tag de conversation | M4: Statut | N4: Chats enregistrés
A5: Offres et prix | B5: Page d’accueil et page Tarifs | C5: Normale | D5: Theo | E5: Nadia | F5: 10 | G5: 0.375 | H5: 20 | I5: Nadia | J5: Prix des offres, repas par semaine, jours de livraison | K5: Une remise, ou une offre absente de la page Tarifs | L5: Ventes | M5: =IF(A5="","",IF(OR(D5="",F5="",G5=""),"Incomplète",IF(OR(E5="",E5=D5),"Sans suppléant","Prête"))) | N5: =IF(A5="","",COUNTIF('Journal des réponses'!$C$5:$C$204,A5)) | P5: Urgente
A6: Commandes entreprises et en gros | B6: Pages Tarifs et Contact | C6: Élevée | D6: Theo | E6: Nadia | F6: 10 | G6: 0.375 | H6: 20 | I6: Nadia | J6: Limites de repas par semaine, zone de livraison | K6: Plus de 6 repas par semaine, factures, contrats | L6: Commandes entreprises | M6: =IF(A6="","",IF(OR(D6="",F6="",G6=""),"Incomplète",IF(OR(E6="",E6=D6),"Sans suppléant","Prête"))) | N6: =IF(A6="","",COUNTIF('Journal des réponses'!$C$5:$C$204,A6)) | P6: Élevée
A7: Menu et ingrédients | B7: Pages produit | C7: Normale | D7: Theo | E7: Mara | F7: 10 | G7: 0.375 | H7: 20 | I7: Nadia | J7: Ingrédients et valeurs nutritionnelles de la page recette | K7: Toute question d’allergie ou de santé | L7: Menu | M7: =IF(A7="","",IF(OR(D7="",F7="",G7=""),"Incomplète",IF(OR(E7="",E7=D7),"Sans suppléant","Prête"))) | N7: =IF(A7="","",COUNTIF('Journal des réponses'!$C$5:$C$204,A7)) | P7: Normale
A8: Paiement en ligne | B8: Lien de paiement, centre d’aide | C8: Élevée | D8: Mara | E8: Theo | F8: 5 | G8: 0.375 | H8: 15 | I8: Nadia | J8: Moyens de paiement, codes promo | K8: Un paiement échoue deux fois, ou un double prélèvement | L8: Paiement | M8: =IF(A8="","",IF(OR(D8="",F8="",G8=""),"Incomplète",IF(OR(E8="",E8=D8),"Sans suppléant","Prête"))) | N8: =IF(A8="","",COUNTIF('Journal des réponses'!$C$5:$C$204,A8)) | P8: Faible
A9: Box manquante ou abîmée | B9: Centre d’aide | C9: Urgente | D9: Mara | E9: Theo | F9: 5 | G9: 0.375 | H9: 15 | I9: Nadia | J9: Jours de livraison, lien de suivi | K9: Toujours : une personne décide d’un avoir ou d’une nouvelle box | L9: Problème de livraison | M9: =IF(A9="","",IF(OR(D9="",F9="",G9=""),"Incomplète",IF(OR(E9="",E9=D9),"Sans suppléant","Prête"))) | N9: =IF(A9="","",COUNTIF('Journal des réponses'!$C$5:$C$204,A9))
A10: Facturation, pauses et résiliations | B10: Centre d’aide, WhatsApp | C10: Normale | D10: Mara | E10: Nadia | F10: 30 | G10: 0.375 | H10: 60 | I10: Nadia | J10: Date de facturation, comment sauter une livraison, suspendre ou résilier | K10: Remboursements, avoirs, contestations de prélèvement | L10: Facturation | M10: =IF(A10="","",IF(OR(D10="",F10="",G10=""),"Incomplète",IF(OR(E10="",E10=D10),"Sans suppléant","Prête"))) | N10: =IF(A10="","",COUNTIF('Journal des réponses'!$C$5:$C$204,A10))
A11: Partenariats et presse | B11: Page Contact | C11: Faible | D11: Nadia | E11: Theo | F11: 240 | G11: 0.5 | J11: Informations sur l’entreprise, e-mail du contact presse | K11: Toutes les demandes | L11: Partenariats | M11: =IF(A11="","",IF(OR(D11="",F11="",G11=""),"Incomplète",IF(OR(E11="",E11=D11),"Sans suppléant","Prête"))) | N11: =IF(A11="","",COUNTIF('Journal des réponses'!$C$5:$C$204,A11))
M12: =IF(A12="","",IF(OR(D12="",F12="",G12=""),"Incomplète",IF(OR(E12="",E12=D12),"Sans suppléant","Prête"))) | N12: =IF(A12="","",COUNTIF('Journal des réponses'!$C$5:$C$204,A12))
M13: =IF(A13="","",IF(OR(D13="",F13="",G13=""),"Incomplète",IF(OR(E13="",E13=D13),"Sans suppléant","Prête"))) | N13: =IF(A13="","",COUNTIF('Journal des réponses'!$C$5:$C$204,A13))
M14: =IF(A14="","",IF(OR(D14="",F14="",G14=""),"Incomplète",IF(OR(E14="",E14=D14),"Sans suppléant","Prête"))) | N14: =IF(A14="","",COUNTIF('Journal des réponses'!$C$5:$C$204,A14))
M15: =IF(A15="","",IF(OR(D15="",F15="",G15=""),"Incomplète",IF(OR(E15="",E15=D15),"Sans suppléant","Prête"))) | N15: =IF(A15="","",COUNTIF('Journal des réponses'!$C$5:$C$204,A15))
M16: =IF(A16="","",IF(OR(D16="",F16="",G16=""),"Incomplète",IF(OR(E16="",E16=D16),"Sans suppléant","Prête"))) | N16: =IF(A16="","",COUNTIF('Journal des réponses'!$C$5:$C$204,A16))
M17: =IF(A17="","",IF(OR(D17="",F17="",G17=""),"Incomplète",IF(OR(E17="",E17=D17),"Sans suppléant","Prête"))) | N17: =IF(A17="","",COUNTIF('Journal des réponses'!$C$5:$C$204,A17))
M18: =IF(A18="","",IF(OR(D18="",F18="",G18=""),"Incomplète",IF(OR(E18="",E18=D18),"Sans suppléant","Prête"))) | N18: =IF(A18="","",COUNTIF('Journal des réponses'!$C$5:$C$204,A18))
M19: =IF(A19="","",IF(OR(D19="",F19="",G19=""),"Incomplète",IF(OR(E19="",E19=D19),"Sans suppléant","Prête"))) | N19: =IF(A19="","",COUNTIF('Journal des réponses'!$C$5:$C$204,A19))
M20: =IF(A20="","",IF(OR(D20="",F20="",G20=""),"Incomplète",IF(OR(E20="",E20=D20),"Sans suppléant","Prête"))) | N20: =IF(A20="","",COUNTIF('Journal des réponses'!$C$5:$C$204,A20))
M21: =IF(A21="","",IF(OR(D21="",F21="",G21=""),"Incomplète",IF(OR(E21="",E21=D21),"Sans suppléant","Prête"))) | N21: =IF(A21="","",COUNTIF('Journal des réponses'!$C$5:$C$204,A21))
M22: =IF(A22="","",IF(OR(D22="",F22="",G22=""),"Incomplète",IF(OR(E22="",E22=D22),"Sans suppléant","Prête"))) | N22: =IF(A22="","",COUNTIF('Journal des réponses'!$C$5:$C$204,A22))
M23: =IF(A23="","",IF(OR(D23="",F23="",G23=""),"Incomplète",IF(OR(E23="",E23=D23),"Sans suppléant","Prête"))) | N23: =IF(A23="","",COUNTIF('Journal des réponses'!$C$5:$C$204,A23))
... M29: =IF(A29="","",IF(OR(D29="",F29="",G29=""),"Incomplète",IF(OR(E29="",E29=D29),"Sans suppléant","Prête"))) | N29: =IF(A29="","",COUNTIF('Journal des réponses'!$C$5:$C$204,A29))

Sheet Journal des réponses
A1: Journal des délais de réponse
A2: Une ligne par chat transféré à une personne. Copiez les deux heures depuis le chat. Urgence, Responsable, Heures ouvrées ?, Échéance de réponse, Minutes et À temps ? se remplissent seuls.
A4: Transféré à | B4: Source (bot et page, ou canal) | C4: Sujet | D4: Client | E4: Urgence | F4: Responsable | G4: Répondu par | H4: Première réponse humaine à | I4: Heures ouvrées ? | J4: Échéance de réponse | K4: Minutes avant la première réponse | L4: À temps ? | M4: Escaladé ? | N4: Note
A5: 46293.385 | B5: Bot de vente, page Tarifs | C5: Offres et prix | D5: Visiteur de Salem | E5: =IF(C5="","",IFERROR(VLOOKUP(C5,'Tableau de routage'!$A$5:$L$29,3,FALSE),"")) | F5: =IF(C5="","",IFERROR(VLOOKUP(C5,'Tableau de routage'!$A$5:$L$29,4,FALSE),"")) | G5: Theo | H5: 46293.388 | I5: =IF(A5="","",IF(AND(WEEKDAY(A5,2)<=5,COUNTIF('Horaires'!$A$9:$A$38,INT(A5))=0,MOD(A5,1)>='Horaires'!$B$4,MOD(A5,1)<'Horaires'!$B$5),"Oui","Non")) | J5: =IF(OR(A5="",C5=""),"",IFERROR(IF(I5="Oui",A5+VLOOKUP(C5,'Tableau de routage'!$A$5:$L$29,6,FALSE)/1440,IF(AND(WEEKDAY(A5,2)<=5,COUNTIF('Horaires'!$A$9:$A$38,INT(A5))=0,MOD(A5,1)<'Horaires'!$B$4),INT(A5),WORKDAY(INT(A5),1,'Horaires'!$A$9:$A$38))+VLOOKUP(C5,'Tableau de routage'!$A$5:$L$29,7,FALSE)),"")) | K5: =IF(OR(A5="",H5=""),"",ROUND((H5-A5)*1440,0)) | L5: =IF(OR(A5="",J5=""),"",IF(H5="",IF(NOW()>J5,"Sans réponse","En cours"),IF(ROUND((H5-J5)*1440,0)<=0,"À temps","En retard"))) | M5: Non | N5: A demandé une remise sur 2 box par semaine | P5: Oui
A6: 46293.569 | B6: Bot d’aide, centre d’aide | C6: Box manquante ou abîmée | D6: Erin Cho | E6: =IF(C6="","",IFERROR(VLOOKUP(C6,'Tableau de routage'!$A$5:$L$29,3,FALSE),"")) | F6: =IF(C6="","",IFERROR(VLOOKUP(C6,'Tableau de routage'!$A$5:$L$29,4,FALSE),"")) | G6: Mara | H6: 46293.572 | I6: =IF(A6="","",IF(AND(WEEKDAY(A6,2)<=5,COUNTIF('Horaires'!$A$9:$A$38,INT(A6))=0,MOD(A6,1)>='Horaires'!$B$4,MOD(A6,1)<'Horaires'!$B$5),"Oui","Non")) | J6: =IF(OR(A6="",C6=""),"",IFERROR(IF(I6="Oui",A6+VLOOKUP(C6,'Tableau de routage'!$A$5:$L$29,6,FALSE)/1440,IF(AND(WEEKDAY(A6,2)<=5,COUNTIF('Horaires'!$A$9:$A$38,INT(A6))=0,MOD(A6,1)<'Horaires'!$B$4),INT(A6),WORKDAY(INT(A6),1,'Horaires'!$A$9:$A$38))+VLOOKUP(C6,'Tableau de routage'!$A$5:$L$29,7,FALSE)),"")) | K6: =IF(OR(A6="",H6=""),"",ROUND((H6-A6)*1440,0)) | L6: =IF(OR(A6="",J6=""),"",IF(H6="",IF(NOW()>J6,"Sans réponse","En cours"),IF(ROUND((H6-J6)*1440,0)<=0,"À temps","En retard"))) | M6: Non | N6: Box laissée devant la porte d’un voisin | P6: Non
A7: 46294.703 | B7: Bot d’aide, lien de paiement | C7: Paiement en ligne | D7: Sam Ortega | E7: =IF(C7="","",IFERROR(VLOOKUP(C7,'Tableau de routage'!$A$5:$L$29,3,FALSE),"")) | F7: =IF(C7="","",IFERROR(VLOOKUP(C7,'Tableau de routage'!$A$5:$L$29,4,FALSE),"")) | G7: Mara | H7: 46294.713 | I7: =IF(A7="","",IF(AND(WEEKDAY(A7,2)<=5,COUNTIF('Horaires'!$A$9:$A$38,INT(A7))=0,MOD(A7,1)>='Horaires'!$B$4,MOD(A7,1)<'Horaires'!$B$5),"Oui","Non")) | J7: =IF(OR(A7="",C7=""),"",IFERROR(IF(I7="Oui",A7+VLOOKUP(C7,'Tableau de routage'!$A$5:$L$29,6,FALSE)/1440,IF(AND(WEEKDAY(A7,2)<=5,COUNTIF('Horaires'!$A$9:$A$38,INT(A7))=0,MOD(A7,1)<'Horaires'!$B$4),INT(A7),WORKDAY(INT(A7),1,'Horaires'!$A$9:$A$38))+VLOOKUP(C7,'Tableau de routage'!$A$5:$L$29,7,FALSE)),"")) | K7: =IF(OR(A7="",H7=""),"",ROUND((H7-A7)*1440,0)) | L7: =IF(OR(A7="",J7=""),"",IF(H7="",IF(NOW()>J7,"Sans réponse","En cours"),IF(ROUND((H7-J7)*1440,0)<=0,"À temps","En retard"))) | M7: Non | N7: Carte refusée ; transféré 8 minutes avant la fermeture
A8: 46295.42 | B8: Bot de vente, page produit | C8: Menu et ingrédients | D8: Visiteur de Vancouver (État de Washington) | E8: =IF(C8="","",IFERROR(VLOOKUP(C8,'Tableau de routage'!$A$5:$L$29,3,FALSE),"")) | F8: =IF(C8="","",IFERROR(VLOOKUP(C8,'Tableau de routage'!$A$5:$L$29,4,FALSE),"")) | G8: Mara | H8: 46295.425 | I8: =IF(A8="","",IF(AND(WEEKDAY(A8,2)<=5,COUNTIF('Horaires'!$A$9:$A$38,INT(A8))=0,MOD(A8,1)>='Horaires'!$B$4,MOD(A8,1)<'Horaires'!$B$5),"Oui","Non")) | J8: =IF(OR(A8="",C8=""),"",IFERROR(IF(I8="Oui",A8+VLOOKUP(C8,'Tableau de routage'!$A$5:$L$29,6,FALSE)/1440,IF(AND(WEEKDAY(A8,2)<=5,COUNTIF('Horaires'!$A$9:$A$38,INT(A8))=0,MOD(A8,1)<'Horaires'!$B$4),INT(A8),WORKDAY(INT(A8),1,'Horaires'!$A$9:$A$38))+VLOOKUP(C8,'Tableau de routage'!$A$5:$L$29,7,FALSE)),"")) | K8: =IF(OR(A8="",H8=""),"",ROUND((H8-A8)*1440,0)) | L8: =IF(OR(A8="",J8=""),"",IF(H8="",IF(NOW()>J8,"Sans réponse","En cours"),IF(ROUND((H8-J8)*1440,0)<=0,"À temps","En retard"))) | M8: Non | N8: Question sur une allergie au sésame ; Theo en appel, le suppléant a répondu
A9: 46296.479 | B9: Bot d’aide, WhatsApp | C9: Facturation, pauses et résiliations | D9: Dev Patel | E9: =IF(C9="","",IFERROR(VLOOKUP(C9,'Tableau de routage'!$A$5:$L$29,3,FALSE),"")) | F9: =IF(C9="","",IFERROR(VLOOKUP(C9,'Tableau de routage'!$A$5:$L$29,4,FALSE),"")) | G9: Nadia | H9: 46296.522 | I9: =IF(A9="","",IF(AND(WEEKDAY(A9,2)<=5,COUNTIF('Horaires'!$A$9:$A$38,INT(A9))=0,MOD(A9,1)>='Horaires'!$B$4,MOD(A9,1)<'Horaires'!$B$5),"Oui","Non")) | J9: =IF(OR(A9="",C9=""),"",IFERROR(IF(I9="Oui",A9+VLOOKUP(C9,'Tableau de routage'!$A$5:$L$29,6,FALSE)/1440,IF(AND(WEEKDAY(A9,2)<=5,COUNTIF('Horaires'!$A$9:$A$38,INT(A9))=0,MOD(A9,1)<'Horaires'!$B$4),INT(A9),WORKDAY(INT(A9),1,'Horaires'!$A$9:$A$38))+VLOOKUP(C9,'Tableau de routage'!$A$5:$L$29,7,FALSE)),"")) | K9: =IF(OR(A9="",H9=""),"",ROUND((H9-A9)*1440,0)) | L9: =IF(OR(A9="",J9=""),"",IF(H9="",IF(NOW()>J9,"Sans réponse","En cours"),IF(ROUND((H9-J9)*1440,0)<=0,"À temps","En retard"))) | M9: Oui | N9: A demandé une facture ; Mara en visite chez un fournisseur
A10: 46297.823 | B10: Bot d’aide, centre d’aide | C10: Box manquante ou abîmée | D10: Owen Hale | E10: =IF(C10="","",IFERROR(VLOOKUP(C10,'Tableau de routage'!$A$5:$L$29,3,FALSE),"")) | F10: =IF(C10="","",IFERROR(VLOOKUP(C10,'Tableau de routage'!$A$5:$L$29,4,FALSE),"")) | G10: Mara | H10: 46300.363 | I10: =IF(A10="","",IF(AND(WEEKDAY(A10,2)<=5,COUNTIF('Horaires'!$A$9:$A$38,INT(A10))=0,MOD(A10,1)>='Horaires'!$B$4,MOD(A10,1)<'Horaires'!$B$5),"Oui","Non")) | J10: =IF(OR(A10="",C10=""),"",IFERROR(IF(I10="Oui",A10+VLOOKUP(C10,'Tableau de routage'!$A$5:$L$29,6,FALSE)/1440,IF(AND(WEEKDAY(A10,2)<=5,COUNTIF('Horaires'!$A$9:$A$38,INT(A10))=0,MOD(A10,1)<'Horaires'!$B$4),INT(A10),WORKDAY(INT(A10),1,'Horaires'!$A$9:$A$38))+VLOOKUP(C10,'Tableau de routage'!$A$5:$L$29,7,FALSE)),"")) | K10: =IF(OR(A10="",H10=""),"",ROUND((H10-A10)*1440,0)) | L10: =IF(OR(A10="",J10=""),"",IF(H10="",IF(NOW()>J10,"Sans réponse","En cours"),IF(ROUND((H10-J10)*1440,0)<=0,"À temps","En retard"))) | M10: Non | N10: Box abîmée le vendredi soir ; nouvelle box envoyée mardi
A11: 46298.431 | B11: Bot de vente, page Tarifs | C11: Offres et prix | D11: Visiteur d’Eugene | E11: =IF(C11="","",IFERROR(VLOOKUP(C11,'Tableau de routage'!$A$5:$L$29,3,FALSE),"")) | F11: =IF(C11="","",IFERROR(VLOOKUP(C11,'Tableau de routage'!$A$5:$L$29,4,FALSE),"")) | I11: =IF(A11="","",IF(AND(WEEKDAY(A11,2)<=5,COUNTIF('Horaires'!$A$9:$A$38,INT(A11))=0,MOD(A11,1)>='Horaires'!$B$4,MOD(A11,1)<'Horaires'!$B$5),"Oui","Non")) | J11: =IF(OR(A11="",C11=""),"",IFERROR(IF(I11="Oui",A11+VLOOKUP(C11,'Tableau de routage'!$A$5:$L$29,6,FALSE)/1440,IF(AND(WEEKDAY(A11,2)<=5,COUNTIF('Horaires'!$A$9:$A$38,INT(A11))=0,MOD(A11,1)<'Horaires'!$B$4),INT(A11),WORKDAY(INT(A11),1,'Horaires'!$A$9:$A$38))+VLOOKUP(C11,'Tableau de routage'!$A$5:$L$29,7,FALSE)),"")) | K11: =IF(OR(A11="",H11=""),"",ROUND((H11-A11)*1440,0)) | L11: =IF(OR(A11="",J11=""),"",IF(H11="",IF(NOW()>J11,"Sans réponse","En cours"),IF(ROUND((H11-J11)*1440,0)<=0,"À temps","En retard"))) | M11: Non | N11: N’a pas laissé d’e-mail ; repéré lors du contrôle hebdomadaire
A12: 46300.34 | B12: Bot d’aide, centre d’aide | C12: Facturation, pauses et résiliations | D12: Ruth Adler | E12: =IF(C12="","",IFERROR(VLOOKUP(C12,'Tableau de routage'!$A$5:$L$29,3,FALSE),"")) | F12: =IF(C12="","",IFERROR(VLOOKUP(C12,'Tableau de routage'!$A$5:$L$29,4,FALSE),"")) | G12: Mara | H12: 46300.355 | I12: =IF(A12="","",IF(AND(WEEKDAY(A12,2)<=5,COUNTIF('Horaires'!$A$9:$A$38,INT(A12))=0,MOD(A12,1)>='Horaires'!$B$4,MOD(A12,1)<'Horaires'!$B$5),"Oui","Non")) | J12: =IF(OR(A12="",C12=""),"",IFERROR(IF(I12="Oui",A12+VLOOKUP(C12,'Tableau de routage'!$A$5:$L$29,6,FALSE)/1440,IF(AND(WEEKDAY(A12,2)<=5,COUNTIF('Horaires'!$A$9:$A$38,INT(A12))=0,MOD(A12,1)<'Horaires'!$B$4),INT(A12),WORKDAY(INT(A12),1,'Horaires'!$A$9:$A$38))+VLOOKUP(C12,'Tableau de routage'!$A$5:$L$29,7,FALSE)),"")) | K12: =IF(OR(A12="",H12=""),"",ROUND((H12-A12)*1440,0)) | L12: =IF(OR(A12="",J12=""),"",IF(H12="",IF(NOW()>J12,"Sans réponse","En cours"),IF(ROUND((H12-J12)*1440,0)<=0,"À temps","En retard"))) | M12: Non | N12: Pause de 2 semaines
A13: 46300.626 | B13: Bot de vente, page Tarifs | C13: Commandes entreprises et en gros | D13: Leo Grant, Ash Street Studios | E13: =IF(C13="","",IFERROR(VLOOKUP(C13,'Tableau de routage'!$A$5:$L$29,3,FALSE),"")) | F13: =IF(C13="","",IFERROR(VLOOKUP(C13,'Tableau de routage'!$A$5:$L$29,4,FALSE),"")) | G13: Nadia | H13: 46300.642 | I13: =IF(A13="","",IF(AND(WEEKDAY(A13,2)<=5,COUNTIF('Horaires'!$A$9:$A$38,INT(A13))=0,MOD(A13,1)>='Horaires'!$B$4,MOD(A13,1)<'Horaires'!$B$5),"Oui","Non")) | J13: =IF(OR(A13="",C13=""),"",IFERROR(IF(I13="Oui",A13+VLOOKUP(C13,'Tableau de routage'!$A$5:$L$29,6,FALSE)/1440,IF(AND(WEEKDAY(A13,2)<=5,COUNTIF('Horaires'!$A$9:$A$38,INT(A13))=0,MOD(A13,1)<'Horaires'!$B$4),INT(A13),WORKDAY(INT(A13),1,'Horaires'!$A$9:$A$38))+VLOOKUP(C13,'Tableau de routage'!$A$5:$L$29,7,FALSE)),"")) | K13: =IF(OR(A13="",H13=""),"",ROUND((H13-A13)*1440,0)) | L13: =IF(OR(A13="",J13=""),"",IF(H13="",IF(NOW()>J13,"Sans réponse","En cours"),IF(ROUND((H13-J13)*1440,0)<=0,"À temps","En retard"))) | M13: Oui | N13: Theo en livraison ; Nadia a répondu après le délai d’escalade
A14: 46301.51 | B14: Bot d’aide, lien de paiement | C14: Paiement en ligne | D14: Ivy Chen | E14: =IF(C14="","",IFERROR(VLOOKUP(C14,'Tableau de routage'!$A$5:$L$29,3,FALSE),"")) | F14: =IF(C14="","",IFERROR(VLOOKUP(C14,'Tableau de routage'!$A$5:$L$29,4,FALSE),"")) | G14: Mara | H14: 46301.512 | I14: =IF(A14="","",IF(AND(WEEKDAY(A14,2)<=5,COUNTIF('Horaires'!$A$9:$A$38,INT(A14))=0,MOD(A14,1)>='Horaires'!$B$4,MOD(A14,1)<'Horaires'!$B$5),"Oui","Non")) | J14: =IF(OR(A14="",C14=""),"",IFERROR(IF(I14="Oui",A14+VLOOKUP(C14,'Tableau de routage'!$A$5:$L$29,6,FALSE)/1440,IF(AND(WEEKDAY(A14,2)<=5,COUNTIF('Horaires'!$A$9:$A$38,INT(A14))=0,MOD(A14,1)<'Horaires'!$B$4),INT(A14),WORKDAY(INT(A14),1,'Horaires'!$A$9:$A$38))+VLOOKUP(C14,'Tableau de routage'!$A$5:$L$29,7,FALSE)),"")) | K14: =IF(OR(A14="",H14=""),"",ROUND((H14-A14)*1440,0)) | L14: =IF(OR(A14="",J14=""),"",IF(H14="",IF(NOW()>J14,"Sans réponse","En cours"),IF(ROUND((H14-J14)*1440,0)<=0,"À temps","En retard"))) | M14: Non | N14: Code promo expiré
A15: 46302.408 | B15: Bot d’aide, centre d’aide | C15: Box manquante ou abîmée | D15: Paul Novak | E15: =IF(C15="","",IFERROR(VLOOKUP(C15,'Tableau de routage'!$A$5:$L$29,3,FALSE),"")) | F15: =IF(C15="","",IFERROR(VLOOKUP(C15,'Tableau de routage'!$A$5:$L$29,4,FALSE),"")) | G15: Theo | H15: 46302.411 | I15: =IF(A15="","",IF(AND(WEEKDAY(A15,2)<=5,COUNTIF('Horaires'!$A$9:$A$38,INT(A15))=0,MOD(A15,1)>='Horaires'!$B$4,MOD(A15,1)<'Horaires'!$B$5),"Oui","Non")) | J15: =IF(OR(A15="",C15=""),"",IFERROR(IF(I15="Oui",A15+VLOOKUP(C15,'Tableau de routage'!$A$5:$L$29,6,FALSE)/1440,IF(AND(WEEKDAY(A15,2)<=5,COUNTIF('Horaires'!$A$9:$A$38,INT(A15))=0,MOD(A15,1)<'Horaires'!$B$4),INT(A15),WORKDAY(INT(A15),1,'Horaires'!$A$9:$A$38))+VLOOKUP(C15,'Tableau de routage'!$A$5:$L$29,7,FALSE)),"")) | K15: =IF(OR(A15="",H15=""),"",ROUND((H15-A15)*1440,0)) | L15: =IF(OR(A15="",J15=""),"",IF(H15="",IF(NOW()>J15,"Sans réponse","En cours"),IF(ROUND((H15-J15)*1440,0)<=0,"À temps","En retard"))) | M15: Non | N15: Mara en arrêt maladie ; le suppléant a répondu
A16: 46302.771 | B16: Bot d’aide, page Contact | C16: Partenariats et presse | D16: Rivertown Food Co-op | E16: =IF(C16="","",IFERROR(VLOOKUP(C16,'Tableau de routage'!$A$5:$L$29,3,FALSE),"")) | F16: =IF(C16="","",IFERROR(VLOOKUP(C16,'Tableau de routage'!$A$5:$L$29,4,FALSE),"")) | G16: Nadia | H16: 46303.444 | I16: =IF(A16="","",IF(AND(WEEKDAY(A16,2)<=5,COUNTIF('Horaires'!$A$9:$A$38,INT(A16))=0,MOD(A16,1)>='Horaires'!$B$4,MOD(A16,1)<'Horaires'!$B$5),"Oui","Non")) | J16: =IF(OR(A16="",C16=""),"",IFERROR(IF(I16="Oui",A16+VLOOKUP(C16,'Tableau de routage'!$A$5:$L$29,6,FALSE)/1440,IF(AND(WEEKDAY(A16,2)<=5,COUNTIF('Horaires'!$A$9:$A$38,INT(A16))=0,MOD(A16,1)<'Horaires'!$B$4),INT(A16),WORKDAY(INT(A16),1,'Horaires'!$A$9:$A$38))+VLOOKUP(C16,'Tableau de routage'!$A$5:$L$29,7,FALSE)),"")) | K16: =IF(OR(A16="",H16=""),"",ROUND((H16-A16)*1440,0)) | L16: =IF(OR(A16="",J16=""),"",IF(H16="",IF(NOW()>J16,"Sans réponse","En cours"),IF(ROUND((H16-J16)*1440,0)<=0,"À temps","En retard"))) | M16: Non | N16: Question sur la vente en gros
A17: 46303.494 | B17: Bot de vente, page Tarifs | C17: Commandes entreprises et en gros | D17: Jordan Ellis, Fieldnote Architects | E17: =IF(C17="","",IFERROR(VLOOKUP(C17,'Tableau de routage'!$A$5:$L$29,3,FALSE),"")) | F17: =IF(C17="","",IFERROR(VLOOKUP(C17,'Tableau de routage'!$A$5:$L$29,4,FALSE),"")) | G17: Theo | H17: 46303.497 | I17: =IF(A17="","",IF(AND(WEEKDAY(A17,2)<=5,COUNTIF('Horaires'!$A$9:$A$38,INT(A17))=0,MOD(A17,1)>='Horaires'!$B$4,MOD(A17,1)<'Horaires'!$B$5),"Oui","Non")) | J17: =IF(OR(A17="",C17=""),"",IFERROR(IF(I17="Oui",A17+VLOOKUP(C17,'Tableau de routage'!$A$5:$L$29,6,FALSE)/1440,IF(AND(WEEKDAY(A17,2)<=5,COUNTIF('Horaires'!$A$9:$A$38,INT(A17))=0,MOD(A17,1)<'Horaires'!$B$4),INT(A17),WORKDAY(INT(A17),1,'Horaires'!$A$9:$A$38))+VLOOKUP(C17,'Tableau de routage'!$A$5:$L$29,7,FALSE)),"")) | K17: =IF(OR(A17="",H17=""),"",ROUND((H17-A17)*1440,0)) | L17: =IF(OR(A17="",J17=""),"",IF(H17="",IF(NOW()>J17,"Sans réponse","En cours"),IF(ROUND((H17-J17)*1440,0)<=0,"À temps","En retard"))) | M17: Non | N17: Déjeuners au bureau pour 24 ; appel avec Nadia à 14 h 30
A18: 46304.681 | B18: Bot d’aide, WhatsApp | C18: Facturation, pauses et résiliations | D18: Nora Diaz | E18: =IF(C18="","",IFERROR(VLOOKUP(C18,'Tableau de routage'!$A$5:$L$29,3,FALSE),"")) | F18: =IF(C18="","",IFERROR(VLOOKUP(C18,'Tableau de routage'!$A$5:$L$29,4,FALSE),"")) | G18: Mara | H18: 46304.695 | I18: =IF(A18="","",IF(AND(WEEKDAY(A18,2)<=5,COUNTIF('Horaires'!$A$9:$A$38,INT(A18))=0,MOD(A18,1)>='Horaires'!$B$4,MOD(A18,1)<'Horaires'!$B$5),"Oui","Non")) | J18: =IF(OR(A18="",C18=""),"",IFERROR(IF(I18="Oui",A18+VLOOKUP(C18,'Tableau de routage'!$A$5:$L$29,6,FALSE)/1440,IF(AND(WEEKDAY(A18,2)<=5,COUNTIF('Horaires'!$A$9:$A$38,INT(A18))=0,MOD(A18,1)<'Horaires'!$B$4),INT(A18),WORKDAY(INT(A18),1,'Horaires'!$A$9:$A$38))+VLOOKUP(C18,'Tableau de routage'!$A$5:$L$29,7,FALSE)),"")) | K18: =IF(OR(A18="",H18=""),"",ROUND((H18-A18)*1440,0)) | L18: =IF(OR(A18="",J18=""),"",IF(H18="",IF(NOW()>J18,"Sans réponse","En cours"),IF(ROUND((H18-J18)*1440,0)<=0,"À temps","En retard"))) | M18: Non | N18: A changé sa date de facturation
E19: =IF(C19="","",IFERROR(VLOOKUP(C19,'Tableau de routage'!$A$5:$L$29,3,FALSE),"")) | F19: =IF(C19="","",IFERROR(VLOOKUP(C19,'Tableau de routage'!$A$5:$L$29,4,FALSE),"")) | I19: =IF(A19="","",IF(AND(WEEKDAY(A19,2)<=5,COUNTIF('Horaires'!$A$9:$A$38,INT(A19))=0,MOD(A19,1)>='Horaires'!$B$4,MOD(A19,1)<'Horaires'!$B$5),"Oui","Non")) | J19: =IF(OR(A19="",C19=""),"",IFERROR(IF(I19="Oui",A19+VLOOKUP(C19,'Tableau de routage'!$A$5:$L$29,6,FALSE)/1440,IF(AND(WEEKDAY(A19,2)<=5,COUNTIF('Horaires'!$A$9:$A$38,INT(A19))=0,MOD(A19,1)<'Horaires'!$B$4),INT(A19),WORKDAY(INT(A19),1,'Horaires'!$A$9:$A$38))+VLOOKUP(C19,'Tableau de routage'!$A$5:$L$29,7,FALSE)),"")) | K19: =IF(OR(A19="",H19=""),"",ROUND((H19-A19)*1440,0)) | L19: =IF(OR(A19="",J19=""),"",IF(H19="",IF(NOW()>J19,"Sans réponse","En cours"),IF(ROUND((H19-J19)*1440,0)<=0,"À temps","En retard")))
E20: =IF(C20="","",IFERROR(VLOOKUP(C20,'Tableau de routage'!$A$5:$L$29,3,FALSE),"")) | F20: =IF(C20="","",IFERROR(VLOOKUP(C20,'Tableau de routage'!$A$5:$L$29,4,FALSE),"")) | I20: =IF(A20="","",IF(AND(WEEKDAY(A20,2)<=5,COUNTIF('Horaires'!$A$9:$A$38,INT(A20))=0,MOD(A20,1)>='Horaires'!$B$4,MOD(A20,1)<'Horaires'!$B$5),"Oui","Non")) | J20: =IF(OR(A20="",C20=""),"",IFERROR(IF(I20="Oui",A20+VLOOKUP(C20,'Tableau de routage'!$A$5:$L$29,6,FALSE)/1440,IF(AND(WEEKDAY(A20,2)<=5,COUNTIF('Horaires'!$A$9:$A$38,INT(A20))=0,MOD(A20,1)<'Horaires'!$B$4),INT(A20),WORKDAY(INT(A20),1,'Horaires'!$A$9:$A$38))+VLOOKUP(C20,'Tableau de routage'!$A$5:$L$29,7,FALSE)),"")) | K20: =IF(OR(A20="",H20=""),"",ROUND((H20-A20)*1440,0)) | L20: =IF(OR(A20="",J20=""),"",IF(H20="",IF(NOW()>J20,"Sans réponse","En cours"),IF(ROUND((H20-J20)*1440,0)<=0,"À temps","En retard")))
E21: =IF(C21="","",IFERROR(VLOOKUP(C21,'Tableau de routage'!$A$5:$L$29,3,FALSE),"")) | F21: =IF(C21="","",IFERROR(VLOOKUP(C21,'Tableau de routage'!$A$5:$L$29,4,FALSE),"")) | I21: =IF(A21="","",IF(AND(WEEKDAY(A21,2)<=5,COUNTIF('Horaires'!$A$9:$A$38,INT(A21))=0,MOD(A21,1)>='Horaires'!$B$4,MOD(A21,1)<'Horaires'!$B$5),"Oui","Non")) | J21: =IF(OR(A21="",C21=""),"",IFERROR(IF(I21="Oui",A21+VLOOKUP(C21,'Tableau de routage'!$A$5:$L$29,6,FALSE)/1440,IF(AND(WEEKDAY(A21,2)<=5,COUNTIF('Horaires'!$A$9:$A$38,INT(A21))=0,MOD(A21,1)<'Horaires'!$B$4),INT(A21),WORKDAY(INT(A21),1,'Horaires'!$A$9:$A$38))+VLOOKUP(C21,'Tableau de routage'!$A$5:$L$29,7,FALSE)),"")) | K21: =IF(OR(A21="",H21=""),"",ROUND((H21-A21)*1440,0)) | L21: =IF(OR(A21="",J21=""),"",IF(H21="",IF(NOW()>J21,"Sans réponse","En cours"),IF(ROUND((H21-J21)*1440,0)<=0,"À temps","En retard")))
E22: =IF(C22="","",IFERROR(VLOOKUP(C22,'Tableau de routage'!$A$5:$L$29,3,FALSE),"")) | F22: =IF(C22="","",IFERROR(VLOOKUP(C22,'Tableau de routage'!$A$5:$L$29,4,FALSE),"")) | I22: =IF(A22="","",IF(AND(WEEKDAY(A22,2)<=5,COUNTIF('Horaires'!$A$9:$A$38,INT(A22))=0,MOD(A22,1)>='Horaires'!$B$4,MOD(A22,1)<'Horaires'!$B$5),"Oui","Non")) | J22: =IF(OR(A22="",C22=""),"",IFERROR(IF(I22="Oui",A22+VLOOKUP(C22,'Tableau de routage'!$A$5:$L$29,6,FALSE)/1440,IF(AND(WEEKDAY(A22,2)<=5,COUNTIF('Horaires'!$A$9:$A$38,INT(A22))=0,MOD(A22,1)<'Horaires'!$B$4),INT(A22),WORKDAY(INT(A22),1,'Horaires'!$A$9:$A$38))+VLOOKUP(C22,'Tableau de routage'!$A$5:$L$29,7,FALSE)),"")) | K22: =IF(OR(A22="",H22=""),"",ROUND((H22-A22)*1440,0)) | L22: =IF(OR(A22="",J22=""),"",IF(H22="",IF(NOW()>J22,"Sans réponse","En cours"),IF(ROUND((H22-J22)*1440,0)<=0,"À temps","En retard")))
E23: =IF(C23="","",IFERROR(VLOOKUP(C23,'Tableau de routage'!$A$5:$L$29,3,FALSE),"")) | F23: =IF(C23="","",IFERROR(VLOOKUP(C23,'Tableau de routage'!$A$5:$L$29,4,FALSE),"")) | I23: =IF(A23="","",IF(AND(WEEKDAY(A23,2)<=5,COUNTIF('Horaires'!$A$9:$A$38,INT(A23))=0,MOD(A23,1)>='Horaires'!$B$4,MOD(A23,1)<'Horaires'!$B$5),"Oui","Non")) | J23: =IF(OR(A23="",C23=""),"",IFERROR(IF(I23="Oui",A23+VLOOKUP(C23,'Tableau de routage'!$A$5:$L$29,6,FALSE)/1440,IF(AND(WEEKDAY(A23,2)<=5,COUNTIF('Horaires'!$A$9:$A$38,INT(A23))=0,MOD(A23,1)<'Horaires'!$B$4),INT(A23),WORKDAY(INT(A23),1,'Horaires'!$A$9:$A$38))+VLOOKUP(C23,'Tableau de routage'!$A$5:$L$29,7,FALSE)),"")) | K23: =IF(OR(A23="",H23=""),"",ROUND((H23-A23)*1440,0)) | L23: =IF(OR(A23="",J23=""),"",IF(H23="",IF(NOW()>J23,"Sans réponse","En cours"),IF(ROUND((H23-J23)*1440,0)<=0,"À temps","En retard")))
E24: =IF(C24="","",IFERROR(VLOOKUP(C24,'Tableau de routage'!$A$5:$L$29,3,FALSE),"")) | F24: =IF(C24="","",IFERROR(VLOOKUP(C24,'Tableau de routage'!$A$5:$L$29,4,FALSE),"")) | I24: =IF(A24="","",IF(AND(WEEKDAY(A24,2)<=5,COUNTIF('Horaires'!$A$9:$A$38,INT(A24))=0,MOD(A24,1)>='Horaires'!$B$4,MOD(A24,1)<'Horaires'!$B$5),"Oui","Non")) | J24: =IF(OR(A24="",C24=""),"",IFERROR(IF(I24="Oui",A24+VLOOKUP(C24,'Tableau de routage'!$A$5:$L$29,6,FALSE)/1440,IF(AND(WEEKDAY(A24,2)<=5,COUNTIF('Horaires'!$A$9:$A$38,INT(A24))=0,MOD(A24,1)<'Horaires'!$B$4),INT(A24),WORKDAY(INT(A24),1,'Horaires'!$A$9:$A$38))+VLOOKUP(C24,'Tableau de routage'!$A$5:$L$29,7,FALSE)),"")) | K24: =IF(OR(A24="",H24=""),"",ROUND((H24-A24)*1440,0)) | L24: =IF(OR(A24="",J24=""),"",IF(H24="",IF(NOW()>J24,"Sans réponse","En cours"),IF(ROUND((H24-J24)*1440,0)<=0,"À temps","En retard")))
E25: =IF(C25="","",IFERROR(VLOOKUP(C25,'Tableau de routage'!$A$5:$L$29,3,FALSE),"")) | F25: =IF(C25="","",IFERROR(VLOOKUP(C25,'Tableau de routage'!$A$5:$L$29,4,FALSE),"")) | I25: =IF(A25="","",IF(AND(WEEKDAY(A25,2)<=5,COUNTIF('Horaires'!$A$9:$A$38,INT(A25))=0,MOD(A25,1)>='Horaires'!$B$4,MOD(A25,1)<'Horaires'!$B$5),"Oui","Non")) | J25: =IF(OR(A25="",C25=""),"",IFERROR(IF(I25="Oui",A25+VLOOKUP(C25,'Tableau de routage'!$A$5:$L$29,6,FALSE)/1440,IF(AND(WEEKDAY(A25,2)<=5,COUNTIF('Horaires'!$A$9:$A$38,INT(A25))=0,MOD(A25,1)<'Horaires'!$B$4),INT(A25),WORKDAY(INT(A25),1,'Horaires'!$A$9:$A$38))+VLOOKUP(C25,'Tableau de routage'!$A$5:$L$29,7,FALSE)),"")) | K25: =IF(OR(A25="",H25=""),"",ROUND((H25-A25)*1440,0)) | L25: =IF(OR(A25="",J25=""),"",IF(H25="",IF(NOW()>J25,"Sans réponse","En cours"),IF(ROUND((H25-J25)*1440,0)<=0,"À temps","En retard")))
E26: =IF(C26="","",IFERROR(VLOOKUP(C26,'Tableau de routage'!$A$5:$L$29,3,FALSE),"")) | F26: =IF(C26="","",IFERROR(VLOOKUP(C26,'Tableau de routage'!$A$5:$L$29,4,FALSE),"")) | I26: =IF(A26="","",IF(AND(WEEKDAY(A26,2)<=5,COUNTIF('Horaires'!$A$9:$A$38,INT(A26))=0,MOD(A26,1)>='Horaires'!$B$4,MOD(A26,1)<'Horaires'!$B$5),"Oui","Non")) | J26: =IF(OR(A26="",C26=""),"",IFERROR(IF(I26="Oui",A26+VLOOKUP(C26,'Tableau de routage'!$A$5:$L$29,6,FALSE)/1440,IF(AND(WEEKDAY(A26,2)<=5,COUNTIF('Horaires'!$A$9:$A$38,INT(A26))=0,MOD(A26,1)<'Horaires'!$B$4),INT(A26),WORKDAY(INT(A26),1,'Horaires'!$A$9:$A$38))+VLOOKUP(C26,'Tableau de routage'!$A$5:$L$29,7,FALSE)),"")) | K26: =IF(OR(A26="",H26=""),"",ROUND((H26-A26)*1440,0)) | L26: =IF(OR(A26="",J26=""),"",IF(H26="",IF(NOW()>J26,"Sans réponse","En cours"),IF(ROUND((H26-J26)*1440,0)<=0,"À temps","En retard")))
E27: =IF(C27="","",IFERROR(VLOOKUP(C27,'Tableau de routage'!$A$5:$L$29,3,FALSE),"")) | F27: =IF(C27="","",IFERROR(VLOOKUP(C27,'Tableau de routage'!$A$5:$L$29,4,FALSE),"")) | I27: =IF(A27="","",IF(AND(WEEKDAY(A27,2)<=5,COUNTIF('Horaires'!$A$9:$A$38,INT(A27))=0,MOD(A27,1)>='Horaires'!$B$4,MOD(A27,1)<'Horaires'!$B$5),"Oui","Non")) | J27: =IF(OR(A27="",C27=""),"",IFERROR(IF(I27="Oui",A27+VLOOKUP(C27,'Tableau de routage'!$A$5:$L$29,6,FALSE)/1440,IF(AND(WEEKDAY(A27,2)<=5,COUNTIF('Horaires'!$A$9:$A$38,INT(A27))=0,MOD(A27,1)<'Horaires'!$B$4),INT(A27),WORKDAY(INT(A27),1,'Horaires'!$A$9:$A$38))+VLOOKUP(C27,'Tableau de routage'!$A$5:$L$29,7,FALSE)),"")) | K27: =IF(OR(A27="",H27=""),"",ROUND((H27-A27)*1440,0)) | L27: =IF(OR(A27="",J27=""),"",IF(H27="",IF(NOW()>J27,"Sans réponse","En cours"),IF(ROUND((H27-J27)*1440,0)<=0,"À temps","En retard")))
E28: =IF(C28="","",IFERROR(VLOOKUP(C28,'Tableau de routage'!$A$5:$L$29,3,FALSE),"")) | F28: =IF(C28="","",IFERROR(VLOOKUP(C28,'Tableau de routage'!$A$5:$L$29,4,FALSE),"")) | I28: =IF(A28="","",IF(AND(WEEKDAY(A28,2)<=5,COUNTIF('Horaires'!$A$9:$A$38,INT(A28))=0,MOD(A28,1)>='Horaires'!$B$4,MOD(A28,1)<'Horaires'!$B$5),"Oui","Non")) | J28: =IF(OR(A28="",C28=""),"",IFERROR(IF(I28="Oui",A28+VLOOKUP(C28,'Tableau de routage'!$A$5:$L$29,6,FALSE)/1440,IF(AND(WEEKDAY(A28,2)<=5,COUNTIF('Horaires'!$A$9:$A$38,INT(A28))=0,MOD(A28,1)<'Horaires'!$B$4),INT(A28),WORKDAY(INT(A28),1,'Horaires'!$A$9:$A$38))+VLOOKUP(C28,'Tableau de routage'!$A$5:$L$29,7,FALSE)),"")) | K28: =IF(OR(A28="",H28=""),"",ROUND((H28-A28)*1440,0)) | L28: =IF(OR(A28="",J28=""),"",IF(H28="",IF(NOW()>J28,"Sans réponse","En cours"),IF(ROUND((H28-J28)*1440,0)<=0,"À temps","En retard")))
E29: =IF(C29="","",IFERROR(VLOOKUP(C29,'Tableau de routage'!$A$5:$L$29,3,FALSE),"")) | F29: =IF(C29="","",IFERROR(VLOOKUP(C29,'Tableau de routage'!$A$5:$L$29,4,FALSE),"")) | I29: =IF(A29="","",IF(AND(WEEKDAY(A29,2)<=5,COUNTIF('Horaires'!$A$9:$A$38,INT(A29))=0,MOD(A29,1)>='Horaires'!$B$4,MOD(A29,1)<'Horaires'!$B$5),"Oui","Non")) | J29: =IF(OR(A29="",C29=""),"",IFERROR(IF(I29="Oui",A29+VLOOKUP(C29,'Tableau de routage'!$A$5:$L$29,6,FALSE)/1440,IF(AND(WEEKDAY(A29,2)<=5,COUNTIF('Horaires'!$A$9:$A$38,INT(A29))=0,MOD(A29,1)<'Horaires'!$B$4),INT(A29),WORKDAY(INT(A29),1,'Horaires'!$A$9:$A$38))+VLOOKUP(C29,'Tableau de routage'!$A$5:$L$29,7,FALSE)),"")) | K29: =IF(OR(A29="",H29=""),"",ROUND((H29-A29)*1440,0)) | L29: =IF(OR(A29="",J29=""),"",IF(H29="",IF(NOW()>J29,"Sans réponse","En cours"),IF(ROUND((H29-J29)*1440,0)<=0,"À temps","En retard")))
E30: =IF(C30="","",IFERROR(VLOOKUP(C30,'Tableau de routage'!$A$5:$L$29,3,FALSE),"")) | F30: =IF(C30="","",IFERROR(VLOOKUP(C30,'Tableau de routage'!$A$5:$L$29,4,FALSE),"")) | I30: =IF(A30="","",IF(AND(WEEKDAY(A30,2)<=5,COUNTIF('Horaires'!$A$9:$A$38,INT(A30))=0,MOD(A30,1)>='Horaires'!$B$4,MOD(A30,1)<'Horaires'!$B$5),"Oui","Non")) | J30: =IF(OR(A30="",C30=""),"",IFERROR(IF(I30="Oui",A30+VLOOKUP(C30,'Tableau de routage'!$A$5:$L$29,6,FALSE)/1440,IF(AND(WEEKDAY(A30,2)<=5,COUNTIF('Horaires'!$A$9:$A$38,INT(A30))=0,MOD(A30,1)<'Horaires'!$B$4),INT(A30),WORKDAY(INT(A30),1,'Horaires'!$A$9:$A$38))+VLOOKUP(C30,'Tableau de routage'!$A$5:$L$29,7,FALSE)),"")) | K30: =IF(OR(A30="",H30=""),"",ROUND((H30-A30)*1440,0)) | L30: =IF(OR(A30="",J30=""),"",IF(H30="",IF(NOW()>J30,"Sans réponse","En cours"),IF(ROUND((H30-J30)*1440,0)<=0,"À temps","En retard")))
... E204: =IF(C204="","",IFERROR(VLOOKUP(C204,'Tableau de routage'!$A$5:$L$29,3,FALSE),"")) | F204: =IF(C204="","",IFERROR(VLOOKUP(C204,'Tableau de routage'!$A$5:$L$29,4,FALSE),"")) | I204: =IF(A204="","",IF(AND(WEEKDAY(A204,2)<=5,COUNTIF('Horaires'!$A$9:$A$38,INT(A204))=0,MOD(A204,1)>='Horaires'!$B$4,MOD(A204,1)<'Horaires'!$B$5),"Oui","Non")) | J204: =IF(OR(A204="",C204=""),"",IFERROR(IF(I204="Oui",A204+VLOOKUP(C204,'Tableau de routage'!$A$5:$L$29,6,FALSE)/1440,IF(AND(WEEKDAY(A204,2)<=5,COUNTIF('Horaires'!$A$9:$A$38,INT(A204))=0,MOD(A204,1)<'Horaires'!$B$4),INT(A204),WORKDAY(INT(A204),1,'Horaires'!$A$9:$A$38))+VLOOKUP(C204,'Tableau de routage'!$A$5:$L$29,7,FALSE)),"")) | K204: =IF(OR(A204="",H204=""),"",ROUND((H204-A204)*1440,0)) | L204: =IF(OR(A204="",J204=""),"",IF(H204="",IF(NOW()>J204,"Sans réponse","En cours"),IF(ROUND((H204-J204)*1440,0)<=0,"À temps","En retard")))

Sheet Changements de canal
A1: Changements de canal
A2: Une ligne chaque fois qu’une conversation passe sur un autre canal. Le statut n’indique Complet que lorsque le consentement, le résumé, le responsable du relais et la confirmation sont tous faits.
A4: Date | B4: Client | C4: Canal d’origine | D4: Nouveau canal | E4: Consentement | F4: Comment le consentement a été donné | G4: Résumé de l’historique envoyé | H4: Responsable du relais | I4: Confirmé avec le client | J4: Statut | K4: Note
A5: 46296 | B5: Dev Patel | C5: WhatsApp | D5: E-mail | E5: Oui | F5: A demandé la facture par e-mail | G5: Oui | H5: Nadia | I5: Oui | J5: =IF(B5="","",IF(E5="Non","Sans consentement",IF(AND(E5="Oui",G5="Oui",H5<>"",I5="Oui"),"Complet","Étape manquante"))) | K5: Facture de septembre envoyée | M5: Chat du site | N5: Oui
A6: 46300 | B6: Leo Grant, Ash Street Studios | C6: Chat du site | D6: Appel téléphonique | E6: Non | F6: A préféré rester dans le chat | J6: =IF(B6="","",IF(E6="Non","Sans consentement",IF(AND(E6="Oui",G6="Oui",H6<>"",I6="Oui"),"Complet","Étape manquante"))) | K6: Nadia a répondu dans le chat | M6: WhatsApp | N6: Non
A7: 46301 | B7: Ivy Chen | C7: Chat du site | D7: E-mail | E7: Oui | F7: A donné son e-mail pour un nouveau code promo | G7: Non | H7: Mara | I7: Oui | J7: =IF(B7="","",IF(E7="Non","Sans consentement",IF(AND(E7="Oui",G7="Oui",H7<>"",I7="Oui"),"Complet","Étape manquante"))) | K7: Code envoyé sans le résumé du chat | M7: Instagram
A8: 46303 | B8: Jordan Ellis, Fieldnote Architects | C8: Chat du site | D8: Appel téléphonique | E8: Oui | F8: A accepté dans le chat un appel à 14 h 30 | G8: Oui | H8: Nadia | I8: Oui | J8: =IF(B8="","",IF(E8="Non","Sans consentement",IF(AND(E8="Oui",G8="Oui",H8<>"",I8="Oui"),"Complet","Étape manquante"))) | K8: Nadia a appelé à 14 h 30 | M8: Messenger
J9: =IF(B9="","",IF(E9="Non","Sans consentement",IF(AND(E9="Oui",G9="Oui",H9<>"",I9="Oui"),"Complet","Étape manquante"))) | M9: Telegram
J10: =IF(B10="","",IF(E10="Non","Sans consentement",IF(AND(E10="Oui",G10="Oui",H10<>"",I10="Oui"),"Complet","Étape manquante"))) | M10: E-mail
J11: =IF(B11="","",IF(E11="Non","Sans consentement",IF(AND(E11="Oui",G11="Oui",H11<>"",I11="Oui"),"Complet","Étape manquante"))) | M11: Appel téléphonique
J12: =IF(B12="","",IF(E12="Non","Sans consentement",IF(AND(E12="Oui",G12="Oui",H12<>"",I12="Oui"),"Complet","Étape manquante")))
J13: =IF(B13="","",IF(E13="Non","Sans consentement",IF(AND(E13="Oui",G13="Oui",H13<>"",I13="Oui"),"Complet","Étape manquante")))
J14: =IF(B14="","",IF(E14="Non","Sans consentement",IF(AND(E14="Oui",G14="Oui",H14<>"",I14="Oui"),"Complet","Étape manquante")))
J15: =IF(B15="","",IF(E15="Non","Sans consentement",IF(AND(E15="Oui",G15="Oui",H15<>"",I15="Oui"),"Complet","Étape manquante")))
J16: =IF(B16="","",IF(E16="Non","Sans consentement",IF(AND(E16="Oui",G16="Oui",H16<>"",I16="Oui"),"Complet","Étape manquante")))
J17: =IF(B17="","",IF(E17="Non","Sans consentement",IF(AND(E17="Oui",G17="Oui",H17<>"",I17="Oui"),"Complet","Étape manquante")))
J18: =IF(B18="","",IF(E18="Non","Sans consentement",IF(AND(E18="Oui",G18="Oui",H18<>"",I18="Oui"),"Complet","Étape manquante")))
J19: =IF(B19="","",IF(E19="Non","Sans consentement",IF(AND(E19="Oui",G19="Oui",H19<>"",I19="Oui"),"Complet","Étape manquante")))
J20: =IF(B20="","",IF(E20="Non","Sans consentement",IF(AND(E20="Oui",G20="Oui",H20<>"",I20="Oui"),"Complet","Étape manquante")))
J21: =IF(B21="","",IF(E21="Non","Sans consentement",IF(AND(E21="Oui",G21="Oui",H21<>"",I21="Oui"),"Complet","Étape manquante")))
J22: =IF(B22="","",IF(E22="Non","Sans consentement",IF(AND(E22="Oui",G22="Oui",H22<>"",I22="Oui"),"Complet","Étape manquante")))
J23: =IF(B23="","",IF(E23="Non","Sans consentement",IF(AND(E23="Oui",G23="Oui",H23<>"",I23="Oui"),"Complet","Étape manquante")))
... J104: =IF(B104="","",IF(E104="Non","Sans consentement",IF(AND(E104="Oui",G104="Oui",H104<>"",I104="Oui"),"Complet","Étape manquante")))

Sheet Horaires
A1: Heures ouvrées, jours fériés et équipe
A2: Un chat compte comme reçu en heures ouvrées du lundi au vendredi entre l’heure d’ouverture et l’heure de fermeture, sauf les jours fériés ci-dessous. Le journal des réponses utilise ces cellules.
A4: Heure d’ouverture | B4: 0.33333333
A5: Heure de fermeture | B5: 0.70833333
A6: Jours ouvrés | B6: Du lundi au vendredi
A8: Jour férié | B8: Nom | D8: Équipe
A9: 46352 | B9: Thanksgiving | D9: Nadia
A10: 46381 | B10: Noël | D10: Theo
A11: 46388 | B11: Jour de l’an | D11: Mara

Sheet Synthèse
A1: Synthèse
A2: Tout ce qui figure sur cette feuille se remplit seul à partir des autres feuilles.
A4: Totaux
A5: Chats transférés à une personne | B5: =COUNT('Journal des réponses'!$A$5:$A$204)
A6: À temps | B6: =COUNTIF('Journal des réponses'!$L$5:$L$204,"À temps")
A7: En retard | B7: =COUNTIF('Journal des réponses'!$L$5:$L$204,"En retard")
A8: Sans réponse | B8: =COUNTIF('Journal des réponses'!$L$5:$L$204,"Sans réponse")
A9: En cours | B9: =COUNTIF('Journal des réponses'!$L$5:$L$204,"En cours")
A10: Taux de réponse à temps (sur à temps, en retard et sans réponse) | B10: =IFERROR(B6/(B6+B7+B8),"")
A11: Minutes moyennes avant la première réponse, en heures ouvrées | B11: =IFERROR(ROUND(AVERAGEIFS('Journal des réponses'!$K$5:$K$204,'Journal des réponses'!$I$5:$I$204,"Oui"),1),"")
A12: Escaladés | B12: =COUNTIF('Journal des réponses'!$M$5:$M$204,"Oui")
A13: Lignes de routage | B13: =COUNTA('Tableau de routage'!$A$5:$A$29)
A14: Lignes de routage prêtes | B14: =COUNTIF('Tableau de routage'!$M$5:$M$29,"Prête")
A15: Changements de canal complets | B15: =COUNTIF('Changements de canal'!$J$5:$J$104,"Complet")
A16: Changements de canal avec une étape manquante | B16: =COUNTIF('Changements de canal'!$J$5:$J$104,"Étape manquante")
A17: Changements de canal sans consentement | B17: =COUNTIF('Changements de canal'!$J$5:$J$104,"Sans consentement")
A19: Par sujet
A20: Sujet | B20: Chats | C20: À temps | D20: En retard | E20: Sans réponse | F20: Taux à temps | G20: Minutes moyennes en heures ouvrées
A21: =IF('Tableau de routage'!A5="","",'Tableau de routage'!A5) | B21: =IF(A21="","",COUNTIF('Journal des réponses'!$C$5:$C$204,A21)) | C21: =IF(A21="","",COUNTIFS('Journal des réponses'!$C$5:$C$204,A21,'Journal des réponses'!$L$5:$L$204,"À temps")) | D21: =IF(A21="","",COUNTIFS('Journal des réponses'!$C$5:$C$204,A21,'Journal des réponses'!$L$5:$L$204,"En retard")) | E21: =IF(A21="","",COUNTIFS('Journal des réponses'!$C$5:$C$204,A21,'Journal des réponses'!$L$5:$L$204,"Sans réponse")) | F21: =IF(A21="","",IFERROR(C21/(C21+D21+E21),"")) | G21: =IF(A21="","",IFERROR(ROUND(AVERAGEIFS('Journal des réponses'!$K$5:$K$204,'Journal des réponses'!$C$5:$C$204,A21,'Journal des réponses'!$I$5:$I$204,"Oui"),1),""))
A22: =IF('Tableau de routage'!A6="","",'Tableau de routage'!A6) | B22: =IF(A22="","",COUNTIF('Journal des réponses'!$C$5:$C$204,A22)) | C22: =IF(A22="","",COUNTIFS('Journal des réponses'!$C$5:$C$204,A22,'Journal des réponses'!$L$5:$L$204,"À temps")) | D22: =IF(A22="","",COUNTIFS('Journal des réponses'!$C$5:$C$204,A22,'Journal des réponses'!$L$5:$L$204,"En retard")) | E22: =IF(A22="","",COUNTIFS('Journal des réponses'!$C$5:$C$204,A22,'Journal des réponses'!$L$5:$L$204,"Sans réponse")) | F22: =IF(A22="","",IFERROR(C22/(C22+D22+E22),"")) | G22: =IF(A22="","",IFERROR(ROUND(AVERAGEIFS('Journal des réponses'!$K$5:$K$204,'Journal des réponses'!$C$5:$C$204,A22,'Journal des réponses'!$I$5:$I$204,"Oui"),1),""))
A23: =IF('Tableau de routage'!A7="","",'Tableau de routage'!A7) | B23: =IF(A23="","",COUNTIF('Journal des réponses'!$C$5:$C$204,A23)) | C23: =IF(A23="","",COUNTIFS('Journal des réponses'!$C$5:$C$204,A23,'Journal des réponses'!$L$5:$L$204,"À temps")) | D23: =IF(A23="","",COUNTIFS('Journal des réponses'!$C$5:$C$204,A23,'Journal des réponses'!$L$5:$L$204,"En retard")) | E23: =IF(A23="","",COUNTIFS('Journal des réponses'!$C$5:$C$204,A23,'Journal des réponses'!$L$5:$L$204,"Sans réponse")) | F23: =IF(A23="","",IFERROR(C23/(C23+D23+E23),"")) | G23: =IF(A23="","",IFERROR(ROUND(AVERAGEIFS('Journal des réponses'!$K$5:$K$204,'Journal des réponses'!$C$5:$C$204,A23,'Journal des réponses'!$I$5:$I$204,"Oui"),1),""))
A24: =IF('Tableau de routage'!A8="","",'Tableau de routage'!A8) | B24: =IF(A24="","",COUNTIF('Journal des réponses'!$C$5:$C$204,A24)) | C24: =IF(A24="","",COUNTIFS('Journal des réponses'!$C$5:$C$204,A24,'Journal des réponses'!$L$5:$L$204,"À temps")) | D24: =IF(A24="","",COUNTIFS('Journal des réponses'!$C$5:$C$204,A24,'Journal des réponses'!$L$5:$L$204,"En retard")) | E24: =IF(A24="","",COUNTIFS('Journal des réponses'!$C$5:$C$204,A24,'Journal des réponses'!$L$5:$L$204,"Sans réponse")) | F24: =IF(A24="","",IFERROR(C24/(C24+D24+E24),"")) | G24: =IF(A24="","",IFERROR(ROUND(AVERAGEIFS('Journal des réponses'!$K$5:$K$204,'Journal des réponses'!$C$5:$C$204,A24,'Journal des réponses'!$I$5:$I$204,"Oui"),1),""))
A25: =IF('Tableau de routage'!A9="","",'Tableau de routage'!A9) | B25: =IF(A25="","",COUNTIF('Journal des réponses'!$C$5:$C$204,A25)) | C25: =IF(A25="","",COUNTIFS('Journal des réponses'!$C$5:$C$204,A25,'Journal des réponses'!$L$5:$L$204,"À temps")) | D25: =IF(A25="","",COUNTIFS('Journal des réponses'!$C$5:$C$204,A25,'Journal des réponses'!$L$5:$L$204,"En retard")) | E25: =IF(A25="","",COUNTIFS('Journal des réponses'!$C$5:$C$204,A25,'Journal des réponses'!$L$5:$L$204,"Sans réponse")) | F25: =IF(A25="","",IFERROR(C25/(C25+D25+E25),"")) | G25: =IF(A25="","",IFERROR(ROUND(AVERAGEIFS('Journal des réponses'!$K$5:$K$204,'Journal des réponses'!$C$5:$C$204,A25,'Journal des réponses'!$I$5:$I$204,"Oui"),1),""))
A26: =IF('Tableau de routage'!A10="","",'Tableau de routage'!A10) | B26: =IF(A26="","",COUNTIF('Journal des réponses'!$C$5:$C$204,A26)) | C26: =IF(A26="","",COUNTIFS('Journal des réponses'!$C$5:$C$204,A26,'Journal des réponses'!$L$5:$L$204,"À temps")) | D26: =IF(A26="","",COUNTIFS('Journal des réponses'!$C$5:$C$204,A26,'Journal des réponses'!$L$5:$L$204,"En retard")) | E26: =IF(A26="","",COUNTIFS('Journal des réponses'!$C$5:$C$204,A26,'Journal des réponses'!$L$5:$L$204,"Sans réponse")) | F26: =IF(A26="","",IFERROR(C26/(C26+D26+E26),"")) | G26: =IF(A26="","",IFERROR(ROUND(AVERAGEIFS('Journal des réponses'!$K$5:$K$204,'Journal des réponses'!$C$5:$C$204,A26,'Journal des réponses'!$I$5:$I$204,"Oui"),1),""))
A27: =IF('Tableau de routage'!A11="","",'Tableau de routage'!A11) | B27: =IF(A27="","",COUNTIF('Journal des réponses'!$C$5:$C$204,A27)) | C27: =IF(A27="","",COUNTIFS('Journal des réponses'!$C$5:$C$204,A27,'Journal des réponses'!$L$5:$L$204,"À temps")) | D27: =IF(A27="","",COUNTIFS('Journal des réponses'!$C$5:$C$204,A27,'Journal des réponses'!$L$5:$L$204,"En retard")) | E27: =IF(A27="","",COUNTIFS('Journal des réponses'!$C$5:$C$204,A27,'Journal des réponses'!$L$5:$L$204,"Sans réponse")) | F27: =IF(A27="","",IFERROR(C27/(C27+D27+E27),"")) | G27: =IF(A27="","",IFERROR(ROUND(AVERAGEIFS('Journal des réponses'!$K$5:$K$204,'Journal des réponses'!$C$5:$C$204,A27,'Journal des réponses'!$I$5:$I$204,"Oui"),1),""))
A28: =IF('Tableau de routage'!A12="","",'Tableau de routage'!A12) | B28: =IF(A28="","",COUNTIF('Journal des réponses'!$C$5:$C$204,A28)) | C28: =IF(A28="","",COUNTIFS('Journal des réponses'!$C$5:$C$204,A28,'Journal des réponses'!$L$5:$L$204,"À temps")) | D28: =IF(A28="","",COUNTIFS('Journal des réponses'!$C$5:$C$204,A28,'Journal des réponses'!$L$5:$L$204,"En retard")) | E28: =IF(A28="","",COUNTIFS('Journal des réponses'!$C$5:$C$204,A28,'Journal des réponses'!$L$5:$L$204,"Sans réponse")) | F28: =IF(A28="","",IFERROR(C28/(C28+D28+E28),"")) | G28: =IF(A28="","",IFERROR(ROUND(AVERAGEIFS('Journal des réponses'!$K$5:$K$204,'Journal des réponses'!$C$5:$C$204,A28,'Journal des réponses'!$I$5:$I$204,"Oui"),1),""))
A29: =IF('Tableau de routage'!A13="","",'Tableau de routage'!A13) | B29: =IF(A29="","",COUNTIF('Journal des réponses'!$C$5:$C$204,A29)) | C29: =IF(A29="","",COUNTIFS('Journal des réponses'!$C$5:$C$204,A29,'Journal des réponses'!$L$5:$L$204,"À temps")) | D29: =IF(A29="","",COUNTIFS('Journal des réponses'!$C$5:$C$204,A29,'Journal des réponses'!$L$5:$L$204,"En retard")) | E29: =IF(A29="","",COUNTIFS('Journal des réponses'!$C$5:$C$204,A29,'Journal des réponses'!$L$5:$L$204,"Sans réponse")) | F29: =IF(A29="","",IFERROR(C29/(C29+D29+E29),"")) | G29: =IF(A29="","",IFERROR(ROUND(AVERAGEIFS('Journal des réponses'!$K$5:$K$204,'Journal des réponses'!$C$5:$C$204,A29,'Journal des réponses'!$I$5:$I$204,"Oui"),1),""))
A30: =IF('Tableau de routage'!A14="","",'Tableau de routage'!A14) | B30: =IF(A30="","",COUNTIF('Journal des réponses'!$C$5:$C$204,A30)) | C30: =IF(A30="","",COUNTIFS('Journal des réponses'!$C$5:$C$204,A30,'Journal des réponses'!$L$5:$L$204,"À temps")) | D30: =IF(A30="","",COUNTIFS('Journal des réponses'!$C$5:$C$204,A30,'Journal des réponses'!$L$5:$L$204,"En retard")) | E30: =IF(A30="","",COUNTIFS('Journal des réponses'!$C$5:$C$204,A30,'Journal des réponses'!$L$5:$L$204,"Sans réponse")) | F30: =IF(A30="","",IFERROR(C30/(C30+D30+E30),"")) | G30: =IF(A30="","",IFERROR(ROUND(AVERAGEIFS('Journal des réponses'!$K$5:$K$204,'Journal des réponses'!$C$5:$C$204,A30,'Journal des réponses'!$I$5:$I$204,"Oui"),1),""))
A31: =IF('Tableau de routage'!A15="","",'Tableau de routage'!A15) | B31: =IF(A31="","",COUNTIF('Journal des réponses'!$C$5:$C$204,A31)) | C31: =IF(A31="","",COUNTIFS('Journal des réponses'!$C$5:$C$204,A31,'Journal des réponses'!$L$5:$L$204,"À temps")) | D31: =IF(A31="","",COUNTIFS('Journal des réponses'!$C$5:$C$204,A31,'Journal des réponses'!$L$5:$L$204,"En retard")) | E31: =IF(A31="","",COUNTIFS('Journal des réponses'!$C$5:$C$204,A31,'Journal des réponses'!$L$5:$L$204,"Sans réponse")) | F31: =IF(A31="","",IFERROR(C31/(C31+D31+E31),"")) | G31: =IF(A31="","",IFERROR(ROUND(AVERAGEIFS('Journal des réponses'!$K$5:$K$204,'Journal des réponses'!$C$5:$C$204,A31,'Journal des réponses'!$I$5:$I$204,"Oui"),1),""))
A32: =IF('Tableau de routage'!A16="","",'Tableau de routage'!A16) | B32: =IF(A32="","",COUNTIF('Journal des réponses'!$C$5:$C$204,A32)) | C32: =IF(A32="","",COUNTIFS('Journal des réponses'!$C$5:$C$204,A32,'Journal des réponses'!$L$5:$L$204,"À temps")) | D32: =IF(A32="","",COUNTIFS('Journal des réponses'!$C$5:$C$204,A32,'Journal des réponses'!$L$5:$L$204,"En retard")) | E32: =IF(A32="","",COUNTIFS('Journal des réponses'!$C$5:$C$204,A32,'Journal des réponses'!$L$5:$L$204,"Sans réponse")) | F32: =IF(A32="","",IFERROR(C32/(C32+D32+E32),"")) | G32: =IF(A32="","",IFERROR(ROUND(AVERAGEIFS('Journal des réponses'!$K$5:$K$204,'Journal des réponses'!$C$5:$C$204,A32,'Journal des réponses'!$I$5:$I$204,"Oui"),1),""))
... A45: =IF('Tableau de routage'!A29="","",'Tableau de routage'!A29) | B45: =IF(A45="","",COUNTIF('Journal des réponses'!$C$5:$C$204,A45)) | C45: =IF(A45="","",COUNTIFS('Journal des réponses'!$C$5:$C$204,A45,'Journal des réponses'!$L$5:$L$204,"À temps")) | D45: =IF(A45="","",COUNTIFS('Journal des réponses'!$C$5:$C$204,A45,'Journal des réponses'!$L$5:$L$204,"En retard")) | E45: =IF(A45="","",COUNTIFS('Journal des réponses'!$C$5:$C$204,A45,'Journal des réponses'!$L$5:$L$204,"Sans réponse")) | F45: =IF(A45="","",IFERROR(C45/(C45+D45+E45),"")) | G45: =IF(A45="","",IFERROR(ROUND(AVERAGEIFS('Journal des réponses'!$K$5:$K$204,'Journal des réponses'!$C$5:$C$204,A45,'Journal des réponses'!$I$5:$I$204,"Oui"),1),""))
A47: Par responsable
A48: Responsable | B48: Chats attribués | C48: À temps | D48: En retard | E48: Sans réponse | F48: Chats auxquels il a répondu
A49: =IF('Horaires'!D9="","",'Horaires'!D9) | B49: =IF(A49="","",COUNTIF('Journal des réponses'!$F$5:$F$204,A49)) | C49: =IF(A49="","",COUNTIFS('Journal des réponses'!$F$5:$F$204,A49,'Journal des réponses'!$L$5:$L$204,"À temps")) | D49: =IF(A49="","",COUNTIFS('Journal des réponses'!$F$5:$F$204,A49,'Journal des réponses'!$L$5:$L$204,"En retard")) | E49: =IF(A49="","",COUNTIFS('Journal des réponses'!$F$5:$F$204,A49,'Journal des réponses'!$L$5:$L$204,"Sans réponse")) | F49: =IF(A49="","",COUNTIF('Journal des réponses'!$G$5:$G$204,A49))
A50: =IF('Horaires'!D10="","",'Horaires'!D10) | B50: =IF(A50="","",COUNTIF('Journal des réponses'!$F$5:$F$204,A50)) | C50: =IF(A50="","",COUNTIFS('Journal des réponses'!$F$5:$F$204,A50,'Journal des réponses'!$L$5:$L$204,"À temps")) | D50: =IF(A50="","",COUNTIFS('Journal des réponses'!$F$5:$F$204,A50,'Journal des réponses'!$L$5:$L$204,"En retard")) | E50: =IF(A50="","",COUNTIFS('Journal des réponses'!$F$5:$F$204,A50,'Journal des réponses'!$L$5:$L$204,"Sans réponse")) | F50: =IF(A50="","",COUNTIF('Journal des réponses'!$G$5:$G$204,A50))
A51: =IF('Horaires'!D11="","",'Horaires'!D11) | B51: =IF(A51="","",COUNTIF('Journal des réponses'!$F$5:$F$204,A51)) | C51: =IF(A51="","",COUNTIFS('Journal des réponses'!$F$5:$F$204,A51,'Journal des réponses'!$L$5:$L$204,"À temps")) | D51: =IF(A51="","",COUNTIFS('Journal des réponses'!$F$5:$F$204,A51,'Journal des réponses'!$L$5:$L$204,"En retard")) | E51: =IF(A51="","",COUNTIFS('Journal des réponses'!$F$5:$F$204,A51,'Journal des réponses'!$L$5:$L$204,"Sans réponse")) | F51: =IF(A51="","",COUNTIF('Journal des réponses'!$G$5:$G$204,A51))
A52: =IF('Horaires'!D12="","",'Horaires'!D12) | B52: =IF(A52="","",COUNTIF('Journal des réponses'!$F$5:$F$204,A52)) | C52: =IF(A52="","",COUNTIFS('Journal des réponses'!$F$5:$F$204,A52,'Journal des réponses'!$L$5:$L$204,"À temps")) | D52: =IF(A52="","",COUNTIFS('Journal des réponses'!$F$5:$F$204,A52,'Journal des réponses'!$L$5:$L$204,"En retard")) | E52: =IF(A52="","",COUNTIFS('Journal des réponses'!$F$5:$F$204,A52,'Journal des réponses'!$L$5:$L$204,"Sans réponse")) | F52: =IF(A52="","",COUNTIF('Journal des réponses'!$G$5:$G$204,A52))
A53: =IF('Horaires'!D13="","",'Horaires'!D13) | B53: =IF(A53="","",COUNTIF('Journal des réponses'!$F$5:$F$204,A53)) | C53: =IF(A53="","",COUNTIFS('Journal des réponses'!$F$5:$F$204,A53,'Journal des réponses'!$L$5:$L$204,"À temps")) | D53: =IF(A53="","",COUNTIFS('Journal des réponses'!$F$5:$F$204,A53,'Journal des réponses'!$L$5:$L$204,"En retard")) | E53: =IF(A53="","",COUNTIFS('Journal des réponses'!$F$5:$F$204,A53,'Journal des réponses'!$L$5:$L$204,"Sans réponse")) | F53: =IF(A53="","",COUNTIF('Journal des réponses'!$G$5:$G$204,A53))
A54: =IF('Horaires'!D14="","",'Horaires'!D14) | B54: =IF(A54="","",COUNTIF('Journal des réponses'!$F$5:$F$204,A54)) | C54: =IF(A54="","",COUNTIFS('Journal des réponses'!$F$5:$F$204,A54,'Journal des réponses'!$L$5:$L$204,"À temps")) | D54: =IF(A54="","",COUNTIFS('Journal des réponses'!$F$5:$F$204,A54,'Journal des réponses'!$L$5:$L$204,"En retard")) | E54: =IF(A54="","",COUNTIFS('Journal des réponses'!$F$5:$F$204,A54,'Journal des réponses'!$L$5:$L$204,"Sans réponse")) | F54: =IF(A54="","",COUNTIF('Journal des réponses'!$G$5:$G$204,A54))
A55: =IF('Horaires'!D15="","",'Horaires'!D15) | B55: =IF(A55="","",COUNTIF('Journal des réponses'!$F$5:$F$204,A55)) | C55: =IF(A55="","",COUNTIFS('Journal des réponses'!$F$5:$F$204,A55,'Journal des réponses'!$L$5:$L$204,"À temps")) | D55: =IF(A55="","",COUNTIFS('Journal des réponses'!$F$5:$F$204,A55,'Journal des réponses'!$L$5:$L$204,"En retard")) | E55: =IF(A55="","",COUNTIFS('Journal des réponses'!$F$5:$F$204,A55,'Journal des réponses'!$L$5:$L$204,"Sans réponse")) | F55: =IF(A55="","",COUNTIF('Journal des réponses'!$G$5:$G$204,A55))
...
