Workbook

Sheet Journal des remboursements
A1: Journal des demandes de remboursement
A2: Une ligne par demande de remboursement, créée avant la première réponse. Remplissez les colonnes blanches ; les colonnes grisées se remplissent seules. Choisissez Motif et Décision dans les listes.
A3: Les versions de la politique sont dans la feuille Politiques ; les plafonds d’approbation, l’objectif de réponse et le délai de vérification sont dans la feuille Listes. Le statut passe à Décision en retard après la date promise et à Vérifier et clôturer 10 jours ouvrés après le remboursement.
A4: Demande reçue | B4: Client | C4: Référence de commande | D4: Date d’achat | E4: Livraison | F4: Version de la politique | G4: Délai (jours) | H4: Jours depuis l’achat | I4: Dans le délai | J4: Motif | K4: Montant demandé | L4: Approbateur | M4: Réponse promise le | N4: Décision | O4: Décision envoyée | P4: Dans les temps | Q4: Montant remboursé | R4: Référence du remboursement | S4: Remboursement émis | T4: Clôturée le | U4: Statut | V4: Notes
A5: 46286 | B5: Claire Novak | C5: LG-20417 | D5: 46279 | E5: 46282 | F5: =IF($D5="","",IF(COUNTIF('Politiques'!$B$5:$B$14,"<="&$D5)=0,"",INDEX('Politiques'!$A$5:$A$14,COUNTIF('Politiques'!$B$5:$B$14,"<="&$D5)))) | G5: =IF($F5="","",INDEX('Politiques'!$C$5:$C$14,MATCH($F5,'Politiques'!$A$5:$A$14,0))) | H5: =IF(OR($A5="",$D5=""),"",IF($F5="",$A5-$D5,$A5-IF(AND(INDEX('Politiques'!$D$5:$D$14,MATCH($F5,'Politiques'!$A$5:$A$14,0))="Date de livraison",$E5<>""),$E5,$D5))) | I5: =IF(OR($H5="",$G5=""),"",IF($H5<=$G5,"Oui","Non")) | J5: Changement d’avis | K5: 139 | L5: =IF(OR($A5="",$K5=""),"",IF($I5="Non",'Listes'!$D$7,IF($K5<='Listes'!$E$5,'Listes'!$D$5,IF($K5<='Listes'!$E$6,'Listes'!$D$6,'Listes'!$D$7)))) | M5: =IF($A5="","",WORKDAY($A5,'Listes'!$G$5)) | N5: Remboursement partiel | O5: 46287 | P5: =IF(OR($M5="",$O5=""),"",IF($O5<=$M5,"Oui","Non")) | Q5: 131.5 | R5: réf. re_3Qx81Lg, ARN se terminant par 6789 | S5: 46293 | T5: 46302 | U5: =IF($A5="","",IF($T5<>"","Clôturée",IF($O5="",IF(TODAY()>$M5,"Décision en retard","En attente de décision"),IF(OR($N5="Remboursement intégral",$N5="Remboursement partiel"),IF($S5="","Remboursement à effectuer",IF(TODAY()>WORKDAY($S5,'Listes'!$G$6),"Vérifier et clôturer","Remboursement effectué")),"Ouverte")))) | V5: Commandée en Queen, il lui faut du King. 139,00 $ moins l’étiquette de retour de 7,50 $. Suivi du 5 oct. traité avec l’ARN
A6: 46273 | B6: Lucas Meyer | C6: LG-20188 | D6: 46237 | E6: 46240 | F6: =IF($D6="","",IF(COUNTIF('Politiques'!$B$5:$B$14,"<="&$D6)=0,"",INDEX('Politiques'!$A$5:$A$14,COUNTIF('Politiques'!$B$5:$B$14,"<="&$D6)))) | G6: =IF($F6="","",INDEX('Politiques'!$C$5:$C$14,MATCH($F6,'Politiques'!$A$5:$A$14,0))) | H6: =IF(OR($A6="",$D6=""),"",IF($F6="",$A6-$D6,$A6-IF(AND(INDEX('Politiques'!$D$5:$D$14,MATCH($F6,'Politiques'!$A$5:$A$14,0))="Date de livraison",$E6<>""),$E6,$D6))) | I6: =IF(OR($H6="",$G6=""),"",IF($H6<=$G6,"Oui","Non")) | J6: Changement d’avis | K6: 89 | L6: =IF(OR($A6="",$K6=""),"",IF($I6="Non",'Listes'!$D$7,IF($K6<='Listes'!$E$5,'Listes'!$D$5,IF($K6<='Listes'!$E$6,'Listes'!$D$6,'Listes'!$D$7)))) | M6: =IF($A6="","",WORKDAY($A6,'Listes'!$G$5)) | N6: Avoir | O6: 46274 | P6: =IF(OR($M6="",$O6=""),"",IF($O6<=$M6,"Oui","Non")) | R6: Avoir LG-SC-0907 | T6: 46276 | U6: =IF($A6="","",IF($T6<>"","Clôturée",IF($O6="",IF(TODAY()>$M6,"Décision en retard","En attente de décision"),IF(OR($N6="Remboursement intégral",$N6="Remboursement partiel"),IF($S6="","Remboursement à effectuer",IF(TODAY()>WORKDAY($S6,'Listes'!$G$6),"Vérifier et clôturer","Remboursement effectué")),"Ouverte")))) | V6: Hors du délai v2 de 6 jours. Owen a approuvé un avoir de 89,00 $, accepté le 11 sept.
A7: 46280 | B7: Hana Sato | C7: LG-20302 | D7: 46262 | E7: 46265 | F7: =IF($D7="","",IF(COUNTIF('Politiques'!$B$5:$B$14,"<="&$D7)=0,"",INDEX('Politiques'!$A$5:$A$14,COUNTIF('Politiques'!$B$5:$B$14,"<="&$D7)))) | G7: =IF($F7="","",INDEX('Politiques'!$C$5:$C$14,MATCH($F7,'Politiques'!$A$5:$A$14,0))) | H7: =IF(OR($A7="",$D7=""),"",IF($F7="",$A7-$D7,$A7-IF(AND(INDEX('Politiques'!$D$5:$D$14,MATCH($F7,'Politiques'!$A$5:$A$14,0))="Date de livraison",$E7<>""),$E7,$D7))) | I7: =IF(OR($H7="",$G7=""),"",IF($H7<=$G7,"Oui","Non")) | J7: Endommagé ou défectueux | K7: 42 | L7: =IF(OR($A7="",$K7=""),"",IF($I7="Non",'Listes'!$D$7,IF($K7<='Listes'!$E$5,'Listes'!$D$5,IF($K7<='Listes'!$E$6,'Listes'!$D$6,'Listes'!$D$7)))) | M7: =IF($A7="","",WORKDAY($A7,'Listes'!$G$5)) | N7: Remboursement intégral | O7: 46280 | P7: =IF(OR($M7="",$O7=""),"",IF($O7<=$M7,"Oui","Non")) | Q7: 42 | R7: re_1Hd52Wk | S7: 46280 | U7: =IF($A7="","",IF($T7<>"","Clôturée",IF($O7="",IF(TODAY()>$M7,"Décision en retard","En attente de décision"),IF(OR($N7="Remboursement intégral",$N7="Remboursement partiel"),IF($S7="","Remboursement à effectuer",IF(TODAY()>WORKDAY($S7,'Listes'!$G$6),"Vérifier et clôturer","Remboursement effectué")),"Ouverte")))) | V7: Photo de fils tirés sur le lot de serviettes ; pas de retour nécessaire
A8: 46289 | B8: Peter Walsh | C8: LG-20355 | D8: 46267 | F8: =IF($D8="","",IF(COUNTIF('Politiques'!$B$5:$B$14,"<="&$D8)=0,"",INDEX('Politiques'!$A$5:$A$14,COUNTIF('Politiques'!$B$5:$B$14,"<="&$D8)))) | G8: =IF($F8="","",INDEX('Politiques'!$C$5:$C$14,MATCH($F8,'Politiques'!$A$5:$A$14,0))) | H8: =IF(OR($A8="",$D8=""),"",IF($F8="",$A8-$D8,$A8-IF(AND(INDEX('Politiques'!$D$5:$D$14,MATCH($F8,'Politiques'!$A$5:$A$14,0))="Date de livraison",$E8<>""),$E8,$D8))) | I8: =IF(OR($H8="",$G8=""),"",IF($H8<=$G8,"Oui","Non")) | J8: Jamais reçu | K8: 64 | L8: =IF(OR($A8="",$K8=""),"",IF($I8="Non",'Listes'!$D$7,IF($K8<='Listes'!$E$5,'Listes'!$D$5,IF($K8<='Listes'!$E$6,'Listes'!$D$6,'Listes'!$D$7)))) | M8: =IF($A8="","",WORKDAY($A8,'Listes'!$G$5)) | N8: Remboursement intégral | O8: 46294 | P8: =IF(OR($M8="",$O8=""),"",IF($O8<=$M8,"Oui","Non")) | Q8: 64 | R8: re_7Tn20Pc | S8: 46294 | U8: =IF($A8="","",IF($T8<>"","Clôturée",IF($O8="",IF(TODAY()>$M8,"Décision en retard","En attente de décision"),IF(OR($N8="Remboursement intégral",$N8="Remboursement partiel"),IF($S8="","Remboursement à effectuer",IF(TODAY()>WORKDAY($S8,'Listes'!$G$6),"Vérifier et clôturer","Remboursement effectué")),"Ouverte")))) | V8: Enquête du transporteur close le 28 sept. : colis perdu ; décision avec 1 jour de retard
A9: 46295 | B9: Amara Okeke | C9: LG-20391 | D9: 46272 | E9: 46275 | F9: =IF($D9="","",IF(COUNTIF('Politiques'!$B$5:$B$14,"<="&$D9)=0,"",INDEX('Politiques'!$A$5:$A$14,COUNTIF('Politiques'!$B$5:$B$14,"<="&$D9)))) | G9: =IF($F9="","",INDEX('Politiques'!$C$5:$C$14,MATCH($F9,'Politiques'!$A$5:$A$14,0))) | H9: =IF(OR($A9="",$D9=""),"",IF($F9="",$A9-$D9,$A9-IF(AND(INDEX('Politiques'!$D$5:$D$14,MATCH($F9,'Politiques'!$A$5:$A$14,0))="Date de livraison",$E9<>""),$E9,$D9))) | I9: =IF(OR($H9="",$G9=""),"",IF($H9<=$G9,"Oui","Non")) | J9: Mauvais article envoyé | K9: 139 | L9: =IF(OR($A9="",$K9=""),"",IF($I9="Non",'Listes'!$D$7,IF($K9<='Listes'!$E$5,'Listes'!$D$5,IF($K9<='Listes'!$E$6,'Listes'!$D$6,'Listes'!$D$7)))) | M9: =IF($A9="","",WORKDAY($A9,'Listes'!$G$5)) | N9: Échange ou réparation | O9: 46296 | P9: =IF(OR($M9="",$O9=""),"",IF($O9<=$M9,"Oui","Non")) | R9: Commande d’échange LG-20466 | U9: =IF($A9="","",IF($T9<>"","Clôturée",IF($O9="",IF(TODAY()>$M9,"Décision en retard","En attente de décision"),IF(OR($N9="Remboursement intégral",$N9="Remboursement partiel"),IF($S9="","Remboursement à effectuer",IF(TODAY()>WORKDAY($S9,'Listes'!$G$6),"Vérifier et clôturer","Remboursement effectué")),"Ouverte")))) | V9: Bonne housse de couette envoyée le 1er oct. ; la mauvaise repart avec le transporteur
A10: 46297 | B10: Julia Brandt | C10: LG-20410 | D10: 46277 | E10: 46281 | F10: =IF($D10="","",IF(COUNTIF('Politiques'!$B$5:$B$14,"<="&$D10)=0,"",INDEX('Politiques'!$A$5:$A$14,COUNTIF('Politiques'!$B$5:$B$14,"<="&$D10)))) | G10: =IF($F10="","",INDEX('Politiques'!$C$5:$C$14,MATCH($F10,'Politiques'!$A$5:$A$14,0))) | H10: =IF(OR($A10="",$D10=""),"",IF($F10="",$A10-$D10,$A10-IF(AND(INDEX('Politiques'!$D$5:$D$14,MATCH($F10,'Politiques'!$A$5:$A$14,0))="Date de livraison",$E10<>""),$E10,$D10))) | I10: =IF(OR($H10="",$G10=""),"",IF($H10<=$G10,"Oui","Non")) | J10: Non conforme à la description | K10: 184 | L10: =IF(OR($A10="",$K10=""),"",IF($I10="Non",'Listes'!$D$7,IF($K10<='Listes'!$E$5,'Listes'!$D$5,IF($K10<='Listes'!$E$6,'Listes'!$D$6,'Listes'!$D$7)))) | M10: =IF($A10="","",WORKDAY($A10,'Listes'!$G$5)) | N10: Remboursement intégral | O10: 46300 | P10: =IF(OR($M10="",$O10=""),"",IF($O10<=$M10,"Oui","Non")) | Q10: 184 | U10: =IF($A10="","",IF($T10<>"","Clôturée",IF($O10="",IF(TODAY()>$M10,"Décision en retard","En attente de décision"),IF(OR($N10="Remboursement intégral",$N10="Remboursement partiel"),IF($S10="","Remboursement à effectuer",IF(TODAY()>WORKDAY($S10,'Listes'!$G$6),"Vérifier et clôturer","Remboursement effectué")),"Ouverte")))) | V10: Couleur bien plus foncée que sur les photos. Remboursement intégral avec la livraison à réception du colis retourné ; étiquette envoyée le 5 oct.
A11: 46301 | B11: Kevin Tran | C11: LG-20433 | D11: 46285 | E11: 46289 | F11: =IF($D11="","",IF(COUNTIF('Politiques'!$B$5:$B$14,"<="&$D11)=0,"",INDEX('Politiques'!$A$5:$A$14,COUNTIF('Politiques'!$B$5:$B$14,"<="&$D11)))) | G11: =IF($F11="","",INDEX('Politiques'!$C$5:$C$14,MATCH($F11,'Politiques'!$A$5:$A$14,0))) | H11: =IF(OR($A11="",$D11=""),"",IF($F11="",$A11-$D11,$A11-IF(AND(INDEX('Politiques'!$D$5:$D$14,MATCH($F11,'Politiques'!$A$5:$A$14,0))="Date de livraison",$E11<>""),$E11,$D11))) | I11: =IF(OR($H11="",$G11=""),"",IF($H11<=$G11,"Oui","Non")) | J11: Endommagé ou défectueux | K11: 36 | L11: =IF(OR($A11="",$K11=""),"",IF($I11="Non",'Listes'!$D$7,IF($K11<='Listes'!$E$5,'Listes'!$D$5,IF($K11<='Listes'!$E$6,'Listes'!$D$6,'Listes'!$D$7)))) | M11: =IF($A11="","",WORKDAY($A11,'Listes'!$G$5)) | P11: =IF(OR($M11="",$O11=""),"",IF($O11<=$M11,"Oui","Non")) | U11: =IF($A11="","",IF($T11<>"","Clôturée",IF($O11="",IF(TODAY()>$M11,"Décision en retard","En attente de décision"),IF(OR($N11="Remboursement intégral",$N11="Remboursement partiel"),IF($S11="","Remboursement à effectuer",IF(TODAY()>WORKDAY($S11,'Listes'!$G$6),"Vérifier et clôturer","Remboursement effectué")),"Ouverte")))) | V11: Photo de la couture ouverte demandée le 6 oct.
A12: 46296 | B12: Rosa Delgado | C12: LG-19870 | D12: 46191 | E12: 46195 | F12: =IF($D12="","",IF(COUNTIF('Politiques'!$B$5:$B$14,"<="&$D12)=0,"",INDEX('Politiques'!$A$5:$A$14,COUNTIF('Politiques'!$B$5:$B$14,"<="&$D12)))) | G12: =IF($F12="","",INDEX('Politiques'!$C$5:$C$14,MATCH($F12,'Politiques'!$A$5:$A$14,0))) | H12: =IF(OR($A12="",$D12=""),"",IF($F12="",$A12-$D12,$A12-IF(AND(INDEX('Politiques'!$D$5:$D$14,MATCH($F12,'Politiques'!$A$5:$A$14,0))="Date de livraison",$E12<>""),$E12,$D12))) | I12: =IF(OR($H12="",$G12=""),"",IF($H12<=$G12,"Oui","Non")) | J12: Endommagé ou défectueux | K12: 139 | L12: =IF(OR($A12="",$K12=""),"",IF($I12="Non",'Listes'!$D$7,IF($K12<='Listes'!$E$5,'Listes'!$D$5,IF($K12<='Listes'!$E$6,'Listes'!$D$6,'Listes'!$D$7)))) | M12: =IF($A12="","",WORKDAY($A12,'Listes'!$G$5)) | P12: =IF(OR($M12="",$O12=""),"",IF($O12<=$M12,"Oui","Non")) | U12: =IF($A12="","",IF($T12<>"","Clôturée",IF($O12="",IF(TODAY()>$M12,"Décision en retard","En attente de décision"),IF(OR($N12="Remboursement intégral",$N12="Remboursement partiel"),IF($S12="","Remboursement à effectuer",IF(TODAY()>WORKDAY($S12,'Listes'!$G$6),"Vérifier et clôturer","Remboursement effectué")),"Ouverte")))) | V12: Fermeture éclair cassée après 3 mois, hors délai. Owen décidera : réparation ou avoir
F13: =IF($D13="","",IF(COUNTIF('Politiques'!$B$5:$B$14,"<="&$D13)=0,"",INDEX('Politiques'!$A$5:$A$14,COUNTIF('Politiques'!$B$5:$B$14,"<="&$D13)))) | G13: =IF($F13="","",INDEX('Politiques'!$C$5:$C$14,MATCH($F13,'Politiques'!$A$5:$A$14,0))) | H13: =IF(OR($A13="",$D13=""),"",IF($F13="",$A13-$D13,$A13-IF(AND(INDEX('Politiques'!$D$5:$D$14,MATCH($F13,'Politiques'!$A$5:$A$14,0))="Date de livraison",$E13<>""),$E13,$D13))) | I13: =IF(OR($H13="",$G13=""),"",IF($H13<=$G13,"Oui","Non")) | L13: =IF(OR($A13="",$K13=""),"",IF($I13="Non",'Listes'!$D$7,IF($K13<='Listes'!$E$5,'Listes'!$D$5,IF($K13<='Listes'!$E$6,'Listes'!$D$6,'Listes'!$D$7)))) | M13: =IF($A13="","",WORKDAY($A13,'Listes'!$G$5)) | P13: =IF(OR($M13="",$O13=""),"",IF($O13<=$M13,"Oui","Non")) | U13: =IF($A13="","",IF($T13<>"","Clôturée",IF($O13="",IF(TODAY()>$M13,"Décision en retard","En attente de décision"),IF(OR($N13="Remboursement intégral",$N13="Remboursement partiel"),IF($S13="","Remboursement à effectuer",IF(TODAY()>WORKDAY($S13,'Listes'!$G$6),"Vérifier et clôturer","Remboursement effectué")),"Ouverte"))))
F14: =IF($D14="","",IF(COUNTIF('Politiques'!$B$5:$B$14,"<="&$D14)=0,"",INDEX('Politiques'!$A$5:$A$14,COUNTIF('Politiques'!$B$5:$B$14,"<="&$D14)))) | G14: =IF($F14="","",INDEX('Politiques'!$C$5:$C$14,MATCH($F14,'Politiques'!$A$5:$A$14,0))) | H14: =IF(OR($A14="",$D14=""),"",IF($F14="",$A14-$D14,$A14-IF(AND(INDEX('Politiques'!$D$5:$D$14,MATCH($F14,'Politiques'!$A$5:$A$14,0))="Date de livraison",$E14<>""),$E14,$D14))) | I14: =IF(OR($H14="",$G14=""),"",IF($H14<=$G14,"Oui","Non")) | L14: =IF(OR($A14="",$K14=""),"",IF($I14="Non",'Listes'!$D$7,IF($K14<='Listes'!$E$5,'Listes'!$D$5,IF($K14<='Listes'!$E$6,'Listes'!$D$6,'Listes'!$D$7)))) | M14: =IF($A14="","",WORKDAY($A14,'Listes'!$G$5)) | P14: =IF(OR($M14="",$O14=""),"",IF($O14<=$M14,"Oui","Non")) | U14: =IF($A14="","",IF($T14<>"","Clôturée",IF($O14="",IF(TODAY()>$M14,"Décision en retard","En attente de décision"),IF(OR($N14="Remboursement intégral",$N14="Remboursement partiel"),IF($S14="","Remboursement à effectuer",IF(TODAY()>WORKDAY($S14,'Listes'!$G$6),"Vérifier et clôturer","Remboursement effectué")),"Ouverte"))))
F15: =IF($D15="","",IF(COUNTIF('Politiques'!$B$5:$B$14,"<="&$D15)=0,"",INDEX('Politiques'!$A$5:$A$14,COUNTIF('Politiques'!$B$5:$B$14,"<="&$D15)))) | G15: =IF($F15="","",INDEX('Politiques'!$C$5:$C$14,MATCH($F15,'Politiques'!$A$5:$A$14,0))) | H15: =IF(OR($A15="",$D15=""),"",IF($F15="",$A15-$D15,$A15-IF(AND(INDEX('Politiques'!$D$5:$D$14,MATCH($F15,'Politiques'!$A$5:$A$14,0))="Date de livraison",$E15<>""),$E15,$D15))) | I15: =IF(OR($H15="",$G15=""),"",IF($H15<=$G15,"Oui","Non")) | L15: =IF(OR($A15="",$K15=""),"",IF($I15="Non",'Listes'!$D$7,IF($K15<='Listes'!$E$5,'Listes'!$D$5,IF($K15<='Listes'!$E$6,'Listes'!$D$6,'Listes'!$D$7)))) | M15: =IF($A15="","",WORKDAY($A15,'Listes'!$G$5)) | P15: =IF(OR($M15="",$O15=""),"",IF($O15<=$M15,"Oui","Non")) | U15: =IF($A15="","",IF($T15<>"","Clôturée",IF($O15="",IF(TODAY()>$M15,"Décision en retard","En attente de décision"),IF(OR($N15="Remboursement intégral",$N15="Remboursement partiel"),IF($S15="","Remboursement à effectuer",IF(TODAY()>WORKDAY($S15,'Listes'!$G$6),"Vérifier et clôturer","Remboursement effectué")),"Ouverte"))))
F16: =IF($D16="","",IF(COUNTIF('Politiques'!$B$5:$B$14,"<="&$D16)=0,"",INDEX('Politiques'!$A$5:$A$14,COUNTIF('Politiques'!$B$5:$B$14,"<="&$D16)))) | G16: =IF($F16="","",INDEX('Politiques'!$C$5:$C$14,MATCH($F16,'Politiques'!$A$5:$A$14,0))) | H16: =IF(OR($A16="",$D16=""),"",IF($F16="",$A16-$D16,$A16-IF(AND(INDEX('Politiques'!$D$5:$D$14,MATCH($F16,'Politiques'!$A$5:$A$14,0))="Date de livraison",$E16<>""),$E16,$D16))) | I16: =IF(OR($H16="",$G16=""),"",IF($H16<=$G16,"Oui","Non")) | L16: =IF(OR($A16="",$K16=""),"",IF($I16="Non",'Listes'!$D$7,IF($K16<='Listes'!$E$5,'Listes'!$D$5,IF($K16<='Listes'!$E$6,'Listes'!$D$6,'Listes'!$D$7)))) | M16: =IF($A16="","",WORKDAY($A16,'Listes'!$G$5)) | P16: =IF(OR($M16="",$O16=""),"",IF($O16<=$M16,"Oui","Non")) | U16: =IF($A16="","",IF($T16<>"","Clôturée",IF($O16="",IF(TODAY()>$M16,"Décision en retard","En attente de décision"),IF(OR($N16="Remboursement intégral",$N16="Remboursement partiel"),IF($S16="","Remboursement à effectuer",IF(TODAY()>WORKDAY($S16,'Listes'!$G$6),"Vérifier et clôturer","Remboursement effectué")),"Ouverte"))))
F17: =IF($D17="","",IF(COUNTIF('Politiques'!$B$5:$B$14,"<="&$D17)=0,"",INDEX('Politiques'!$A$5:$A$14,COUNTIF('Politiques'!$B$5:$B$14,"<="&$D17)))) | G17: =IF($F17="","",INDEX('Politiques'!$C$5:$C$14,MATCH($F17,'Politiques'!$A$5:$A$14,0))) | H17: =IF(OR($A17="",$D17=""),"",IF($F17="",$A17-$D17,$A17-IF(AND(INDEX('Politiques'!$D$5:$D$14,MATCH($F17,'Politiques'!$A$5:$A$14,0))="Date de livraison",$E17<>""),$E17,$D17))) | I17: =IF(OR($H17="",$G17=""),"",IF($H17<=$G17,"Oui","Non")) | L17: =IF(OR($A17="",$K17=""),"",IF($I17="Non",'Listes'!$D$7,IF($K17<='Listes'!$E$5,'Listes'!$D$5,IF($K17<='Listes'!$E$6,'Listes'!$D$6,'Listes'!$D$7)))) | M17: =IF($A17="","",WORKDAY($A17,'Listes'!$G$5)) | P17: =IF(OR($M17="",$O17=""),"",IF($O17<=$M17,"Oui","Non")) | U17: =IF($A17="","",IF($T17<>"","Clôturée",IF($O17="",IF(TODAY()>$M17,"Décision en retard","En attente de décision"),IF(OR($N17="Remboursement intégral",$N17="Remboursement partiel"),IF($S17="","Remboursement à effectuer",IF(TODAY()>WORKDAY($S17,'Listes'!$G$6),"Vérifier et clôturer","Remboursement effectué")),"Ouverte"))))
F18: =IF($D18="","",IF(COUNTIF('Politiques'!$B$5:$B$14,"<="&$D18)=0,"",INDEX('Politiques'!$A$5:$A$14,COUNTIF('Politiques'!$B$5:$B$14,"<="&$D18)))) | G18: =IF($F18="","",INDEX('Politiques'!$C$5:$C$14,MATCH($F18,'Politiques'!$A$5:$A$14,0))) | H18: =IF(OR($A18="",$D18=""),"",IF($F18="",$A18-$D18,$A18-IF(AND(INDEX('Politiques'!$D$5:$D$14,MATCH($F18,'Politiques'!$A$5:$A$14,0))="Date de livraison",$E18<>""),$E18,$D18))) | I18: =IF(OR($H18="",$G18=""),"",IF($H18<=$G18,"Oui","Non")) | L18: =IF(OR($A18="",$K18=""),"",IF($I18="Non",'Listes'!$D$7,IF($K18<='Listes'!$E$5,'Listes'!$D$5,IF($K18<='Listes'!$E$6,'Listes'!$D$6,'Listes'!$D$7)))) | M18: =IF($A18="","",WORKDAY($A18,'Listes'!$G$5)) | P18: =IF(OR($M18="",$O18=""),"",IF($O18<=$M18,"Oui","Non")) | U18: =IF($A18="","",IF($T18<>"","Clôturée",IF($O18="",IF(TODAY()>$M18,"Décision en retard","En attente de décision"),IF(OR($N18="Remboursement intégral",$N18="Remboursement partiel"),IF($S18="","Remboursement à effectuer",IF(TODAY()>WORKDAY($S18,'Listes'!$G$6),"Vérifier et clôturer","Remboursement effectué")),"Ouverte"))))
F19: =IF($D19="","",IF(COUNTIF('Politiques'!$B$5:$B$14,"<="&$D19)=0,"",INDEX('Politiques'!$A$5:$A$14,COUNTIF('Politiques'!$B$5:$B$14,"<="&$D19)))) | G19: =IF($F19="","",INDEX('Politiques'!$C$5:$C$14,MATCH($F19,'Politiques'!$A$5:$A$14,0))) | H19: =IF(OR($A19="",$D19=""),"",IF($F19="",$A19-$D19,$A19-IF(AND(INDEX('Politiques'!$D$5:$D$14,MATCH($F19,'Politiques'!$A$5:$A$14,0))="Date de livraison",$E19<>""),$E19,$D19))) | I19: =IF(OR($H19="",$G19=""),"",IF($H19<=$G19,"Oui","Non")) | L19: =IF(OR($A19="",$K19=""),"",IF($I19="Non",'Listes'!$D$7,IF($K19<='Listes'!$E$5,'Listes'!$D$5,IF($K19<='Listes'!$E$6,'Listes'!$D$6,'Listes'!$D$7)))) | M19: =IF($A19="","",WORKDAY($A19,'Listes'!$G$5)) | P19: =IF(OR($M19="",$O19=""),"",IF($O19<=$M19,"Oui","Non")) | U19: =IF($A19="","",IF($T19<>"","Clôturée",IF($O19="",IF(TODAY()>$M19,"Décision en retard","En attente de décision"),IF(OR($N19="Remboursement intégral",$N19="Remboursement partiel"),IF($S19="","Remboursement à effectuer",IF(TODAY()>WORKDAY($S19,'Listes'!$G$6),"Vérifier et clôturer","Remboursement effectué")),"Ouverte"))))
F20: =IF($D20="","",IF(COUNTIF('Politiques'!$B$5:$B$14,"<="&$D20)=0,"",INDEX('Politiques'!$A$5:$A$14,COUNTIF('Politiques'!$B$5:$B$14,"<="&$D20)))) | G20: =IF($F20="","",INDEX('Politiques'!$C$5:$C$14,MATCH($F20,'Politiques'!$A$5:$A$14,0))) | H20: =IF(OR($A20="",$D20=""),"",IF($F20="",$A20-$D20,$A20-IF(AND(INDEX('Politiques'!$D$5:$D$14,MATCH($F20,'Politiques'!$A$5:$A$14,0))="Date de livraison",$E20<>""),$E20,$D20))) | I20: =IF(OR($H20="",$G20=""),"",IF($H20<=$G20,"Oui","Non")) | L20: =IF(OR($A20="",$K20=""),"",IF($I20="Non",'Listes'!$D$7,IF($K20<='Listes'!$E$5,'Listes'!$D$5,IF($K20<='Listes'!$E$6,'Listes'!$D$6,'Listes'!$D$7)))) | M20: =IF($A20="","",WORKDAY($A20,'Listes'!$G$5)) | P20: =IF(OR($M20="",$O20=""),"",IF($O20<=$M20,"Oui","Non")) | U20: =IF($A20="","",IF($T20<>"","Clôturée",IF($O20="",IF(TODAY()>$M20,"Décision en retard","En attente de décision"),IF(OR($N20="Remboursement intégral",$N20="Remboursement partiel"),IF($S20="","Remboursement à effectuer",IF(TODAY()>WORKDAY($S20,'Listes'!$G$6),"Vérifier et clôturer","Remboursement effectué")),"Ouverte"))))
F21: =IF($D21="","",IF(COUNTIF('Politiques'!$B$5:$B$14,"<="&$D21)=0,"",INDEX('Politiques'!$A$5:$A$14,COUNTIF('Politiques'!$B$5:$B$14,"<="&$D21)))) | G21: =IF($F21="","",INDEX('Politiques'!$C$5:$C$14,MATCH($F21,'Politiques'!$A$5:$A$14,0))) | H21: =IF(OR($A21="",$D21=""),"",IF($F21="",$A21-$D21,$A21-IF(AND(INDEX('Politiques'!$D$5:$D$14,MATCH($F21,'Politiques'!$A$5:$A$14,0))="Date de livraison",$E21<>""),$E21,$D21))) | I21: =IF(OR($H21="",$G21=""),"",IF($H21<=$G21,"Oui","Non")) | L21: =IF(OR($A21="",$K21=""),"",IF($I21="Non",'Listes'!$D$7,IF($K21<='Listes'!$E$5,'Listes'!$D$5,IF($K21<='Listes'!$E$6,'Listes'!$D$6,'Listes'!$D$7)))) | M21: =IF($A21="","",WORKDAY($A21,'Listes'!$G$5)) | P21: =IF(OR($M21="",$O21=""),"",IF($O21<=$M21,"Oui","Non")) | U21: =IF($A21="","",IF($T21<>"","Clôturée",IF($O21="",IF(TODAY()>$M21,"Décision en retard","En attente de décision"),IF(OR($N21="Remboursement intégral",$N21="Remboursement partiel"),IF($S21="","Remboursement à effectuer",IF(TODAY()>WORKDAY($S21,'Listes'!$G$6),"Vérifier et clôturer","Remboursement effectué")),"Ouverte"))))
F22: =IF($D22="","",IF(COUNTIF('Politiques'!$B$5:$B$14,"<="&$D22)=0,"",INDEX('Politiques'!$A$5:$A$14,COUNTIF('Politiques'!$B$5:$B$14,"<="&$D22)))) | G22: =IF($F22="","",INDEX('Politiques'!$C$5:$C$14,MATCH($F22,'Politiques'!$A$5:$A$14,0))) | H22: =IF(OR($A22="",$D22=""),"",IF($F22="",$A22-$D22,$A22-IF(AND(INDEX('Politiques'!$D$5:$D$14,MATCH($F22,'Politiques'!$A$5:$A$14,0))="Date de livraison",$E22<>""),$E22,$D22))) | I22: =IF(OR($H22="",$G22=""),"",IF($H22<=$G22,"Oui","Non")) | L22: =IF(OR($A22="",$K22=""),"",IF($I22="Non",'Listes'!$D$7,IF($K22<='Listes'!$E$5,'Listes'!$D$5,IF($K22<='Listes'!$E$6,'Listes'!$D$6,'Listes'!$D$7)))) | M22: =IF($A22="","",WORKDAY($A22,'Listes'!$G$5)) | P22: =IF(OR($M22="",$O22=""),"",IF($O22<=$M22,"Oui","Non")) | U22: =IF($A22="","",IF($T22<>"","Clôturée",IF($O22="",IF(TODAY()>$M22,"Décision en retard","En attente de décision"),IF(OR($N22="Remboursement intégral",$N22="Remboursement partiel"),IF($S22="","Remboursement à effectuer",IF(TODAY()>WORKDAY($S22,'Listes'!$G$6),"Vérifier et clôturer","Remboursement effectué")),"Ouverte"))))
F23: =IF($D23="","",IF(COUNTIF('Politiques'!$B$5:$B$14,"<="&$D23)=0,"",INDEX('Politiques'!$A$5:$A$14,COUNTIF('Politiques'!$B$5:$B$14,"<="&$D23)))) | G23: =IF($F23="","",INDEX('Politiques'!$C$5:$C$14,MATCH($F23,'Politiques'!$A$5:$A$14,0))) | H23: =IF(OR($A23="",$D23=""),"",IF($F23="",$A23-$D23,$A23-IF(AND(INDEX('Politiques'!$D$5:$D$14,MATCH($F23,'Politiques'!$A$5:$A$14,0))="Date de livraison",$E23<>""),$E23,$D23))) | I23: =IF(OR($H23="",$G23=""),"",IF($H23<=$G23,"Oui","Non")) | L23: =IF(OR($A23="",$K23=""),"",IF($I23="Non",'Listes'!$D$7,IF($K23<='Listes'!$E$5,'Listes'!$D$5,IF($K23<='Listes'!$E$6,'Listes'!$D$6,'Listes'!$D$7)))) | M23: =IF($A23="","",WORKDAY($A23,'Listes'!$G$5)) | P23: =IF(OR($M23="",$O23=""),"",IF($O23<=$M23,"Oui","Non")) | U23: =IF($A23="","",IF($T23<>"","Clôturée",IF($O23="",IF(TODAY()>$M23,"Décision en retard","En attente de décision"),IF(OR($N23="Remboursement intégral",$N23="Remboursement partiel"),IF($S23="","Remboursement à effectuer",IF(TODAY()>WORKDAY($S23,'Listes'!$G$6),"Vérifier et clôturer","Remboursement effectué")),"Ouverte"))))
F24: =IF($D24="","",IF(COUNTIF('Politiques'!$B$5:$B$14,"<="&$D24)=0,"",INDEX('Politiques'!$A$5:$A$14,COUNTIF('Politiques'!$B$5:$B$14,"<="&$D24)))) | G24: =IF($F24="","",INDEX('Politiques'!$C$5:$C$14,MATCH($F24,'Politiques'!$A$5:$A$14,0))) | H24: =IF(OR($A24="",$D24=""),"",IF($F24="",$A24-$D24,$A24-IF(AND(INDEX('Politiques'!$D$5:$D$14,MATCH($F24,'Politiques'!$A$5:$A$14,0))="Date de livraison",$E24<>""),$E24,$D24))) | I24: =IF(OR($H24="",$G24=""),"",IF($H24<=$G24,"Oui","Non")) | L24: =IF(OR($A24="",$K24=""),"",IF($I24="Non",'Listes'!$D$7,IF($K24<='Listes'!$E$5,'Listes'!$D$5,IF($K24<='Listes'!$E$6,'Listes'!$D$6,'Listes'!$D$7)))) | M24: =IF($A24="","",WORKDAY($A24,'Listes'!$G$5)) | P24: =IF(OR($M24="",$O24=""),"",IF($O24<=$M24,"Oui","Non")) | U24: =IF($A24="","",IF($T24<>"","Clôturée",IF($O24="",IF(TODAY()>$M24,"Décision en retard","En attente de décision"),IF(OR($N24="Remboursement intégral",$N24="Remboursement partiel"),IF($S24="","Remboursement à effectuer",IF(TODAY()>WORKDAY($S24,'Listes'!$G$6),"Vérifier et clôturer","Remboursement effectué")),"Ouverte"))))
... F204: =IF($D204="","",IF(COUNTIF('Politiques'!$B$5:$B$14,"<="&$D204)=0,"",INDEX('Politiques'!$A$5:$A$14,COUNTIF('Politiques'!$B$5:$B$14,"<="&$D204)))) | G204: =IF($F204="","",INDEX('Politiques'!$C$5:$C$14,MATCH($F204,'Politiques'!$A$5:$A$14,0))) | H204: =IF(OR($A204="",$D204=""),"",IF($F204="",$A204-$D204,$A204-IF(AND(INDEX('Politiques'!$D$5:$D$14,MATCH($F204,'Politiques'!$A$5:$A$14,0))="Date de livraison",$E204<>""),$E204,$D204))) | I204: =IF(OR($H204="",$G204=""),"",IF($H204<=$G204,"Oui","Non")) | L204: =IF(OR($A204="",$K204=""),"",IF($I204="Non",'Listes'!$D$7,IF($K204<='Listes'!$E$5,'Listes'!$D$5,IF($K204<='Listes'!$E$6,'Listes'!$D$6,'Listes'!$D$7)))) | M204: =IF($A204="","",WORKDAY($A204,'Listes'!$G$5)) | P204: =IF(OR($M204="",$O204=""),"",IF($O204<=$M204,"Oui","Non")) | U204: =IF($A204="","",IF($T204<>"","Clôturée",IF($O204="",IF(TODAY()>$M204,"Décision en retard","En attente de décision"),IF(OR($N204="Remboursement intégral",$N204="Remboursement partiel"),IF($S204="","Remboursement à effectuer",IF(TODAY()>WORKDAY($S204,'Listes'!$G$6),"Vérifier et clôturer","Remboursement effectué")),"Ouverte"))))

Sheet Politiques
A1: Versions de la politique de remboursement
A2: Une ligne par version de votre politique de remboursement écrite, de la plus ancienne à la plus récente. Le journal utilise la version en vigueur à chaque date d’achat. Ne supprimez jamais une ancienne version.
A4: Version | B4: En vigueur depuis | C4: Délai de remboursement (jours) | D4: Délai compté à partir de | E4: Ce qui a changé
A5: v1 | B5: 45717 | C5: 14 | D5: Date d’achat | E5: Première politique écrite : 14 jours après l’achat
A6: v2 | B6: 46023 | C6: 30 | D6: Date d’achat | E6: Délai porté à 30 jours après l’achat
A7: v3 | B7: 46266 | C7: 30 | D7: Date de livraison | E7: Délai compté à partir de la livraison ; en cas de changement d’avis, l’étiquette de retour de 7,50 $ est à la charge du client

Sheet Synthèse
A1: Synthèse
A2: Comptes et totaux issus de la feuille Journal des remboursements. Ils se mettent à jour quand vous ajoutez des lignes.
A4: Indicateur | B4: Valeur
A5: Demandes enregistrées | B5: =COUNT('Journal des remboursements'!$A$5:$A$204)
A6: Dans le délai de la politique | B6: =COUNTIF('Journal des remboursements'!$I$5:$I$204,"Oui")
A7: Hors délai de la politique | B7: =COUNTIF('Journal des remboursements'!$I$5:$I$204,"Non")
A8: En attente de décision | B8: =COUNTIF('Journal des remboursements'!$U$5:$U$204,"En attente de décision")
A9: Décision en retard | B9: =COUNTIF('Journal des remboursements'!$U$5:$U$204,"Décision en retard")
A10: Décisions envoyées à la date promise | B10: =IF(COUNT('Journal des remboursements'!$O$5:$O$204)=0,"",COUNTIF('Journal des remboursements'!$P$5:$P$204,"Oui")/COUNT('Journal des remboursements'!$O$5:$O$204))
A11: Nombre moyen de jours avant décision | B11: =IF(COUNT('Journal des remboursements'!$O$5:$O$204)=0,"",(SUM('Journal des remboursements'!$O$5:$O$204)-SUMIFS('Journal des remboursements'!$A$5:$A$204,'Journal des remboursements'!$O$5:$O$204,"<>"))/COUNT('Journal des remboursements'!$O$5:$O$204))
A12: Remboursements à effectuer | B12: =COUNTIF('Journal des remboursements'!$U$5:$U$204,"Remboursement à effectuer")
A13: Remboursements effectués, non clôturés | B13: =COUNTIF('Journal des remboursements'!$U$5:$U$204,"Remboursement effectué")+COUNTIF('Journal des remboursements'!$U$5:$U$204,"Vérifier et clôturer")
A14: Clôturées | B14: =COUNTIF('Journal des remboursements'!$U$5:$U$204,"Clôturée")
A15: Montant remboursé | B15: =SUMIFS('Journal des remboursements'!$Q$5:$Q$204,'Journal des remboursements'!$S$5:$S$204,"<>")
A17: Demandes par motif
A18: Motif | B18: Demandes | C18: Dans le délai | D18: Montant remboursé
A19: Changement d’avis | B19: =COUNTIF('Journal des remboursements'!$J$5:$J$204,A19) | C19: =COUNTIFS('Journal des remboursements'!$J$5:$J$204,A19,'Journal des remboursements'!$I$5:$I$204,"Oui") | D19: =SUMIFS('Journal des remboursements'!$Q$5:$Q$204,'Journal des remboursements'!$J$5:$J$204,A19,'Journal des remboursements'!$S$5:$S$204,"<>")
A20: Endommagé ou défectueux | B20: =COUNTIF('Journal des remboursements'!$J$5:$J$204,A20) | C20: =COUNTIFS('Journal des remboursements'!$J$5:$J$204,A20,'Journal des remboursements'!$I$5:$I$204,"Oui") | D20: =SUMIFS('Journal des remboursements'!$Q$5:$Q$204,'Journal des remboursements'!$J$5:$J$204,A20,'Journal des remboursements'!$S$5:$S$204,"<>")
A21: Mauvais article envoyé | B21: =COUNTIF('Journal des remboursements'!$J$5:$J$204,A21) | C21: =COUNTIFS('Journal des remboursements'!$J$5:$J$204,A21,'Journal des remboursements'!$I$5:$I$204,"Oui") | D21: =SUMIFS('Journal des remboursements'!$Q$5:$Q$204,'Journal des remboursements'!$J$5:$J$204,A21,'Journal des remboursements'!$S$5:$S$204,"<>")
A22: Non conforme à la description | B22: =COUNTIF('Journal des remboursements'!$J$5:$J$204,A22) | C22: =COUNTIFS('Journal des remboursements'!$J$5:$J$204,A22,'Journal des remboursements'!$I$5:$I$204,"Oui") | D22: =SUMIFS('Journal des remboursements'!$Q$5:$Q$204,'Journal des remboursements'!$J$5:$J$204,A22,'Journal des remboursements'!$S$5:$S$204,"<>")
A23: Jamais reçu | B23: =COUNTIF('Journal des remboursements'!$J$5:$J$204,A23) | C23: =COUNTIFS('Journal des remboursements'!$J$5:$J$204,A23,'Journal des remboursements'!$I$5:$I$204,"Oui") | D23: =SUMIFS('Journal des remboursements'!$Q$5:$Q$204,'Journal des remboursements'!$J$5:$J$204,A23,'Journal des remboursements'!$S$5:$S$204,"<>")
A24: Problème de service | B24: =COUNTIF('Journal des remboursements'!$J$5:$J$204,A24) | C24: =COUNTIFS('Journal des remboursements'!$J$5:$J$204,A24,'Journal des remboursements'!$I$5:$I$204,"Oui") | D24: =SUMIFS('Journal des remboursements'!$Q$5:$Q$204,'Journal des remboursements'!$J$5:$J$204,A24,'Journal des remboursements'!$S$5:$S$204,"<>")
A25: Autre | B25: =COUNTIF('Journal des remboursements'!$J$5:$J$204,A25) | C25: =COUNTIFS('Journal des remboursements'!$J$5:$J$204,A25,'Journal des remboursements'!$I$5:$I$204,"Oui") | D25: =SUMIFS('Journal des remboursements'!$Q$5:$Q$204,'Journal des remboursements'!$J$5:$J$204,A25,'Journal des remboursements'!$S$5:$S$204,"<>")
A27: Demandes par décision
A28: Décision | B28: Demandes | C28: Montant remboursé
A29: Remboursement intégral | B29: =COUNTIF('Journal des remboursements'!$N$5:$N$204,A29) | C29: =SUMIFS('Journal des remboursements'!$Q$5:$Q$204,'Journal des remboursements'!$N$5:$N$204,A29,'Journal des remboursements'!$S$5:$S$204,"<>")
A30: Remboursement partiel | B30: =COUNTIF('Journal des remboursements'!$N$5:$N$204,A30) | C30: =SUMIFS('Journal des remboursements'!$Q$5:$Q$204,'Journal des remboursements'!$N$5:$N$204,A30,'Journal des remboursements'!$S$5:$S$204,"<>")
A31: Avoir | B31: =COUNTIF('Journal des remboursements'!$N$5:$N$204,A31) | C31: =SUMIFS('Journal des remboursements'!$Q$5:$Q$204,'Journal des remboursements'!$N$5:$N$204,A31,'Journal des remboursements'!$S$5:$S$204,"<>")
A32: Échange ou réparation | B32: =COUNTIF('Journal des remboursements'!$N$5:$N$204,A32) | C32: =SUMIFS('Journal des remboursements'!$Q$5:$Q$204,'Journal des remboursements'!$N$5:$N$204,A32,'Journal des remboursements'!$S$5:$S$204,"<>")
A33: Refusé | B33: =COUNTIF('Journal des remboursements'!$N$5:$N$204,A33) | C33: =SUMIFS('Journal des remboursements'!$Q$5:$Q$204,'Journal des remboursements'!$N$5:$N$204,A33,'Journal des remboursements'!$S$5:$S$204,"<>")
A35: Demandes par approbateur
A36: Approbateur | B36: Demandes | C36: En attente de décision
A37: ='Listes'!$D$5 | B37: =COUNTIF('Journal des remboursements'!$L$5:$L$204,A37) | C37: =COUNTIFS('Journal des remboursements'!$L$5:$L$204,A37,'Journal des remboursements'!$U$5:$U$204,"En attente de décision")+COUNTIFS('Journal des remboursements'!$L$5:$L$204,A37,'Journal des remboursements'!$U$5:$U$204,"Décision en retard")
A38: ='Listes'!$D$6 | B38: =COUNTIF('Journal des remboursements'!$L$5:$L$204,A38) | C38: =COUNTIFS('Journal des remboursements'!$L$5:$L$204,A38,'Journal des remboursements'!$U$5:$U$204,"En attente de décision")+COUNTIFS('Journal des remboursements'!$L$5:$L$204,A38,'Journal des remboursements'!$U$5:$U$204,"Décision en retard")
A39: ='Listes'!$D$7 | B39: =COUNTIF('Journal des remboursements'!$L$5:$L$204,A39) | C39: =COUNTIFS('Journal des remboursements'!$L$5:$L$204,A39,'Journal des remboursements'!$U$5:$U$204,"En attente de décision")+COUNTIFS('Journal des remboursements'!$L$5:$L$204,A39,'Journal des remboursements'!$U$5:$U$204,"Décision en retard")
A41: Modèle gratuit de CRMsoftware.pro. Données d’exemple fictives.

Sheet Listes
A1: Listes et paramètres
A2: Adaptez les approbateurs et les plafonds à votre équipe. Les listes alimentent les menus déroulants des feuilles Journal des remboursements et Politiques. Les objectifs se comptent en jours ouvrés.
A4: Motif | B4: Décision | C4: Délai compté à partir de | D4: Approbateur | E4: Approuve jusqu’à ($) | F4: Paramètre | G4: Valeur
A5: Changement d’avis | B5: Remboursement intégral | C5: Date d’achat | D5: Ivy Chen, support | E5: 50 | F5: Objectif de réponse (jours ouvrés) | G5: 2
A6: Endommagé ou défectueux | B6: Remboursement partiel | C6: Date de livraison | D6: Mateo Ruiz, opérations | E6: 200 | F6: Vérifier le remboursement après (jours ouvrés) | G6: 10
A7: Mauvais article envoyé | B7: Avoir | D7: Owen Park, dirigeant | E7: Tout montant, et toute demande hors du délai de la politique
A8: Non conforme à la description | B8: Échange ou réparation
A9: Jamais reçu | B9: Refusé
A10: Problème de service
A11: Autre
