Workbook

Sheet Registro lead
A1: Registro di lead e appuntamenti
A2: Una riga per lead. Entro 15 min e Prossimo passo si compilano da soli. Modifica fonti e venditori nel foglio Elenchi.
A3: Minuti alla prima risposta: dal lead alla tua prima chiamata o risposta; per i lead arrivati dopo la chiusura, conta dall’apertura; 0 per le visite spontanee. Le date di esempio sono relative a oggi.
A4: Data lead | B4: Fonte | C4: Modello di interesse | D4: Contatto | E4: Venditore | F4: Minuti alla prima risposta | G4: Entro 15 min | H4: Appuntamento fissato | I4: Data appuntamento | J4: Presentato | K4: Prova su strada | L4: Venduto | M4: Prossimo passo | N4: Motivo perdita | O4: Note
A5: =TODAY()-12 | B5: Chat del sito | C5: SUV medio grigio 2024 | D5: Monica Ferreira | E5: Tyler | F5: 4 | G5: =IF($F5="","",IF($F5<=15,"Sì","No")) | H5: Sì | I5: =TODAY()-10 | J5: Sì | K5: Sì | L5: Sì | M5: =IF($D5="","",IF($L5="Sì","Venduto",IF($N5<>"","Perso",IF($F5="","Rispondi ora",IF($H5<>"Sì","Fissa l’appuntamento",IF($J5="",IF(AND($I5<>"",$I5<TODAY()),"Assente: chiama","Conferma il giorno prima"),IF($J5="No","Assente: chiama","Ricontatto: giorno 1, 3, 7"))))))) | O5: Venduto mar 13 ott, 28.900 $; permuta 6.200 $; finanziamento della sua cooperativa di credito
A6: =TODAY()-14 | B6: Modulo web | C6: Berlina compatta 2026 | D6: Darius Okafor | E6: Tyler | F6: 9 | G6: =IF($F6="","",IF($F6<=15,"Sì","No")) | H6: Sì | I6: =TODAY()-13 | J6: No | K6: No | L6: No | M6: =IF($D6="","",IF($L6="Sì","Venduto",IF($N6<>"","Perso",IF($F6="","Rispondi ora",IF($H6<>"Sì","Fissa l’appuntamento",IF($J6="",IF(AND($I6<>"",$I6<TODAY()),"Assente: chiama","Conferma il giorno prima"),IF($J6="No","Assente: chiama","Ricontatto: giorno 1, 3, 7"))))))) | O6: Non presentato; messaggio in segreteria ed email inviati
A7: =TODAY()-11 | B7: Telefono | C7: Pickup 2023 | D7: Helen Marchetti | E7: Aisha | F7: 2 | G7: =IF($F7="","",IF($F7<=15,"Sì","No")) | H7: Sì | I7: =TODAY()-9 | J7: Sì | K7: Sì | L7: No | M7: =IF($D7="","",IF($L7="Sì","Venduto",IF($N7<>"","Perso",IF($F7="","Rispondi ora",IF($H7<>"Sì","Fissa l’appuntamento",IF($J7="",IF(AND($I7<>"",$I7<TODAY()),"Assente: chiama","Conferma il giorno prima"),IF($J7="No","Assente: chiama","Ricontatto: giorno 1, 3, 7"))))))) | O7: Ha fatto la prova; vuole il cassone lungo; chiamata del giorno 3 fatta
A8: =TODAY()-9 | B8: Annuncio su portale | C8: SUV medio 2022 | D8: Luis Barros | E8: Tyler | F8: 31 | G8: =IF($F8="","",IF($F8<=15,"Sì","No")) | H8: No | L8: No | M8: =IF($D8="","",IF($L8="Sì","Venduto",IF($N8<>"","Perso",IF($F8="","Rispondi ora",IF($H8<>"Sì","Fissa l’appuntamento",IF($J8="",IF(AND($I8<>"",$I8<TODAY()),"Assente: chiama","Conferma il giorno prima"),IF($J8="No","Assente: chiama","Ricontatto: giorno 1, 3, 7"))))))) | N8: Ha comprato altrove | O8: Risposta dopo 31 minuti; aveva già preso appuntamento da un altro concessionario
A9: =TODAY()-8 | B9: Chat del sito | C9: Compatta ibrida 5 porte 2026 | D9: Yuki Tanaka | E9: Aisha | F9: 6 | G9: =IF($F9="","",IF($F9<=15,"Sì","No")) | H9: Sì | I9: =TODAY()-6 | J9: Sì | K9: Sì | L9: Sì | M9: =IF($D9="","",IF($L9="Sì","Venduto",IF($N9<>"","Perso",IF($F9="","Rispondi ora",IF($H9<>"Sì","Fissa l’appuntamento",IF($J9="",IF(AND($I9<>"",$I9<TODAY()),"Assente: chiama","Conferma il giorno prima"),IF($J9="No","Assente: chiama","Ricontatto: giorno 1, 3, 7"))))))) | O9: Venduto lun 12 ott; nessuna permuta
A10: =TODAY()-7 | B10: Modulo web | C10: Monovolume 2024 | D10: Robert Achebe | E10: Tyler | F10: 12 | G10: =IF($F10="","",IF($F10<=15,"Sì","No")) | H10: Sì | I10: =TODAY()-5 | J10: Sì | K10: No | L10: No | M10: =IF($D10="","",IF($L10="Sì","Venduto",IF($N10<>"","Perso",IF($F10="","Rispondi ora",IF($H10<>"Sì","Fissa l’appuntamento",IF($J10="",IF(AND($I10<>"",$I10<TODAY()),"Assente: chiama","Conferma il giorno prima"),IF($J10="No","Assente: chiama","Ricontatto: giorno 1, 3, 7"))))))) | O10: Vuole una terza fila con più spazio per le gambe; inviate le foto dei nuovi arrivi
A11: =TODAY()-6 | B11: Segnalazione | C11: SUV compatto 2025 | D11: Fatima Rahimi | E11: Aisha | F11: 3 | G11: =IF($F11="","",IF($F11<=15,"Sì","No")) | H11: Sì | I11: =TODAY()-4 | J11: Sì | K11: Sì | L11: No | M11: =IF($D11="","",IF($L11="Sì","Venduto",IF($N11<>"","Perso",IF($F11="","Rispondi ora",IF($H11<>"Sì","Fissa l’appuntamento",IF($J11="",IF(AND($I11<>"",$I11<TODAY()),"Assente: chiama","Conferma il giorno prima"),IF($J11="No","Assente: chiama","Ricontatto: giorno 1, 3, 7"))))))) | O11: Offerta di permuta 9.400 $, valida fino al 21 ott
A12: =TODAY()-5 | B12: Officina | C12: SUV medio 2026 | D12: Greg Thornton | E12: Tyler | F12: 0 | G12: =IF($F12="","",IF($F12<=15,"Sì","No")) | H12: Sì | I12: =TODAY()-5 | J12: Sì | K12: Sì | L12: No | M12: =IF($D12="","",IF($L12="Sì","Venduto",IF($N12<>"","Perso",IF($F12="","Rispondi ora",IF($H12<>"Sì","Fissa l’appuntamento",IF($J12="",IF(AND($I12<>"",$I12<TODAY()),"Assente: chiama","Conferma il giorno prima"),IF($J12="No","Assente: chiama","Ricontatto: giorno 1, 3, 7"))))))) | O12: In officina per assistenza; prova durante l’attesa; preventivo inviato via email
A13: =TODAY()-4 | B13: Chat del sito | C13: Berlina compatta 2023 | D13: Petra Sandoval | E13: Aisha | F13: 48 | G13: =IF($F13="","",IF($F13<=15,"Sì","No")) | H13: No | L13: No | M13: =IF($D13="","",IF($L13="Sì","Venduto",IF($N13<>"","Perso",IF($F13="","Rispondi ora",IF($H13<>"Sì","Fissa l’appuntamento",IF($J13="",IF(AND($I13<>"",$I13<TODAY()),"Assente: chiama","Conferma il giorno prima"),IF($J13="No","Assente: chiama","Ricontatto: giorno 1, 3, 7"))))))) | O13: Chat alle 12:10, risposta alle 12:58: nessuno a coprire la pausa pranzo
A14: =TODAY()-3 | B14: Telefono | C14: Pickup 2022 | D14: Karim Bouchard | E14: Tyler | F14: 1 | G14: =IF($F14="","",IF($F14<=15,"Sì","No")) | H14: Sì | I14: =TODAY()+1 | L14: No | M14: =IF($D14="","",IF($L14="Sì","Venduto",IF($N14<>"","Perso",IF($F14="","Rispondi ora",IF($H14<>"Sì","Fissa l’appuntamento",IF($J14="",IF(AND($I14<>"",$I14<TODAY()),"Assente: chiama","Conferma il giorno prima"),IF($J14="No","Assente: chiama","Ricontatto: giorno 1, 3, 7"))))))) | O14: Ha chiamato per la capacità di traino; visita fissata
A15: =TODAY()-2 | B15: Visita spontanea | C15: SUV medio 2024 | D15: Nadia Petrova | E15: Aisha | F15: 0 | G15: =IF($F15="","",IF($F15<=15,"Sì","No")) | H15: Sì | I15: =TODAY()-2 | J15: Sì | K15: Sì | L15: No | M15: =IF($D15="","",IF($L15="Sì","Venduto",IF($N15<>"","Perso",IF($F15="","Rispondi ora",IF($H15<>"Sì","Fissa l’appuntamento",IF($J15="",IF(AND($I15<>"",$I15<TODAY()),"Assente: chiama","Conferma il giorno prima"),IF($J15="No","Assente: chiama","Ricontatto: giorno 1, 3, 7"))))))) | O15: Visita spontanea; email del giorno 1 inviata; chiamata del giorno 3 lunedì
A16: =TODAY()-1 | B16: Modulo web | C16: Berlina compatta 2026 | D16: Nate Holloway | E16: Tyler | G16: =IF($F16="","",IF($F16<=15,"Sì","No")) | M16: =IF($D16="","",IF($L16="Sì","Venduto",IF($N16<>"","Perso",IF($F16="","Rispondi ora",IF($H16<>"Sì","Fissa l’appuntamento",IF($J16="",IF(AND($I16<>"",$I16<TODAY()),"Assente: chiama","Conferma il giorno prima"),IF($J16="No","Assente: chiama","Ricontatto: giorno 1, 3, 7"))))))) | O16: Modulo sabato alle 19:30; chiamata lunedì all’apertura
G17: =IF($F17="","",IF($F17<=15,"Sì","No")) | M17: =IF($D17="","",IF($L17="Sì","Venduto",IF($N17<>"","Perso",IF($F17="","Rispondi ora",IF($H17<>"Sì","Fissa l’appuntamento",IF($J17="",IF(AND($I17<>"",$I17<TODAY()),"Assente: chiama","Conferma il giorno prima"),IF($J17="No","Assente: chiama","Ricontatto: giorno 1, 3, 7")))))))
G18: =IF($F18="","",IF($F18<=15,"Sì","No")) | M18: =IF($D18="","",IF($L18="Sì","Venduto",IF($N18<>"","Perso",IF($F18="","Rispondi ora",IF($H18<>"Sì","Fissa l’appuntamento",IF($J18="",IF(AND($I18<>"",$I18<TODAY()),"Assente: chiama","Conferma il giorno prima"),IF($J18="No","Assente: chiama","Ricontatto: giorno 1, 3, 7")))))))
G19: =IF($F19="","",IF($F19<=15,"Sì","No")) | M19: =IF($D19="","",IF($L19="Sì","Venduto",IF($N19<>"","Perso",IF($F19="","Rispondi ora",IF($H19<>"Sì","Fissa l’appuntamento",IF($J19="",IF(AND($I19<>"",$I19<TODAY()),"Assente: chiama","Conferma il giorno prima"),IF($J19="No","Assente: chiama","Ricontatto: giorno 1, 3, 7")))))))
G20: =IF($F20="","",IF($F20<=15,"Sì","No")) | M20: =IF($D20="","",IF($L20="Sì","Venduto",IF($N20<>"","Perso",IF($F20="","Rispondi ora",IF($H20<>"Sì","Fissa l’appuntamento",IF($J20="",IF(AND($I20<>"",$I20<TODAY()),"Assente: chiama","Conferma il giorno prima"),IF($J20="No","Assente: chiama","Ricontatto: giorno 1, 3, 7")))))))
G21: =IF($F21="","",IF($F21<=15,"Sì","No")) | M21: =IF($D21="","",IF($L21="Sì","Venduto",IF($N21<>"","Perso",IF($F21="","Rispondi ora",IF($H21<>"Sì","Fissa l’appuntamento",IF($J21="",IF(AND($I21<>"",$I21<TODAY()),"Assente: chiama","Conferma il giorno prima"),IF($J21="No","Assente: chiama","Ricontatto: giorno 1, 3, 7")))))))
G22: =IF($F22="","",IF($F22<=15,"Sì","No")) | M22: =IF($D22="","",IF($L22="Sì","Venduto",IF($N22<>"","Perso",IF($F22="","Rispondi ora",IF($H22<>"Sì","Fissa l’appuntamento",IF($J22="",IF(AND($I22<>"",$I22<TODAY()),"Assente: chiama","Conferma il giorno prima"),IF($J22="No","Assente: chiama","Ricontatto: giorno 1, 3, 7")))))))
G23: =IF($F23="","",IF($F23<=15,"Sì","No")) | M23: =IF($D23="","",IF($L23="Sì","Venduto",IF($N23<>"","Perso",IF($F23="","Rispondi ora",IF($H23<>"Sì","Fissa l’appuntamento",IF($J23="",IF(AND($I23<>"",$I23<TODAY()),"Assente: chiama","Conferma il giorno prima"),IF($J23="No","Assente: chiama","Ricontatto: giorno 1, 3, 7")))))))
G24: =IF($F24="","",IF($F24<=15,"Sì","No")) | M24: =IF($D24="","",IF($L24="Sì","Venduto",IF($N24<>"","Perso",IF($F24="","Rispondi ora",IF($H24<>"Sì","Fissa l’appuntamento",IF($J24="",IF(AND($I24<>"",$I24<TODAY()),"Assente: chiama","Conferma il giorno prima"),IF($J24="No","Assente: chiama","Ricontatto: giorno 1, 3, 7")))))))
G25: =IF($F25="","",IF($F25<=15,"Sì","No")) | M25: =IF($D25="","",IF($L25="Sì","Venduto",IF($N25<>"","Perso",IF($F25="","Rispondi ora",IF($H25<>"Sì","Fissa l’appuntamento",IF($J25="",IF(AND($I25<>"",$I25<TODAY()),"Assente: chiama","Conferma il giorno prima"),IF($J25="No","Assente: chiama","Ricontatto: giorno 1, 3, 7")))))))
G26: =IF($F26="","",IF($F26<=15,"Sì","No")) | M26: =IF($D26="","",IF($L26="Sì","Venduto",IF($N26<>"","Perso",IF($F26="","Rispondi ora",IF($H26<>"Sì","Fissa l’appuntamento",IF($J26="",IF(AND($I26<>"",$I26<TODAY()),"Assente: chiama","Conferma il giorno prima"),IF($J26="No","Assente: chiama","Ricontatto: giorno 1, 3, 7")))))))
G27: =IF($F27="","",IF($F27<=15,"Sì","No")) | M27: =IF($D27="","",IF($L27="Sì","Venduto",IF($N27<>"","Perso",IF($F27="","Rispondi ora",IF($H27<>"Sì","Fissa l’appuntamento",IF($J27="",IF(AND($I27<>"",$I27<TODAY()),"Assente: chiama","Conferma il giorno prima"),IF($J27="No","Assente: chiama","Ricontatto: giorno 1, 3, 7")))))))
G28: =IF($F28="","",IF($F28<=15,"Sì","No")) | M28: =IF($D28="","",IF($L28="Sì","Venduto",IF($N28<>"","Perso",IF($F28="","Rispondi ora",IF($H28<>"Sì","Fissa l’appuntamento",IF($J28="",IF(AND($I28<>"",$I28<TODAY()),"Assente: chiama","Conferma il giorno prima"),IF($J28="No","Assente: chiama","Ricontatto: giorno 1, 3, 7")))))))
... G204: =IF($F204="","",IF($F204<=15,"Sì","No")) | M204: =IF($D204="","",IF($L204="Sì","Venduto",IF($N204<>"","Perso",IF($F204="","Rispondi ora",IF($H204<>"Sì","Fissa l’appuntamento",IF($J204="",IF(AND($I204<>"",$I204<TODAY()),"Assente: chiama","Conferma il giorno prima"),IF($J204="No","Assente: chiama","Ricontatto: giorno 1, 3, 7")))))))

Sheet Riepilogo
A1: Riepilogo dei lead
A2: Totali dal foglio Registro lead. Si aggiornano quando modifichi una riga.
A4: Indicatore | B4: Totale
A5: Lead registrati | B5: =COUNTA('Registro lead'!$D$5:$D$204)
A6: Lead con tempo di prima risposta | B6: =COUNT('Registro lead'!$F$5:$F$204)
A7: Con risposta entro 15 minuti | B7: =COUNTIF('Registro lead'!$G$5:$G$204,"Sì")
A8: Quota entro 15 minuti | B8: =IF(B6=0,"",B7/B6)
A9: Media minuti alla prima risposta | B9: =IF(B6=0,"",AVERAGE('Registro lead'!$F$5:$F$204))
A10: Appuntamenti fissati | B10: =COUNTIF('Registro lead'!$H$5:$H$204,"Sì")
A11: Presentati | B11: =COUNTIF('Registro lead'!$J$5:$J$204,"Sì")
A12: Tasso di presenza | B12: =IF(B10=0,"",B11/B10)
A13: Prove su strada | B13: =COUNTIF('Registro lead'!$K$5:$K$204,"Sì")
A14: Venduti | B14: =COUNTIF('Registro lead'!$L$5:$L$204,"Sì")
A15: Tasso di vendita | B15: =IF(B5=0,"",B14/B5)
A17: Per fonte
A18: Fonte | B18: Lead | C18: Appuntamenti | D18: Presentati | E18: Tasso di presenza | F18: Venduti | G18: Tasso di vendita
A19: =IF('Elenchi'!$A$5="","",'Elenchi'!$A$5) | B19: =IF(A19="","",COUNTIFS('Registro lead'!$B$5:$B$204,A19,'Registro lead'!$D$5:$D$204,"<>")) | C19: =IF(A19="","",COUNTIFS('Registro lead'!$B$5:$B$204,A19,'Registro lead'!$H$5:$H$204,"Sì")) | D19: =IF(A19="","",COUNTIFS('Registro lead'!$B$5:$B$204,A19,'Registro lead'!$J$5:$J$204,"Sì")) | E19: =IF(OR(A19="",C19=0),"",D19/C19) | F19: =IF(A19="","",COUNTIFS('Registro lead'!$B$5:$B$204,A19,'Registro lead'!$L$5:$L$204,"Sì")) | G19: =IF(OR(A19="",B19=0),"",F19/B19)
A20: =IF('Elenchi'!$A$6="","",'Elenchi'!$A$6) | B20: =IF(A20="","",COUNTIFS('Registro lead'!$B$5:$B$204,A20,'Registro lead'!$D$5:$D$204,"<>")) | C20: =IF(A20="","",COUNTIFS('Registro lead'!$B$5:$B$204,A20,'Registro lead'!$H$5:$H$204,"Sì")) | D20: =IF(A20="","",COUNTIFS('Registro lead'!$B$5:$B$204,A20,'Registro lead'!$J$5:$J$204,"Sì")) | E20: =IF(OR(A20="",C20=0),"",D20/C20) | F20: =IF(A20="","",COUNTIFS('Registro lead'!$B$5:$B$204,A20,'Registro lead'!$L$5:$L$204,"Sì")) | G20: =IF(OR(A20="",B20=0),"",F20/B20)
A21: =IF('Elenchi'!$A$7="","",'Elenchi'!$A$7) | B21: =IF(A21="","",COUNTIFS('Registro lead'!$B$5:$B$204,A21,'Registro lead'!$D$5:$D$204,"<>")) | C21: =IF(A21="","",COUNTIFS('Registro lead'!$B$5:$B$204,A21,'Registro lead'!$H$5:$H$204,"Sì")) | D21: =IF(A21="","",COUNTIFS('Registro lead'!$B$5:$B$204,A21,'Registro lead'!$J$5:$J$204,"Sì")) | E21: =IF(OR(A21="",C21=0),"",D21/C21) | F21: =IF(A21="","",COUNTIFS('Registro lead'!$B$5:$B$204,A21,'Registro lead'!$L$5:$L$204,"Sì")) | G21: =IF(OR(A21="",B21=0),"",F21/B21)
A22: =IF('Elenchi'!$A$8="","",'Elenchi'!$A$8) | B22: =IF(A22="","",COUNTIFS('Registro lead'!$B$5:$B$204,A22,'Registro lead'!$D$5:$D$204,"<>")) | C22: =IF(A22="","",COUNTIFS('Registro lead'!$B$5:$B$204,A22,'Registro lead'!$H$5:$H$204,"Sì")) | D22: =IF(A22="","",COUNTIFS('Registro lead'!$B$5:$B$204,A22,'Registro lead'!$J$5:$J$204,"Sì")) | E22: =IF(OR(A22="",C22=0),"",D22/C22) | F22: =IF(A22="","",COUNTIFS('Registro lead'!$B$5:$B$204,A22,'Registro lead'!$L$5:$L$204,"Sì")) | G22: =IF(OR(A22="",B22=0),"",F22/B22)
A23: =IF('Elenchi'!$A$9="","",'Elenchi'!$A$9) | B23: =IF(A23="","",COUNTIFS('Registro lead'!$B$5:$B$204,A23,'Registro lead'!$D$5:$D$204,"<>")) | C23: =IF(A23="","",COUNTIFS('Registro lead'!$B$5:$B$204,A23,'Registro lead'!$H$5:$H$204,"Sì")) | D23: =IF(A23="","",COUNTIFS('Registro lead'!$B$5:$B$204,A23,'Registro lead'!$J$5:$J$204,"Sì")) | E23: =IF(OR(A23="",C23=0),"",D23/C23) | F23: =IF(A23="","",COUNTIFS('Registro lead'!$B$5:$B$204,A23,'Registro lead'!$L$5:$L$204,"Sì")) | G23: =IF(OR(A23="",B23=0),"",F23/B23)
A24: =IF('Elenchi'!$A$10="","",'Elenchi'!$A$10) | B24: =IF(A24="","",COUNTIFS('Registro lead'!$B$5:$B$204,A24,'Registro lead'!$D$5:$D$204,"<>")) | C24: =IF(A24="","",COUNTIFS('Registro lead'!$B$5:$B$204,A24,'Registro lead'!$H$5:$H$204,"Sì")) | D24: =IF(A24="","",COUNTIFS('Registro lead'!$B$5:$B$204,A24,'Registro lead'!$J$5:$J$204,"Sì")) | E24: =IF(OR(A24="",C24=0),"",D24/C24) | F24: =IF(A24="","",COUNTIFS('Registro lead'!$B$5:$B$204,A24,'Registro lead'!$L$5:$L$204,"Sì")) | G24: =IF(OR(A24="",B24=0),"",F24/B24)
A25: =IF('Elenchi'!$A$11="","",'Elenchi'!$A$11) | B25: =IF(A25="","",COUNTIFS('Registro lead'!$B$5:$B$204,A25,'Registro lead'!$D$5:$D$204,"<>")) | C25: =IF(A25="","",COUNTIFS('Registro lead'!$B$5:$B$204,A25,'Registro lead'!$H$5:$H$204,"Sì")) | D25: =IF(A25="","",COUNTIFS('Registro lead'!$B$5:$B$204,A25,'Registro lead'!$J$5:$J$204,"Sì")) | E25: =IF(OR(A25="",C25=0),"",D25/C25) | F25: =IF(A25="","",COUNTIFS('Registro lead'!$B$5:$B$204,A25,'Registro lead'!$L$5:$L$204,"Sì")) | G25: =IF(OR(A25="",B25=0),"",F25/B25)
A26: =IF('Elenchi'!$A$12="","",'Elenchi'!$A$12) | B26: =IF(A26="","",COUNTIFS('Registro lead'!$B$5:$B$204,A26,'Registro lead'!$D$5:$D$204,"<>")) | C26: =IF(A26="","",COUNTIFS('Registro lead'!$B$5:$B$204,A26,'Registro lead'!$H$5:$H$204,"Sì")) | D26: =IF(A26="","",COUNTIFS('Registro lead'!$B$5:$B$204,A26,'Registro lead'!$J$5:$J$204,"Sì")) | E26: =IF(OR(A26="",C26=0),"",D26/C26) | F26: =IF(A26="","",COUNTIFS('Registro lead'!$B$5:$B$204,A26,'Registro lead'!$L$5:$L$204,"Sì")) | G26: =IF(OR(A26="",B26=0),"",F26/B26)
A27: =IF('Elenchi'!$A$13="","",'Elenchi'!$A$13) | B27: =IF(A27="","",COUNTIFS('Registro lead'!$B$5:$B$204,A27,'Registro lead'!$D$5:$D$204,"<>")) | C27: =IF(A27="","",COUNTIFS('Registro lead'!$B$5:$B$204,A27,'Registro lead'!$H$5:$H$204,"Sì")) | D27: =IF(A27="","",COUNTIFS('Registro lead'!$B$5:$B$204,A27,'Registro lead'!$J$5:$J$204,"Sì")) | E27: =IF(OR(A27="",C27=0),"",D27/C27) | F27: =IF(A27="","",COUNTIFS('Registro lead'!$B$5:$B$204,A27,'Registro lead'!$L$5:$L$204,"Sì")) | G27: =IF(OR(A27="",B27=0),"",F27/B27)
A28: =IF('Elenchi'!$A$14="","",'Elenchi'!$A$14) | B28: =IF(A28="","",COUNTIFS('Registro lead'!$B$5:$B$204,A28,'Registro lead'!$D$5:$D$204,"<>")) | C28: =IF(A28="","",COUNTIFS('Registro lead'!$B$5:$B$204,A28,'Registro lead'!$H$5:$H$204,"Sì")) | D28: =IF(A28="","",COUNTIFS('Registro lead'!$B$5:$B$204,A28,'Registro lead'!$J$5:$J$204,"Sì")) | E28: =IF(OR(A28="",C28=0),"",D28/C28) | F28: =IF(A28="","",COUNTIFS('Registro lead'!$B$5:$B$204,A28,'Registro lead'!$L$5:$L$204,"Sì")) | G28: =IF(OR(A28="",B28=0),"",F28/B28)
A29: =IF('Elenchi'!$A$15="","",'Elenchi'!$A$15) | B29: =IF(A29="","",COUNTIFS('Registro lead'!$B$5:$B$204,A29,'Registro lead'!$D$5:$D$204,"<>")) | C29: =IF(A29="","",COUNTIFS('Registro lead'!$B$5:$B$204,A29,'Registro lead'!$H$5:$H$204,"Sì")) | D29: =IF(A29="","",COUNTIFS('Registro lead'!$B$5:$B$204,A29,'Registro lead'!$J$5:$J$204,"Sì")) | E29: =IF(OR(A29="",C29=0),"",D29/C29) | F29: =IF(A29="","",COUNTIFS('Registro lead'!$B$5:$B$204,A29,'Registro lead'!$L$5:$L$204,"Sì")) | G29: =IF(OR(A29="",B29=0),"",F29/B29)
A30: =IF('Elenchi'!$A$16="","",'Elenchi'!$A$16) | B30: =IF(A30="","",COUNTIFS('Registro lead'!$B$5:$B$204,A30,'Registro lead'!$D$5:$D$204,"<>")) | C30: =IF(A30="","",COUNTIFS('Registro lead'!$B$5:$B$204,A30,'Registro lead'!$H$5:$H$204,"Sì")) | D30: =IF(A30="","",COUNTIFS('Registro lead'!$B$5:$B$204,A30,'Registro lead'!$J$5:$J$204,"Sì")) | E30: =IF(OR(A30="",C30=0),"",D30/C30) | F30: =IF(A30="","",COUNTIFS('Registro lead'!$B$5:$B$204,A30,'Registro lead'!$L$5:$L$204,"Sì")) | G30: =IF(OR(A30="",B30=0),"",F30/B30)
A32: Per venditore
A33: Venditore | B33: Lead | C33: Appuntamenti | D33: Presentati | E33: Tasso di presenza | F33: Venduti | G33: Tasso di vendita
A34: =IF('Elenchi'!$B$5="","",'Elenchi'!$B$5) | B34: =IF(A34="","",COUNTIFS('Registro lead'!$E$5:$E$204,A34,'Registro lead'!$D$5:$D$204,"<>")) | C34: =IF(A34="","",COUNTIFS('Registro lead'!$E$5:$E$204,A34,'Registro lead'!$H$5:$H$204,"Sì")) | D34: =IF(A34="","",COUNTIFS('Registro lead'!$E$5:$E$204,A34,'Registro lead'!$J$5:$J$204,"Sì")) | E34: =IF(OR(A34="",C34=0),"",D34/C34) | F34: =IF(A34="","",COUNTIFS('Registro lead'!$E$5:$E$204,A34,'Registro lead'!$L$5:$L$204,"Sì")) | G34: =IF(OR(A34="",B34=0),"",F34/B34)
A35: =IF('Elenchi'!$B$6="","",'Elenchi'!$B$6) | B35: =IF(A35="","",COUNTIFS('Registro lead'!$E$5:$E$204,A35,'Registro lead'!$D$5:$D$204,"<>")) | C35: =IF(A35="","",COUNTIFS('Registro lead'!$E$5:$E$204,A35,'Registro lead'!$H$5:$H$204,"Sì")) | D35: =IF(A35="","",COUNTIFS('Registro lead'!$E$5:$E$204,A35,'Registro lead'!$J$5:$J$204,"Sì")) | E35: =IF(OR(A35="",C35=0),"",D35/C35) | F35: =IF(A35="","",COUNTIFS('Registro lead'!$E$5:$E$204,A35,'Registro lead'!$L$5:$L$204,"Sì")) | G35: =IF(OR(A35="",B35=0),"",F35/B35)
A36: =IF('Elenchi'!$B$7="","",'Elenchi'!$B$7) | B36: =IF(A36="","",COUNTIFS('Registro lead'!$E$5:$E$204,A36,'Registro lead'!$D$5:$D$204,"<>")) | C36: =IF(A36="","",COUNTIFS('Registro lead'!$E$5:$E$204,A36,'Registro lead'!$H$5:$H$204,"Sì")) | D36: =IF(A36="","",COUNTIFS('Registro lead'!$E$5:$E$204,A36,'Registro lead'!$J$5:$J$204,"Sì")) | E36: =IF(OR(A36="",C36=0),"",D36/C36) | F36: =IF(A36="","",COUNTIFS('Registro lead'!$E$5:$E$204,A36,'Registro lead'!$L$5:$L$204,"Sì")) | G36: =IF(OR(A36="",B36=0),"",F36/B36)
A37: =IF('Elenchi'!$B$8="","",'Elenchi'!$B$8) | B37: =IF(A37="","",COUNTIFS('Registro lead'!$E$5:$E$204,A37,'Registro lead'!$D$5:$D$204,"<>")) | C37: =IF(A37="","",COUNTIFS('Registro lead'!$E$5:$E$204,A37,'Registro lead'!$H$5:$H$204,"Sì")) | D37: =IF(A37="","",COUNTIFS('Registro lead'!$E$5:$E$204,A37,'Registro lead'!$J$5:$J$204,"Sì")) | E37: =IF(OR(A37="",C37=0),"",D37/C37) | F37: =IF(A37="","",COUNTIFS('Registro lead'!$E$5:$E$204,A37,'Registro lead'!$L$5:$L$204,"Sì")) | G37: =IF(OR(A37="",B37=0),"",F37/B37)
A38: =IF('Elenchi'!$B$9="","",'Elenchi'!$B$9) | B38: =IF(A38="","",COUNTIFS('Registro lead'!$E$5:$E$204,A38,'Registro lead'!$D$5:$D$204,"<>")) | C38: =IF(A38="","",COUNTIFS('Registro lead'!$E$5:$E$204,A38,'Registro lead'!$H$5:$H$204,"Sì")) | D38: =IF(A38="","",COUNTIFS('Registro lead'!$E$5:$E$204,A38,'Registro lead'!$J$5:$J$204,"Sì")) | E38: =IF(OR(A38="",C38=0),"",D38/C38) | F38: =IF(A38="","",COUNTIFS('Registro lead'!$E$5:$E$204,A38,'Registro lead'!$L$5:$L$204,"Sì")) | G38: =IF(OR(A38="",B38=0),"",F38/B38)
A39: =IF('Elenchi'!$B$10="","",'Elenchi'!$B$10) | B39: =IF(A39="","",COUNTIFS('Registro lead'!$E$5:$E$204,A39,'Registro lead'!$D$5:$D$204,"<>")) | C39: =IF(A39="","",COUNTIFS('Registro lead'!$E$5:$E$204,A39,'Registro lead'!$H$5:$H$204,"Sì")) | D39: =IF(A39="","",COUNTIFS('Registro lead'!$E$5:$E$204,A39,'Registro lead'!$J$5:$J$204,"Sì")) | E39: =IF(OR(A39="",C39=0),"",D39/C39) | F39: =IF(A39="","",COUNTIFS('Registro lead'!$E$5:$E$204,A39,'Registro lead'!$L$5:$L$204,"Sì")) | G39: =IF(OR(A39="",B39=0),"",F39/B39)
A40: =IF('Elenchi'!$B$11="","",'Elenchi'!$B$11) | B40: =IF(A40="","",COUNTIFS('Registro lead'!$E$5:$E$204,A40,'Registro lead'!$D$5:$D$204,"<>")) | C40: =IF(A40="","",COUNTIFS('Registro lead'!$E$5:$E$204,A40,'Registro lead'!$H$5:$H$204,"Sì")) | D40: =IF(A40="","",COUNTIFS('Registro lead'!$E$5:$E$204,A40,'Registro lead'!$J$5:$J$204,"Sì")) | E40: =IF(OR(A40="",C40=0),"",D40/C40) | F40: =IF(A40="","",COUNTIFS('Registro lead'!$E$5:$E$204,A40,'Registro lead'!$L$5:$L$204,"Sì")) | G40: =IF(OR(A40="",B40=0),"",F40/B40)
A41: =IF('Elenchi'!$B$12="","",'Elenchi'!$B$12) | B41: =IF(A41="","",COUNTIFS('Registro lead'!$E$5:$E$204,A41,'Registro lead'!$D$5:$D$204,"<>")) | C41: =IF(A41="","",COUNTIFS('Registro lead'!$E$5:$E$204,A41,'Registro lead'!$H$5:$H$204,"Sì")) | D41: =IF(A41="","",COUNTIFS('Registro lead'!$E$5:$E$204,A41,'Registro lead'!$J$5:$J$204,"Sì")) | E41: =IF(OR(A41="",C41=0),"",D41/C41) | F41: =IF(A41="","",COUNTIFS('Registro lead'!$E$5:$E$204,A41,'Registro lead'!$L$5:$L$204,"Sì")) | G41: =IF(OR(A41="",B41=0),"",F41/B41)
A43: Modello gratuito di CRMsoftware.pro. Dati di esempio fittizi.

Sheet Elenchi
A1: Elenchi
A2: Modifica qui fonti e venditori. I menu a tendina del foglio Registro lead e il Riepilogo usano questi elenchi.
A4: Fonti | B4: Venditori | C4: Sì / No
A5: Chat del sito | B5: Tyler | C5: Sì
A6: Modulo web | B6: Aisha | C6: No
A7: Telefono
A8: Annuncio su portale
A9: Segnalazione
A10: Officina
A11: Visita spontanea
