Workbook

Sheet Registro carrelli
A1: Registro di recupero dei carrelli abbandonati
A2: Una riga per carrello abbandonato, dal report della piattaforma del negozio. Compila le colonne bianche; quelle ombreggiate si compilano da sole. Scegli Email consentita, Fase di abbandono, Motivo probabile e Disiscritto dagli elenchi.
A3: Gli orari previsti delle email seguono i tempi della serie nel foglio Elenchi. Inserisci l’ora in cui è partita ogni email, e l’ordine quando il carrello viene recuperato. Lo stato usa la data e l’ora attuali.
A4: Abbandonato il | B4: Cliente | C4: ID carrello | D4: Valore carrello | E4: Email consentita | F4: Fase di abbandono | G4: Motivo probabile | H4: Email 1 prevista | I4: Email 1 inviata | J4: Email 2 prevista | K4: Email 2 inviata | L4: Email 3 prevista | M4: Email 3 inviata | N4: Email inviate | O4: Disiscritto | P4: Ordine | Q4: Data ordine | R4: Valore ordine | S4: Sconto concesso | T4: Recuperato dopo | U4: Stato | V4: Note
A5: 46293.42 | B5: Hugo Marchetti | C5: C-5188 | D5: 72 | E5: Sì | F5: Pagamento | G5: Fiducia e pagamento | H5: =IF(OR($A5="",$E5<>"Sì"),"",$A5+'Elenchi'!$B$5/24) | J5: =IF(OR($A5="",$E5<>"Sì"),"",$A5+'Elenchi'!$B$6/24) | L5: =IF(OR($A5="",$E5<>"Sì",$G5='Elenchi'!$C$18),"",$A5+'Elenchi'!$B$7/24) | N5: =IF($A5="","",COUNT($I5,$K5,$M5)) | P5: DC-10449 | Q5: 46293.445 | R5: 72 | S5: 0 | T5: =IF(OR($A5="",$Q5=""),"",IF(AND($M5<>"",$Q5>=$M5),"Email 3",IF(AND($K5<>"",$Q5>=$K5),"Email 2",IF(AND($I5<>"",$Q5>=$I5),"Email 1","Prima delle email")))) | U5: =IF($A5="","",IF($P5<>"","Recuperato",IF($O5="Sì","Disiscritto",IF($E5<>"Sì","Niente email",IF(NOW()>=$A5+'Elenchi'!$B$8,"Chiuso",IF(AND($H5<>"",$I5="",NOW()>=$H5),"Email da inviare",IF(AND($J5<>"",$K5="",NOW()>=$J5),"Email da inviare",IF(AND($L5<>"",$M5="",NOW()>=$L5),"Email da inviare","In attesa")))))))) | V5: Ha chiesto in chat se si può pagare con PayPal; ha risposto l’agente IA. Ha ordinato prima dell’email 1
A6: 46293.604 | B6: Amara Okoye | C6: C-5191 | D6: 38 | E6: No | F6: Spedizione | G6: Costi aggiuntivi | H6: =IF(OR($A6="",$E6<>"Sì"),"",$A6+'Elenchi'!$B$5/24) | J6: =IF(OR($A6="",$E6<>"Sì"),"",$A6+'Elenchi'!$B$6/24) | L6: =IF(OR($A6="",$E6<>"Sì",$G6='Elenchi'!$C$18),"",$A6+'Elenchi'!$B$7/24) | N6: =IF($A6="","",COUNT($I6,$K6,$M6)) | T6: =IF(OR($A6="",$Q6=""),"",IF(AND($M6<>"",$Q6>=$M6),"Email 3",IF(AND($K6<>"",$Q6>=$K6),"Email 2",IF(AND($I6<>"",$Q6>=$I6),"Email 1","Prima delle email")))) | U6: =IF($A6="","",IF($P6<>"","Recuperato",IF($O6="Sì","Disiscritto",IF($E6<>"Sì","Niente email",IF(NOW()>=$A6+'Elenchi'!$B$8,"Chiuso",IF(AND($H6<>"",$I6="",NOW()>=$H6),"Email da inviare",IF(AND($J6<>"",$K6="",NOW()>=$J6),"Email da inviare",IF(AND($L6<>"",$M6="",NOW()>=$L6),"Email da inviare","In attesa")))))))) | V6: Non ha spuntato la casella marketing: nessuna email
A7: 46293.908 | B7: Felix Lindqvist | C7: C-5194 | D7: 124 | E7: Sì | F7: Contatti | G7: Creazione account | H7: =IF(OR($A7="",$E7<>"Sì"),"",$A7+'Elenchi'!$B$5/24) | I7: 46293.949 | J7: =IF(OR($A7="",$E7<>"Sì"),"",$A7+'Elenchi'!$B$6/24) | K7: 46294.908 | L7: =IF(OR($A7="",$E7<>"Sì",$G7='Elenchi'!$C$18),"",$A7+'Elenchi'!$B$7/24) | N7: =IF($A7="","",COUNT($I7,$K7,$M7)) | P7: DC-10452 | Q7: 46294.927 | R7: 124 | S7: 0 | T7: =IF(OR($A7="",$Q7=""),"",IF(AND($M7<>"",$Q7>=$M7),"Email 3",IF(AND($K7<>"",$Q7>=$K7),"Email 2",IF(AND($I7<>"",$Q7>=$I7),"Email 1","Prima delle email")))) | U7: =IF($A7="","",IF($P7<>"","Recuperato",IF($O7="Sì","Disiscritto",IF($E7<>"Sì","Niente email",IF(NOW()>=$A7+'Elenchi'!$B$8,"Chiuso",IF(AND($H7<>"",$I7="",NOW()>=$H7),"Email da inviare",IF(AND($J7<>"",$K7="",NOW()>=$J7),"Email da inviare",IF(AND($L7<>"",$M7="",NOW()>=$L7),"Email da inviare","In attesa")))))))) | V7: Pensava servisse un account. L’email 2 spiegava l’acquisto come ospite
A8: 46294.347 | B8: Nadia Kowal | C8: C-5198 | D8: 29 | E8: Sì | F8: Carrello | G8: Solo un’occhiata | H8: =IF(OR($A8="",$E8<>"Sì"),"",$A8+'Elenchi'!$B$5/24) | I8: 46294.389 | J8: =IF(OR($A8="",$E8<>"Sì"),"",$A8+'Elenchi'!$B$6/24) | K8: 46295.347 | L8: =IF(OR($A8="",$E8<>"Sì",$G8='Elenchi'!$C$18),"",$A8+'Elenchi'!$B$7/24) | N8: =IF($A8="","",COUNT($I8,$K8,$M8)) | T8: =IF(OR($A8="",$Q8=""),"",IF(AND($M8<>"",$Q8>=$M8),"Email 3",IF(AND($K8<>"",$Q8>=$K8),"Email 2",IF(AND($I8<>"",$Q8>=$I8),"Email 1","Prima delle email")))) | U8: =IF($A8="","",IF($P8<>"","Recuperato",IF($O8="Sì","Disiscritto",IF($E8<>"Sì","Niente email",IF(NOW()>=$A8+'Elenchi'!$B$8,"Chiuso",IF(AND($H8<>"",$I8="",NOW()>=$H8),"Email da inviare",IF(AND($J8<>"",$K8="",NOW()>=$J8),"Email da inviare",IF(AND($L8<>"",$M8="",NOW()>=$L8),"Email da inviare","In attesa")))))))) | V8: Solo un’occhiata: email 2 dalla scheda 7, niente email 3, niente sconto
A9: 46294.543 | B9: Sean Gallagher | C9: C-5201 | D9: 88 | E9: Sì | F9: Spedizione | G9: Tempi di consegna | H9: =IF(OR($A9="",$E9<>"Sì"),"",$A9+'Elenchi'!$B$5/24) | I9: 46294.585 | J9: =IF(OR($A9="",$E9<>"Sì"),"",$A9+'Elenchi'!$B$6/24) | L9: =IF(OR($A9="",$E9<>"Sì",$G9='Elenchi'!$C$18),"",$A9+'Elenchi'!$B$7/24) | N9: =IF($A9="","",COUNT($I9,$K9,$M9)) | O9: Sì | T9: =IF(OR($A9="",$Q9=""),"",IF(AND($M9<>"",$Q9>=$M9),"Email 3",IF(AND($K9<>"",$Q9>=$K9),"Email 2",IF(AND($I9<>"",$Q9>=$I9),"Email 1","Prima delle email")))) | U9: =IF($A9="","",IF($P9<>"","Recuperato",IF($O9="Sì","Disiscritto",IF($E9<>"Sì","Niente email",IF(NOW()>=$A9+'Elenchi'!$B$8,"Chiuso",IF(AND($H9<>"",$I9="",NOW()>=$H9),"Email da inviare",IF(AND($J9<>"",$K9="",NOW()>=$J9),"Email da inviare",IF(AND($L9<>"",$M9="",NOW()>=$L9),"Email da inviare","In attesa")))))))) | V9: Si è disiscritto dopo l’email 1: serie interrotta
A10: 46294.8 | B10: Rachel Sutton | C10: C-5207 | D10: 46 | E10: Sì | F10: Spedizione | G10: Costi aggiuntivi | H10: =IF(OR($A10="",$E10<>"Sì"),"",$A10+'Elenchi'!$B$5/24) | I10: 46294.842 | J10: =IF(OR($A10="",$E10<>"Sì"),"",$A10+'Elenchi'!$B$6/24) | K10: 46295.8 | L10: =IF(OR($A10="",$E10<>"Sì",$G10='Elenchi'!$C$18),"",$A10+'Elenchi'!$B$7/24) | N10: =IF($A10="","",COUNT($I10,$K10,$M10)) | P10: DC-10458 | Q10: 46295.832 | R10: 58 | S10: 0 | T10: =IF(OR($A10="",$Q10=""),"",IF(AND($M10<>"",$Q10>=$M10),"Email 3",IF(AND($K10<>"",$Q10>=$K10),"Email 2",IF(AND($I10<>"",$Q10>=$I10),"Email 1","Prima delle email")))) | U10: =IF($A10="","",IF($P10<>"","Recuperato",IF($O10="Sì","Disiscritto",IF($E10<>"Sì","Niente email",IF(NOW()>=$A10+'Elenchi'!$B$8,"Chiuso",IF(AND($H10<>"",$I10="",NOW()>=$H10),"Email da inviare",IF(AND($J10<>"",$K10="",NOW()>=$J10),"Email da inviare",IF(AND($L10<>"",$M10="",NOW()>=$L10),"Email da inviare","In attesa")))))))) | V10: Chat sulla pagina prodotto: data di consegna e biglietto scritto a mano. Ha aggiunto un tagliastoppino, spedizione gratuita
A11: 46295.469 | B11: Lucia Ferraro | C11: C-5210 | D11: 64 | E11: Sì | F11: Pagamento | G11: Resi | H11: =IF(OR($A11="",$E11<>"Sì"),"",$A11+'Elenchi'!$B$5/24) | I11: 46295.51 | J11: =IF(OR($A11="",$E11<>"Sì"),"",$A11+'Elenchi'!$B$6/24) | K11: 46296.469 | L11: =IF(OR($A11="",$E11<>"Sì",$G11='Elenchi'!$C$18),"",$A11+'Elenchi'!$B$7/24) | M11: 46298.469 | N11: =IF($A11="","",COUNT($I11,$K11,$M11)) | T11: =IF(OR($A11="",$Q11=""),"",IF(AND($M11<>"",$Q11>=$M11),"Email 3",IF(AND($K11<>"",$Q11>=$K11),"Email 2",IF(AND($I11<>"",$Q11>=$I11),"Email 1","Prima delle email")))) | U11: =IF($A11="","",IF($P11<>"","Recuperato",IF($O11="Sì","Disiscritto",IF($E11<>"Sì","Niente email",IF(NOW()>=$A11+'Elenchi'!$B$8,"Chiuso",IF(AND($H11<>"",$I11="",NOW()>=$H11),"Email da inviare",IF(AND($J11<>"",$K11="",NOW()>=$J11),"Email da inviare",IF(AND($L11<>"",$M11="",NOW()>=$L11),"Email da inviare","In attesa")))))))) | V11: Ha chiesto se si può restituire una candela quando il profumo è troppo forte
A12: 46295.694 | B12: Mei Tanaka | C12: C-5213 | D12: 210 | E12: Sì | F12: Spedizione | G12: Tempi di consegna | H12: =IF(OR($A12="",$E12<>"Sì"),"",$A12+'Elenchi'!$B$5/24) | I12: 46295.736 | J12: =IF(OR($A12="",$E12<>"Sì"),"",$A12+'Elenchi'!$B$6/24) | K12: 46296.694 | L12: =IF(OR($A12="",$E12<>"Sì",$G12='Elenchi'!$C$18),"",$A12+'Elenchi'!$B$7/24) | M12: 46298.694 | N12: =IF($A12="","",COUNT($I12,$K12,$M12)) | T12: =IF(OR($A12="",$Q12=""),"",IF(AND($M12<>"",$Q12>=$M12),"Email 3",IF(AND($K12<>"",$Q12>=$K12),"Email 2",IF(AND($I12<>"",$Q12>=$I12),"Email 1","Prima delle email")))) | U12: =IF($A12="","",IF($P12<>"","Recuperato",IF($O12="Sì","Disiscritto",IF($E12<>"Sì","Niente email",IF(NOW()>=$A12+'Elenchi'!$B$8,"Chiuso",IF(AND($H12<>"",$I12="",NOW()>=$H12),"Email da inviare",IF(AND($J12<>"",$K12="",NOW()>=$J12),"Email da inviare",IF(AND($L12<>"",$M12="",NOW()>=$L12),"Email da inviare","In attesa")))))))) | V12: Bomboniere per un matrimonio il 10 ottobre. L’email 2 indicava le date dell’espressa; nessun ordine
A13: 46295.951 | B13: Duncan Reid | C13: C-5215 | D13: 58 | E13: Sì | F13: Contatti | G13: Creazione account | H13: =IF(OR($A13="",$E13<>"Sì"),"",$A13+'Elenchi'!$B$5/24) | I13: 46295.993 | J13: =IF(OR($A13="",$E13<>"Sì"),"",$A13+'Elenchi'!$B$6/24) | K13: 46296.951 | L13: =IF(OR($A13="",$E13<>"Sì",$G13='Elenchi'!$C$18),"",$A13+'Elenchi'!$B$7/24) | M13: 46298.951 | N13: =IF($A13="","",COUNT($I13,$K13,$M13)) | T13: =IF(OR($A13="",$Q13=""),"",IF(AND($M13<>"",$Q13>=$M13),"Email 3",IF(AND($K13<>"",$Q13>=$K13),"Email 2",IF(AND($I13<>"",$Q13>=$I13),"Email 1","Prima delle email")))) | U13: =IF($A13="","",IF($P13<>"","Recuperato",IF($O13="Sì","Disiscritto",IF($E13<>"Sì","Niente email",IF(NOW()>=$A13+'Elenchi'!$B$8,"Chiuso",IF(AND($H13<>"",$I13="",NOW()>=$H13),"Email da inviare",IF(AND($J13<>"",$K13="",NOW()>=$J13),"Email da inviare",IF(AND($L13<>"",$M13="",NOW()>=$L13),"Email da inviare","In attesa"))))))))
A14: 46296.413 | B14: Talia Moreno | C14: C-5216 | D14: 52 | E14: Sì | F14: Contatti | G14: Fiducia e pagamento | H14: =IF(OR($A14="",$E14<>"Sì"),"",$A14+'Elenchi'!$B$5/24) | I14: 46296.455 | J14: =IF(OR($A14="",$E14<>"Sì"),"",$A14+'Elenchi'!$B$6/24) | K14: 46297.413 | L14: =IF(OR($A14="",$E14<>"Sì",$G14='Elenchi'!$C$18),"",$A14+'Elenchi'!$B$7/24) | M14: 46299.413 | N14: =IF($A14="","",COUNT($I14,$K14,$M14)) | T14: =IF(OR($A14="",$Q14=""),"",IF(AND($M14<>"",$Q14>=$M14),"Email 3",IF(AND($K14<>"",$Q14>=$K14),"Email 2",IF(AND($I14<>"",$Q14>=$I14),"Email 1","Prima delle email")))) | U14: =IF($A14="","",IF($P14<>"","Recuperato",IF($O14="Sì","Disiscritto",IF($E14<>"Sì","Niente email",IF(NOW()>=$A14+'Elenchi'!$B$8,"Chiuso",IF(AND($H14<>"",$I14="",NOW()>=$H14),"Email da inviare",IF(AND($J14<>"",$K14="",NOW()>=$J14),"Email da inviare",IF(AND($L14<>"",$M14="",NOW()>=$L14),"Email da inviare","In attesa")))))))) | V14: Ancora nessuna recensione nella pagina prodotto
A15: 46296.854 | B15: Joel Abrams | C15: C-5219 | D15: 34 | E15: Sì | F15: Spedizione | G15: Costi aggiuntivi | H15: =IF(OR($A15="",$E15<>"Sì"),"",$A15+'Elenchi'!$B$5/24) | I15: 46296.896 | J15: =IF(OR($A15="",$E15<>"Sì"),"",$A15+'Elenchi'!$B$6/24) | K15: 46297.854 | L15: =IF(OR($A15="",$E15<>"Sì",$G15='Elenchi'!$C$18),"",$A15+'Elenchi'!$B$7/24) | M15: 46299.854 | N15: =IF($A15="","",COUNT($I15,$K15,$M15)) | P15: DC-10471 | Q15: 46299.882 | R15: 34 | S15: 7.95 | T15: =IF(OR($A15="",$Q15=""),"",IF(AND($M15<>"",$Q15>=$M15),"Email 3",IF(AND($K15<>"",$Q15>=$K15),"Email 2",IF(AND($I15<>"",$Q15>=$I15),"Email 1","Prima delle email")))) | U15: =IF($A15="","",IF($P15<>"","Recuperato",IF($O15="Sì","Disiscritto",IF($E15<>"Sì","Niente email",IF(NOW()>=$A15+'Elenchi'!$B$8,"Chiuso",IF(AND($H15<>"",$I15="",NOW()>=$H15),"Email da inviare",IF(AND($J15<>"",$K15="",NOW()>=$J15),"Email da inviare",IF(AND($L15<>"",$M15="",NOW()>=$L15),"Email da inviare","In attesa")))))))) | V15: Sotto i 50 $ e il motivo era la spedizione: codice di spedizione gratuita nell’email 3, monouso, 48 ore
A16: 46297.639 | B16: Oskar Brandt | C16: C-5224 | D16: 45 | E16: Sì | F16: Spedizione | G16: Costi aggiuntivi | H16: =IF(OR($A16="",$E16<>"Sì"),"",$A16+'Elenchi'!$B$5/24) | I16: 46297.681 | J16: =IF(OR($A16="",$E16<>"Sì"),"",$A16+'Elenchi'!$B$6/24) | K16: 46298.639 | L16: =IF(OR($A16="",$E16<>"Sì",$G16='Elenchi'!$C$18),"",$A16+'Elenchi'!$B$7/24) | M16: 46300.639 | N16: =IF($A16="","",COUNT($I16,$K16,$M16)) | T16: =IF(OR($A16="",$Q16=""),"",IF(AND($M16<>"",$Q16>=$M16),"Email 3",IF(AND($K16<>"",$Q16>=$K16),"Email 2",IF(AND($I16<>"",$Q16>=$I16),"Email 1","Prima delle email")))) | U16: =IF($A16="","",IF($P16<>"","Recuperato",IF($O16="Sì","Disiscritto",IF($E16<>"Sì","Niente email",IF(NOW()>=$A16+'Elenchi'!$B$8,"Chiuso",IF(AND($H16<>"",$I16="",NOW()>=$H16),"Email da inviare",IF(AND($J16<>"",$K16="",NOW()>=$J16),"Email da inviare",IF(AND($L16<>"",$M16="",NOW()>=$L16),"Email da inviare","In attesa")))))))) | V16: Nessun codice nell’email 3: aveva già avuto un codice carrello ad agosto (uno ogni 90 giorni)
A17: 46297.924 | B17: Grant Whitaker | C17: C-5226 | D17: 56 | E17: Sì | F17: Spedizione | G17: Costi aggiuntivi | H17: =IF(OR($A17="",$E17<>"Sì"),"",$A17+'Elenchi'!$B$5/24) | I17: 46297.965 | J17: =IF(OR($A17="",$E17<>"Sì"),"",$A17+'Elenchi'!$B$6/24) | K17: 46298.924 | L17: =IF(OR($A17="",$E17<>"Sì",$G17='Elenchi'!$C$18),"",$A17+'Elenchi'!$B$7/24) | M17: 46300.924 | N17: =IF($A17="","",COUNT($I17,$K17,$M17)) | T17: =IF(OR($A17="",$Q17=""),"",IF(AND($M17<>"",$Q17>=$M17),"Email 3",IF(AND($K17<>"",$Q17>=$K17),"Email 2",IF(AND($I17<>"",$Q17>=$I17),"Email 1","Prima delle email")))) | U17: =IF($A17="","",IF($P17<>"","Recuperato",IF($O17="Sì","Disiscritto",IF($E17<>"Sì","Niente email",IF(NOW()>=$A17+'Elenchi'!$B$8,"Chiuso",IF(AND($H17<>"",$I17="",NOW()>=$H17),"Email da inviare",IF(AND($J17<>"",$K17="",NOW()>=$J17),"Email da inviare",IF(AND($L17<>"",$M17="",NOW()>=$L17),"Email da inviare","In attesa")))))))) | V17: Se n’è andato quando sono state aggiunte le tasse. Sopra i 50 $, quindi niente codice
A18: 46298.5 | B18: Imogen Clarke | C18: C-5228 | D18: 26 | E18: Sì | F18: Carrello | G18: Solo un’occhiata | H18: =IF(OR($A18="",$E18<>"Sì"),"",$A18+'Elenchi'!$B$5/24) | I18: 46298.542 | J18: =IF(OR($A18="",$E18<>"Sì"),"",$A18+'Elenchi'!$B$6/24) | K18: 46299.5 | L18: =IF(OR($A18="",$E18<>"Sì",$G18='Elenchi'!$C$18),"",$A18+'Elenchi'!$B$7/24) | N18: =IF($A18="","",COUNT($I18,$K18,$M18)) | T18: =IF(OR($A18="",$Q18=""),"",IF(AND($M18<>"",$Q18>=$M18),"Email 3",IF(AND($K18<>"",$Q18>=$K18),"Email 2",IF(AND($I18<>"",$Q18>=$I18),"Email 1","Prima delle email")))) | U18: =IF($A18="","",IF($P18<>"","Recuperato",IF($O18="Sì","Disiscritto",IF($E18<>"Sì","Niente email",IF(NOW()>=$A18+'Elenchi'!$B$8,"Chiuso",IF(AND($H18<>"",$I18="",NOW()>=$H18),"Email da inviare",IF(AND($J18<>"",$K18="",NOW()>=$J18),"Email da inviare",IF(AND($L18<>"",$M18="",NOW()>=$L18),"Email da inviare","In attesa"))))))))
A19: 46298.823 | B19: Rafael Duarte | C19: C-5231 | D19: 96 | E19: No | F19: Pagamento | G19: Fiducia e pagamento | H19: =IF(OR($A19="",$E19<>"Sì"),"",$A19+'Elenchi'!$B$5/24) | J19: =IF(OR($A19="",$E19<>"Sì"),"",$A19+'Elenchi'!$B$6/24) | L19: =IF(OR($A19="",$E19<>"Sì",$G19='Elenchi'!$C$18),"",$A19+'Elenchi'!$B$7/24) | N19: =IF($A19="","",COUNT($I19,$K19,$M19)) | T19: =IF(OR($A19="",$Q19=""),"",IF(AND($M19<>"",$Q19>=$M19),"Email 3",IF(AND($K19<>"",$Q19>=$K19),"Email 2",IF(AND($I19<>"",$Q19>=$I19),"Email 1","Prima delle email")))) | U19: =IF($A19="","",IF($P19<>"","Recuperato",IF($O19="Sì","Disiscritto",IF($E19<>"Sì","Niente email",IF(NOW()>=$A19+'Elenchi'!$B$8,"Chiuso",IF(AND($H19<>"",$I19="",NOW()>=$H19),"Email da inviare",IF(AND($J19<>"",$K19="",NOW()>=$J19),"Email da inviare",IF(AND($L19<>"",$M19="",NOW()>=$L19),"Email da inviare","In attesa")))))))) | V19: Carta rifiutata due volte; nessun consenso alle email. Impostazioni di pagamento controllate lunedì
A20: 46299.438 | B20: Esther Adeyemi | C20: C-5235 | D20: 61 | E20: Sì | F20: Spedizione | G20: Resi | H20: =IF(OR($A20="",$E20<>"Sì"),"",$A20+'Elenchi'!$B$5/24) | I20: 46299.479 | J20: =IF(OR($A20="",$E20<>"Sì"),"",$A20+'Elenchi'!$B$6/24) | K20: 46300.438 | L20: =IF(OR($A20="",$E20<>"Sì",$G20='Elenchi'!$C$18),"",$A20+'Elenchi'!$B$7/24) | M20: 46302.438 | N20: =IF($A20="","",COUNT($I20,$K20,$M20)) | T20: =IF(OR($A20="",$Q20=""),"",IF(AND($M20<>"",$Q20>=$M20),"Email 3",IF(AND($K20<>"",$Q20>=$K20),"Email 2",IF(AND($I20<>"",$Q20>=$I20),"Email 1","Prima delle email")))) | U20: =IF($A20="","",IF($P20<>"","Recuperato",IF($O20="Sì","Disiscritto",IF($E20<>"Sì","Niente email",IF(NOW()>=$A20+'Elenchi'!$B$8,"Chiuso",IF(AND($H20<>"",$I20="",NOW()>=$H20),"Email da inviare",IF(AND($J20<>"",$K20="",NOW()>=$J20),"Email da inviare",IF(AND($L20<>"",$M20="",NOW()>=$L20),"Email da inviare","In attesa"))))))))
H21: =IF(OR($A21="",$E21<>"Sì"),"",$A21+'Elenchi'!$B$5/24) | J21: =IF(OR($A21="",$E21<>"Sì"),"",$A21+'Elenchi'!$B$6/24) | L21: =IF(OR($A21="",$E21<>"Sì",$G21='Elenchi'!$C$18),"",$A21+'Elenchi'!$B$7/24) | N21: =IF($A21="","",COUNT($I21,$K21,$M21)) | T21: =IF(OR($A21="",$Q21=""),"",IF(AND($M21<>"",$Q21>=$M21),"Email 3",IF(AND($K21<>"",$Q21>=$K21),"Email 2",IF(AND($I21<>"",$Q21>=$I21),"Email 1","Prima delle email")))) | U21: =IF($A21="","",IF($P21<>"","Recuperato",IF($O21="Sì","Disiscritto",IF($E21<>"Sì","Niente email",IF(NOW()>=$A21+'Elenchi'!$B$8,"Chiuso",IF(AND($H21<>"",$I21="",NOW()>=$H21),"Email da inviare",IF(AND($J21<>"",$K21="",NOW()>=$J21),"Email da inviare",IF(AND($L21<>"",$M21="",NOW()>=$L21),"Email da inviare","In attesa"))))))))
H22: =IF(OR($A22="",$E22<>"Sì"),"",$A22+'Elenchi'!$B$5/24) | J22: =IF(OR($A22="",$E22<>"Sì"),"",$A22+'Elenchi'!$B$6/24) | L22: =IF(OR($A22="",$E22<>"Sì",$G22='Elenchi'!$C$18),"",$A22+'Elenchi'!$B$7/24) | N22: =IF($A22="","",COUNT($I22,$K22,$M22)) | T22: =IF(OR($A22="",$Q22=""),"",IF(AND($M22<>"",$Q22>=$M22),"Email 3",IF(AND($K22<>"",$Q22>=$K22),"Email 2",IF(AND($I22<>"",$Q22>=$I22),"Email 1","Prima delle email")))) | U22: =IF($A22="","",IF($P22<>"","Recuperato",IF($O22="Sì","Disiscritto",IF($E22<>"Sì","Niente email",IF(NOW()>=$A22+'Elenchi'!$B$8,"Chiuso",IF(AND($H22<>"",$I22="",NOW()>=$H22),"Email da inviare",IF(AND($J22<>"",$K22="",NOW()>=$J22),"Email da inviare",IF(AND($L22<>"",$M22="",NOW()>=$L22),"Email da inviare","In attesa"))))))))
H23: =IF(OR($A23="",$E23<>"Sì"),"",$A23+'Elenchi'!$B$5/24) | J23: =IF(OR($A23="",$E23<>"Sì"),"",$A23+'Elenchi'!$B$6/24) | L23: =IF(OR($A23="",$E23<>"Sì",$G23='Elenchi'!$C$18),"",$A23+'Elenchi'!$B$7/24) | N23: =IF($A23="","",COUNT($I23,$K23,$M23)) | T23: =IF(OR($A23="",$Q23=""),"",IF(AND($M23<>"",$Q23>=$M23),"Email 3",IF(AND($K23<>"",$Q23>=$K23),"Email 2",IF(AND($I23<>"",$Q23>=$I23),"Email 1","Prima delle email")))) | U23: =IF($A23="","",IF($P23<>"","Recuperato",IF($O23="Sì","Disiscritto",IF($E23<>"Sì","Niente email",IF(NOW()>=$A23+'Elenchi'!$B$8,"Chiuso",IF(AND($H23<>"",$I23="",NOW()>=$H23),"Email da inviare",IF(AND($J23<>"",$K23="",NOW()>=$J23),"Email da inviare",IF(AND($L23<>"",$M23="",NOW()>=$L23),"Email da inviare","In attesa"))))))))
H24: =IF(OR($A24="",$E24<>"Sì"),"",$A24+'Elenchi'!$B$5/24) | J24: =IF(OR($A24="",$E24<>"Sì"),"",$A24+'Elenchi'!$B$6/24) | L24: =IF(OR($A24="",$E24<>"Sì",$G24='Elenchi'!$C$18),"",$A24+'Elenchi'!$B$7/24) | N24: =IF($A24="","",COUNT($I24,$K24,$M24)) | T24: =IF(OR($A24="",$Q24=""),"",IF(AND($M24<>"",$Q24>=$M24),"Email 3",IF(AND($K24<>"",$Q24>=$K24),"Email 2",IF(AND($I24<>"",$Q24>=$I24),"Email 1","Prima delle email")))) | U24: =IF($A24="","",IF($P24<>"","Recuperato",IF($O24="Sì","Disiscritto",IF($E24<>"Sì","Niente email",IF(NOW()>=$A24+'Elenchi'!$B$8,"Chiuso",IF(AND($H24<>"",$I24="",NOW()>=$H24),"Email da inviare",IF(AND($J24<>"",$K24="",NOW()>=$J24),"Email da inviare",IF(AND($L24<>"",$M24="",NOW()>=$L24),"Email da inviare","In attesa"))))))))
H25: =IF(OR($A25="",$E25<>"Sì"),"",$A25+'Elenchi'!$B$5/24) | J25: =IF(OR($A25="",$E25<>"Sì"),"",$A25+'Elenchi'!$B$6/24) | L25: =IF(OR($A25="",$E25<>"Sì",$G25='Elenchi'!$C$18),"",$A25+'Elenchi'!$B$7/24) | N25: =IF($A25="","",COUNT($I25,$K25,$M25)) | T25: =IF(OR($A25="",$Q25=""),"",IF(AND($M25<>"",$Q25>=$M25),"Email 3",IF(AND($K25<>"",$Q25>=$K25),"Email 2",IF(AND($I25<>"",$Q25>=$I25),"Email 1","Prima delle email")))) | U25: =IF($A25="","",IF($P25<>"","Recuperato",IF($O25="Sì","Disiscritto",IF($E25<>"Sì","Niente email",IF(NOW()>=$A25+'Elenchi'!$B$8,"Chiuso",IF(AND($H25<>"",$I25="",NOW()>=$H25),"Email da inviare",IF(AND($J25<>"",$K25="",NOW()>=$J25),"Email da inviare",IF(AND($L25<>"",$M25="",NOW()>=$L25),"Email da inviare","In attesa"))))))))
H26: =IF(OR($A26="",$E26<>"Sì"),"",$A26+'Elenchi'!$B$5/24) | J26: =IF(OR($A26="",$E26<>"Sì"),"",$A26+'Elenchi'!$B$6/24) | L26: =IF(OR($A26="",$E26<>"Sì",$G26='Elenchi'!$C$18),"",$A26+'Elenchi'!$B$7/24) | N26: =IF($A26="","",COUNT($I26,$K26,$M26)) | T26: =IF(OR($A26="",$Q26=""),"",IF(AND($M26<>"",$Q26>=$M26),"Email 3",IF(AND($K26<>"",$Q26>=$K26),"Email 2",IF(AND($I26<>"",$Q26>=$I26),"Email 1","Prima delle email")))) | U26: =IF($A26="","",IF($P26<>"","Recuperato",IF($O26="Sì","Disiscritto",IF($E26<>"Sì","Niente email",IF(NOW()>=$A26+'Elenchi'!$B$8,"Chiuso",IF(AND($H26<>"",$I26="",NOW()>=$H26),"Email da inviare",IF(AND($J26<>"",$K26="",NOW()>=$J26),"Email da inviare",IF(AND($L26<>"",$M26="",NOW()>=$L26),"Email da inviare","In attesa"))))))))
H27: =IF(OR($A27="",$E27<>"Sì"),"",$A27+'Elenchi'!$B$5/24) | J27: =IF(OR($A27="",$E27<>"Sì"),"",$A27+'Elenchi'!$B$6/24) | L27: =IF(OR($A27="",$E27<>"Sì",$G27='Elenchi'!$C$18),"",$A27+'Elenchi'!$B$7/24) | N27: =IF($A27="","",COUNT($I27,$K27,$M27)) | T27: =IF(OR($A27="",$Q27=""),"",IF(AND($M27<>"",$Q27>=$M27),"Email 3",IF(AND($K27<>"",$Q27>=$K27),"Email 2",IF(AND($I27<>"",$Q27>=$I27),"Email 1","Prima delle email")))) | U27: =IF($A27="","",IF($P27<>"","Recuperato",IF($O27="Sì","Disiscritto",IF($E27<>"Sì","Niente email",IF(NOW()>=$A27+'Elenchi'!$B$8,"Chiuso",IF(AND($H27<>"",$I27="",NOW()>=$H27),"Email da inviare",IF(AND($J27<>"",$K27="",NOW()>=$J27),"Email da inviare",IF(AND($L27<>"",$M27="",NOW()>=$L27),"Email da inviare","In attesa"))))))))
H28: =IF(OR($A28="",$E28<>"Sì"),"",$A28+'Elenchi'!$B$5/24) | J28: =IF(OR($A28="",$E28<>"Sì"),"",$A28+'Elenchi'!$B$6/24) | L28: =IF(OR($A28="",$E28<>"Sì",$G28='Elenchi'!$C$18),"",$A28+'Elenchi'!$B$7/24) | N28: =IF($A28="","",COUNT($I28,$K28,$M28)) | T28: =IF(OR($A28="",$Q28=""),"",IF(AND($M28<>"",$Q28>=$M28),"Email 3",IF(AND($K28<>"",$Q28>=$K28),"Email 2",IF(AND($I28<>"",$Q28>=$I28),"Email 1","Prima delle email")))) | U28: =IF($A28="","",IF($P28<>"","Recuperato",IF($O28="Sì","Disiscritto",IF($E28<>"Sì","Niente email",IF(NOW()>=$A28+'Elenchi'!$B$8,"Chiuso",IF(AND($H28<>"",$I28="",NOW()>=$H28),"Email da inviare",IF(AND($J28<>"",$K28="",NOW()>=$J28),"Email da inviare",IF(AND($L28<>"",$M28="",NOW()>=$L28),"Email da inviare","In attesa"))))))))
H29: =IF(OR($A29="",$E29<>"Sì"),"",$A29+'Elenchi'!$B$5/24) | J29: =IF(OR($A29="",$E29<>"Sì"),"",$A29+'Elenchi'!$B$6/24) | L29: =IF(OR($A29="",$E29<>"Sì",$G29='Elenchi'!$C$18),"",$A29+'Elenchi'!$B$7/24) | N29: =IF($A29="","",COUNT($I29,$K29,$M29)) | T29: =IF(OR($A29="",$Q29=""),"",IF(AND($M29<>"",$Q29>=$M29),"Email 3",IF(AND($K29<>"",$Q29>=$K29),"Email 2",IF(AND($I29<>"",$Q29>=$I29),"Email 1","Prima delle email")))) | U29: =IF($A29="","",IF($P29<>"","Recuperato",IF($O29="Sì","Disiscritto",IF($E29<>"Sì","Niente email",IF(NOW()>=$A29+'Elenchi'!$B$8,"Chiuso",IF(AND($H29<>"",$I29="",NOW()>=$H29),"Email da inviare",IF(AND($J29<>"",$K29="",NOW()>=$J29),"Email da inviare",IF(AND($L29<>"",$M29="",NOW()>=$L29),"Email da inviare","In attesa"))))))))
H30: =IF(OR($A30="",$E30<>"Sì"),"",$A30+'Elenchi'!$B$5/24) | J30: =IF(OR($A30="",$E30<>"Sì"),"",$A30+'Elenchi'!$B$6/24) | L30: =IF(OR($A30="",$E30<>"Sì",$G30='Elenchi'!$C$18),"",$A30+'Elenchi'!$B$7/24) | N30: =IF($A30="","",COUNT($I30,$K30,$M30)) | T30: =IF(OR($A30="",$Q30=""),"",IF(AND($M30<>"",$Q30>=$M30),"Email 3",IF(AND($K30<>"",$Q30>=$K30),"Email 2",IF(AND($I30<>"",$Q30>=$I30),"Email 1","Prima delle email")))) | U30: =IF($A30="","",IF($P30<>"","Recuperato",IF($O30="Sì","Disiscritto",IF($E30<>"Sì","Niente email",IF(NOW()>=$A30+'Elenchi'!$B$8,"Chiuso",IF(AND($H30<>"",$I30="",NOW()>=$H30),"Email da inviare",IF(AND($J30<>"",$K30="",NOW()>=$J30),"Email da inviare",IF(AND($L30<>"",$M30="",NOW()>=$L30),"Email da inviare","In attesa"))))))))
H31: =IF(OR($A31="",$E31<>"Sì"),"",$A31+'Elenchi'!$B$5/24) | J31: =IF(OR($A31="",$E31<>"Sì"),"",$A31+'Elenchi'!$B$6/24) | L31: =IF(OR($A31="",$E31<>"Sì",$G31='Elenchi'!$C$18),"",$A31+'Elenchi'!$B$7/24) | N31: =IF($A31="","",COUNT($I31,$K31,$M31)) | T31: =IF(OR($A31="",$Q31=""),"",IF(AND($M31<>"",$Q31>=$M31),"Email 3",IF(AND($K31<>"",$Q31>=$K31),"Email 2",IF(AND($I31<>"",$Q31>=$I31),"Email 1","Prima delle email")))) | U31: =IF($A31="","",IF($P31<>"","Recuperato",IF($O31="Sì","Disiscritto",IF($E31<>"Sì","Niente email",IF(NOW()>=$A31+'Elenchi'!$B$8,"Chiuso",IF(AND($H31<>"",$I31="",NOW()>=$H31),"Email da inviare",IF(AND($J31<>"",$K31="",NOW()>=$J31),"Email da inviare",IF(AND($L31<>"",$M31="",NOW()>=$L31),"Email da inviare","In attesa"))))))))
H32: =IF(OR($A32="",$E32<>"Sì"),"",$A32+'Elenchi'!$B$5/24) | J32: =IF(OR($A32="",$E32<>"Sì"),"",$A32+'Elenchi'!$B$6/24) | L32: =IF(OR($A32="",$E32<>"Sì",$G32='Elenchi'!$C$18),"",$A32+'Elenchi'!$B$7/24) | N32: =IF($A32="","",COUNT($I32,$K32,$M32)) | T32: =IF(OR($A32="",$Q32=""),"",IF(AND($M32<>"",$Q32>=$M32),"Email 3",IF(AND($K32<>"",$Q32>=$K32),"Email 2",IF(AND($I32<>"",$Q32>=$I32),"Email 1","Prima delle email")))) | U32: =IF($A32="","",IF($P32<>"","Recuperato",IF($O32="Sì","Disiscritto",IF($E32<>"Sì","Niente email",IF(NOW()>=$A32+'Elenchi'!$B$8,"Chiuso",IF(AND($H32<>"",$I32="",NOW()>=$H32),"Email da inviare",IF(AND($J32<>"",$K32="",NOW()>=$J32),"Email da inviare",IF(AND($L32<>"",$M32="",NOW()>=$L32),"Email da inviare","In attesa"))))))))
... H204: =IF(OR($A204="",$E204<>"Sì"),"",$A204+'Elenchi'!$B$5/24) | J204: =IF(OR($A204="",$E204<>"Sì"),"",$A204+'Elenchi'!$B$6/24) | L204: =IF(OR($A204="",$E204<>"Sì",$G204='Elenchi'!$C$18),"",$A204+'Elenchi'!$B$7/24) | N204: =IF($A204="","",COUNT($I204,$K204,$M204)) | T204: =IF(OR($A204="",$Q204=""),"",IF(AND($M204<>"",$Q204>=$M204),"Email 3",IF(AND($K204<>"",$Q204>=$K204),"Email 2",IF(AND($I204<>"",$Q204>=$I204),"Email 1","Prima delle email")))) | U204: =IF($A204="","",IF($P204<>"","Recuperato",IF($O204="Sì","Disiscritto",IF($E204<>"Sì","Niente email",IF(NOW()>=$A204+'Elenchi'!$B$8,"Chiuso",IF(AND($H204<>"",$I204="",NOW()>=$H204),"Email da inviare",IF(AND($J204<>"",$K204="",NOW()>=$J204),"Email da inviare",IF(AND($L204<>"",$M204="",NOW()>=$L204),"Email da inviare","In attesa"))))))))

Sheet Riepilogo
A1: Riepilogo del recupero carrelli
A2: Totali dal foglio Registro carrelli. Si aggiornano quando aggiungi righe.
A4: Indicatore | B4: Valore
A5: Carrelli abbandonati | B5: =COUNT('Registro carrelli'!$A$5:$A$204)
A6: Carrelli con email consentita | B6: =COUNTIFS('Registro carrelli'!$A$5:$A$204,"<>",'Registro carrelli'!$E$5:$E$204,"Sì")
A7: Email inviate | B7: =SUM('Registro carrelli'!$N$5:$N$204)
A8: Ordini recuperati | B8: =COUNTIFS('Registro carrelli'!$A$5:$A$204,"<>",'Registro carrelli'!$P$5:$P$204,"<>")
A9: Tasso di recupero, tutti i carrelli | B9: =IF(B5=0,"",B8/B5)
A10: Tasso di recupero, carrelli con email consentita | B10: =IF(B6=0,"",COUNTIFS('Registro carrelli'!$E$5:$E$204,"Sì",'Registro carrelli'!$P$5:$P$204,"<>")/B6)
A11: Recuperati dopo un’email | B11: =COUNTIF('Registro carrelli'!$T$5:$T$204,"Email 1")+COUNTIF('Registro carrelli'!$T$5:$T$204,"Email 2")+COUNTIF('Registro carrelli'!$T$5:$T$204,"Email 3")
A12: Fatturato recuperato | B12: =SUM('Registro carrelli'!$R$5:$R$204)
A13: Costo degli sconti | B13: =SUM('Registro carrelli'!$S$5:$S$204)
A14: Costo degli sconti in rapporto al fatturato recuperato | B14: =IF(B12=0,"",B13/B12)
A15: Recuperati senza sconto | B15: =B8-COUNTIFS('Registro carrelli'!$P$5:$P$204,"<>",'Registro carrelli'!$S$5:$S$204,">0")
A16: Disiscritti | B16: =COUNTIF('Registro carrelli'!$O$5:$O$204,"Sì")
A17: Email da inviare ora | B17: =COUNTIF('Registro carrelli'!$U$5:$U$204,"Email da inviare")
A18: Motivo principale | B18: =IF(MAX($B$22:$B$31)=0,"",INDEX($A$22:$A$31,MATCH(MAX($B$22:$B$31),$B$22:$B$31,0)))
A20: Motivi principali
A21: Motivo probabile | B21: Carrelli | C21: Quota dei carrelli | D21: Recuperati | E21: Tasso di recupero | F21: Costo degli sconti | G21: Posizione
A22: =IF('Elenchi'!$C$13="","",'Elenchi'!$C$13) | B22: =IF(A22="","",COUNTIF('Registro carrelli'!$G$5:$G$204,A22)) | C22: =IF(OR(A22="",$B$5=0),"",B22/$B$5) | D22: =IF(A22="","",COUNTIFS('Registro carrelli'!$G$5:$G$204,A22,'Registro carrelli'!$P$5:$P$204,"<>")) | E22: =IF(OR(A22="",N(B22)=0),"",D22/B22) | F22: =IF(A22="","",SUMIFS('Registro carrelli'!$S$5:$S$204,'Registro carrelli'!$G$5:$G$204,A22)) | G22: =IF(OR(A22="",N(B22)=0),"",RANK(B22,$B$22:$B$31))
A23: =IF('Elenchi'!$C$14="","",'Elenchi'!$C$14) | B23: =IF(A23="","",COUNTIF('Registro carrelli'!$G$5:$G$204,A23)) | C23: =IF(OR(A23="",$B$5=0),"",B23/$B$5) | D23: =IF(A23="","",COUNTIFS('Registro carrelli'!$G$5:$G$204,A23,'Registro carrelli'!$P$5:$P$204,"<>")) | E23: =IF(OR(A23="",N(B23)=0),"",D23/B23) | F23: =IF(A23="","",SUMIFS('Registro carrelli'!$S$5:$S$204,'Registro carrelli'!$G$5:$G$204,A23)) | G23: =IF(OR(A23="",N(B23)=0),"",RANK(B23,$B$22:$B$31))
A24: =IF('Elenchi'!$C$15="","",'Elenchi'!$C$15) | B24: =IF(A24="","",COUNTIF('Registro carrelli'!$G$5:$G$204,A24)) | C24: =IF(OR(A24="",$B$5=0),"",B24/$B$5) | D24: =IF(A24="","",COUNTIFS('Registro carrelli'!$G$5:$G$204,A24,'Registro carrelli'!$P$5:$P$204,"<>")) | E24: =IF(OR(A24="",N(B24)=0),"",D24/B24) | F24: =IF(A24="","",SUMIFS('Registro carrelli'!$S$5:$S$204,'Registro carrelli'!$G$5:$G$204,A24)) | G24: =IF(OR(A24="",N(B24)=0),"",RANK(B24,$B$22:$B$31))
A25: =IF('Elenchi'!$C$16="","",'Elenchi'!$C$16) | B25: =IF(A25="","",COUNTIF('Registro carrelli'!$G$5:$G$204,A25)) | C25: =IF(OR(A25="",$B$5=0),"",B25/$B$5) | D25: =IF(A25="","",COUNTIFS('Registro carrelli'!$G$5:$G$204,A25,'Registro carrelli'!$P$5:$P$204,"<>")) | E25: =IF(OR(A25="",N(B25)=0),"",D25/B25) | F25: =IF(A25="","",SUMIFS('Registro carrelli'!$S$5:$S$204,'Registro carrelli'!$G$5:$G$204,A25)) | G25: =IF(OR(A25="",N(B25)=0),"",RANK(B25,$B$22:$B$31))
A26: =IF('Elenchi'!$C$17="","",'Elenchi'!$C$17) | B26: =IF(A26="","",COUNTIF('Registro carrelli'!$G$5:$G$204,A26)) | C26: =IF(OR(A26="",$B$5=0),"",B26/$B$5) | D26: =IF(A26="","",COUNTIFS('Registro carrelli'!$G$5:$G$204,A26,'Registro carrelli'!$P$5:$P$204,"<>")) | E26: =IF(OR(A26="",N(B26)=0),"",D26/B26) | F26: =IF(A26="","",SUMIFS('Registro carrelli'!$S$5:$S$204,'Registro carrelli'!$G$5:$G$204,A26)) | G26: =IF(OR(A26="",N(B26)=0),"",RANK(B26,$B$22:$B$31))
A27: =IF('Elenchi'!$C$18="","",'Elenchi'!$C$18) | B27: =IF(A27="","",COUNTIF('Registro carrelli'!$G$5:$G$204,A27)) | C27: =IF(OR(A27="",$B$5=0),"",B27/$B$5) | D27: =IF(A27="","",COUNTIFS('Registro carrelli'!$G$5:$G$204,A27,'Registro carrelli'!$P$5:$P$204,"<>")) | E27: =IF(OR(A27="",N(B27)=0),"",D27/B27) | F27: =IF(A27="","",SUMIFS('Registro carrelli'!$S$5:$S$204,'Registro carrelli'!$G$5:$G$204,A27)) | G27: =IF(OR(A27="",N(B27)=0),"",RANK(B27,$B$22:$B$31))
A28: =IF('Elenchi'!$C$19="","",'Elenchi'!$C$19) | B28: =IF(A28="","",COUNTIF('Registro carrelli'!$G$5:$G$204,A28)) | C28: =IF(OR(A28="",$B$5=0),"",B28/$B$5) | D28: =IF(A28="","",COUNTIFS('Registro carrelli'!$G$5:$G$204,A28,'Registro carrelli'!$P$5:$P$204,"<>")) | E28: =IF(OR(A28="",N(B28)=0),"",D28/B28) | F28: =IF(A28="","",SUMIFS('Registro carrelli'!$S$5:$S$204,'Registro carrelli'!$G$5:$G$204,A28)) | G28: =IF(OR(A28="",N(B28)=0),"",RANK(B28,$B$22:$B$31))
A29: =IF('Elenchi'!$C$20="","",'Elenchi'!$C$20) | B29: =IF(A29="","",COUNTIF('Registro carrelli'!$G$5:$G$204,A29)) | C29: =IF(OR(A29="",$B$5=0),"",B29/$B$5) | D29: =IF(A29="","",COUNTIFS('Registro carrelli'!$G$5:$G$204,A29,'Registro carrelli'!$P$5:$P$204,"<>")) | E29: =IF(OR(A29="",N(B29)=0),"",D29/B29) | F29: =IF(A29="","",SUMIFS('Registro carrelli'!$S$5:$S$204,'Registro carrelli'!$G$5:$G$204,A29)) | G29: =IF(OR(A29="",N(B29)=0),"",RANK(B29,$B$22:$B$31))
A30: =IF('Elenchi'!$C$21="","",'Elenchi'!$C$21) | B30: =IF(A30="","",COUNTIF('Registro carrelli'!$G$5:$G$204,A30)) | C30: =IF(OR(A30="",$B$5=0),"",B30/$B$5) | D30: =IF(A30="","",COUNTIFS('Registro carrelli'!$G$5:$G$204,A30,'Registro carrelli'!$P$5:$P$204,"<>")) | E30: =IF(OR(A30="",N(B30)=0),"",D30/B30) | F30: =IF(A30="","",SUMIFS('Registro carrelli'!$S$5:$S$204,'Registro carrelli'!$G$5:$G$204,A30)) | G30: =IF(OR(A30="",N(B30)=0),"",RANK(B30,$B$22:$B$31))
A31: =IF('Elenchi'!$C$22="","",'Elenchi'!$C$22) | B31: =IF(A31="","",COUNTIF('Registro carrelli'!$G$5:$G$204,A31)) | C31: =IF(OR(A31="",$B$5=0),"",B31/$B$5) | D31: =IF(A31="","",COUNTIFS('Registro carrelli'!$G$5:$G$204,A31,'Registro carrelli'!$P$5:$P$204,"<>")) | E31: =IF(OR(A31="",N(B31)=0),"",D31/B31) | F31: =IF(A31="","",SUMIFS('Registro carrelli'!$S$5:$S$204,'Registro carrelli'!$G$5:$G$204,A31)) | G31: =IF(OR(A31="",N(B31)=0),"",RANK(B31,$B$22:$B$31))
A33: Dove si sono fermati i clienti
A34: Fase di abbandono | B34: Carrelli | C34: Recuperati | D34: Tasso di recupero
A35: =IF('Elenchi'!$B$13="","",'Elenchi'!$B$13) | B35: =IF(A35="","",COUNTIF('Registro carrelli'!$F$5:$F$204,A35)) | C35: =IF(A35="","",COUNTIFS('Registro carrelli'!$F$5:$F$204,A35,'Registro carrelli'!$P$5:$P$204,"<>")) | D35: =IF(OR(A35="",N(B35)=0),"",C35/B35)
A36: =IF('Elenchi'!$B$14="","",'Elenchi'!$B$14) | B36: =IF(A36="","",COUNTIF('Registro carrelli'!$F$5:$F$204,A36)) | C36: =IF(A36="","",COUNTIFS('Registro carrelli'!$F$5:$F$204,A36,'Registro carrelli'!$P$5:$P$204,"<>")) | D36: =IF(OR(A36="",N(B36)=0),"",C36/B36)
A37: =IF('Elenchi'!$B$15="","",'Elenchi'!$B$15) | B37: =IF(A37="","",COUNTIF('Registro carrelli'!$F$5:$F$204,A37)) | C37: =IF(A37="","",COUNTIFS('Registro carrelli'!$F$5:$F$204,A37,'Registro carrelli'!$P$5:$P$204,"<>")) | D37: =IF(OR(A37="",N(B37)=0),"",C37/B37)
A38: =IF('Elenchi'!$B$16="","",'Elenchi'!$B$16) | B38: =IF(A38="","",COUNTIF('Registro carrelli'!$F$5:$F$204,A38)) | C38: =IF(A38="","",COUNTIFS('Registro carrelli'!$F$5:$F$204,A38,'Registro carrelli'!$P$5:$P$204,"<>")) | D38: =IF(OR(A38="",N(B38)=0),"",C38/B38)
A39: =IF('Elenchi'!$B$17="","",'Elenchi'!$B$17) | B39: =IF(A39="","",COUNTIF('Registro carrelli'!$F$5:$F$204,A39)) | C39: =IF(A39="","",COUNTIFS('Registro carrelli'!$F$5:$F$204,A39,'Registro carrelli'!$P$5:$P$204,"<>")) | D39: =IF(OR(A39="",N(B39)=0),"",C39/B39)
A40: =IF('Elenchi'!$B$18="","",'Elenchi'!$B$18) | B40: =IF(A40="","",COUNTIF('Registro carrelli'!$F$5:$F$204,A40)) | C40: =IF(A40="","",COUNTIFS('Registro carrelli'!$F$5:$F$204,A40,'Registro carrelli'!$P$5:$P$204,"<>")) | D40: =IF(OR(A40="",N(B40)=0),"",C40/B40)
A42: Quale email ha recuperato l’ordine
A43: Recuperato dopo | B43: Ordini | C43: Fatturato
A44: Prima delle email | B44: =COUNTIF('Registro carrelli'!$T$5:$T$204,A44) | C44: =SUMIFS('Registro carrelli'!$R$5:$R$204,'Registro carrelli'!$T$5:$T$204,A44)
...

Sheet Elenchi
A1: Tempi della serie
A2: Modifica i numeri in base al tuo negozio. Gli orari previsti nel Registro carrelli li seguono.
A4: Impostazione | B4: Valore
A5: Email 1, ore dopo il carrello | B5: 1
A6: Email 2, ore dopo il carrello | B6: 24
A7: Email 3, ore dopo il carrello | B7: 72
A8: Chiudi il carrello dopo (giorni), se non c’è ordine | B8: 7
A10: Elenchi a discesa
A11: Modifica gli elenchi in base al tuo negozio. Mantieni l’ordine di Motivo probabile: le formule saltano l’email 3 per il 6° motivo (Solo un’occhiata).
A12: Email consentita | B12: Fase di abbandono | C12: Motivo probabile
A13: Sì | B13: Carrello | C13: Costi aggiuntivi
A14: No | B14: Contatti | C14: Tempi di consegna
B15: Spedizione | C15: Resi
B16: Pagamento | C16: Fiducia e pagamento
C17: Creazione account
C18: Solo un’occhiata
C19: Non noto
