Workbook

Sheet Registo de lembretes
A1: Registo de lembretes de marcação
A2: Uma linha por marcação. Introduza Marcado em e Data da visita como data e hora, por exemplo 2026-10-08 17:30. As horas de envio preenchem-se a partir da folha Definições, e só com Consentimento SMS Sim.
A3: Registe cada resposta e, depois da visita, o desfecho. Uma visita alterada recebe uma linha nova, e a linha antiga recebe Remarcado. Exemplo: Larchmont Physio, uma clínica fictícia, de 5 a 16 de outubro de 2026.
A4: Cliente | B4: Telefone | C4: Serviço | D4: Profissional | E4: Consentimento SMS | F4: Primeira visita | G4: Falta anterior | H4: Marcado em | I4: Data da visita | J4: Confirmação: enviar às | K4: Lembrete: enviar às | L4: Próprio dia: enviar às | M4: Resposta | N4: Desfecho | O4: Estado | P4: Responsável | Q4: Notas
A5: Tessa Lindgren | B5: 614-555-0171 | C5: Avaliação inicial | D5: Callum | E5: Sim | F5: Sim | G5: Não | H5: 46300.426 | I5: 46303.729 | J5: =IF(OR($A5="",$H5="",$E5<>"Sim"),"",IF(MOD($H5,1)<'Definições'!$B$9,INT($H5)+'Definições'!$B$9,IF(MOD($H5,1)>'Definições'!$B$10,INT($H5)+1+'Definições'!$B$9,$H5))) | K5: =IF(OR($A5="",$I5="",$E5<>"Sim"),"",IF(AND($H5<>"",$I5-$H5<'Definições'!$B$6/24),"",INT($I5-'Definições'!$B$5/24)+MIN(MAX(MOD($I5-'Definições'!$B$5/24,1),'Definições'!$B$9),'Definições'!$B$10))) | L5: =IF(OR($A5="",$I5="",$E5<>"Sim"),"",IF(OR($F5="Sim",$G5="Sim",AND($H5<>"",$I5-$H5>='Definições'!$B$8)),IF(MOD(($I5-'Definições'!$B$7/24),1)<'Definições'!$B$9,INT(($I5-'Definições'!$B$7/24))-1+'Definições'!$B$10,IF(MOD(($I5-'Definições'!$B$7/24),1)>'Definições'!$B$10,INT(($I5-'Definições'!$B$7/24))+'Definições'!$B$10,($I5-'Definições'!$B$7/24))),"")) | M5: R | N5: Remarcado | O5: =IF($A5="","",IF($N5<>"","Fechado",IF(AND($I5<>"",NOW()>$I5),"Registar o desfecho",IF($E5<>"Sim","Sem SMS: ligar ou email",IF($M5&""="STOP","Saiu: sem SMS",IF($M5&""="R","Remarcar",IF($M5&""="C","Confirmado",IF($M5&""="Outra","Ler e responder",IF($K5="","Agendado",IF(NOW()<$K5,"Agendado",IF(NOW()>=$K5+1,"Sem resposta: ligar uma vez","À espera de resposta"))))))))))) | P5: Maren | Q5: Respondeu R às 17:41. Passou para sex. 9 out., 12:30. | T5: Sim | U5: C | V5: Compareceu
A6: Hugo Varga | B6: 614-555-0148 | C6: Consulta de seguimento | D6: Ingrid | E6: Sim | F6: Não | G6: Não | H6: 46296.378 | I6: 46300.333 | J6: =IF(OR($A6="",$H6="",$E6<>"Sim"),"",IF(MOD($H6,1)<'Definições'!$B$9,INT($H6)+'Definições'!$B$9,IF(MOD($H6,1)>'Definições'!$B$10,INT($H6)+1+'Definições'!$B$9,$H6))) | K6: =IF(OR($A6="",$I6="",$E6<>"Sim"),"",IF(AND($H6<>"",$I6-$H6<'Definições'!$B$6/24),"",INT($I6-'Definições'!$B$5/24)+MIN(MAX(MOD($I6-'Definições'!$B$5/24,1),'Definições'!$B$9),'Definições'!$B$10))) | L6: =IF(OR($A6="",$I6="",$E6<>"Sim"),"",IF(OR($F6="Sim",$G6="Sim",AND($H6<>"",$I6-$H6>='Definições'!$B$8)),IF(MOD(($I6-'Definições'!$B$7/24),1)<'Definições'!$B$9,INT(($I6-'Definições'!$B$7/24))-1+'Definições'!$B$10,IF(MOD(($I6-'Definições'!$B$7/24),1)>'Definições'!$B$10,INT(($I6-'Definições'!$B$7/24))+'Definições'!$B$10,($I6-'Definições'!$B$7/24))),"")) | M6: C | N6: Compareceu | O6: =IF($A6="","",IF($N6<>"","Fechado",IF(AND($I6<>"",NOW()>$I6),"Registar o desfecho",IF($E6<>"Sim","Sem SMS: ligar ou email",IF($M6&""="STOP","Saiu: sem SMS",IF($M6&""="R","Remarcar",IF($M6&""="C","Confirmado",IF($M6&""="Outra","Ler e responder",IF($K6="","Agendado",IF(NOW()<$K6,"Agendado",IF(NOW()>=$K6+1,"Sem resposta: ligar uma vez","À espera de resposta"))))))))))) | P6: Maren | Q6: Confirmou no sábado às 8:06. | T6: Não | U6: R | V6: Falta
A7: Amira Castell | B7: 614-555-0193 | C7: Consulta de seguimento | D7: Callum | E7: Sim | F7: Não | G7: Não | H7: 46293.764 | I7: 46301.312 | J7: =IF(OR($A7="",$H7="",$E7<>"Sim"),"",IF(MOD($H7,1)<'Definições'!$B$9,INT($H7)+'Definições'!$B$9,IF(MOD($H7,1)>'Definições'!$B$10,INT($H7)+1+'Definições'!$B$9,$H7))) | K7: =IF(OR($A7="",$I7="",$E7<>"Sim"),"",IF(AND($H7<>"",$I7-$H7<'Definições'!$B$6/24),"",INT($I7-'Definições'!$B$5/24)+MIN(MAX(MOD($I7-'Definições'!$B$5/24,1),'Definições'!$B$9),'Definições'!$B$10))) | L7: =IF(OR($A7="",$I7="",$E7<>"Sim"),"",IF(OR($F7="Sim",$G7="Sim",AND($H7<>"",$I7-$H7>='Definições'!$B$8)),IF(MOD(($I7-'Definições'!$B$7/24),1)<'Definições'!$B$9,INT(($I7-'Definições'!$B$7/24))-1+'Definições'!$B$10,IF(MOD(($I7-'Definições'!$B$7/24),1)>'Definições'!$B$10,INT(($I7-'Definições'!$B$7/24))+'Definições'!$B$10,($I7-'Definições'!$B$7/24))),"")) | M7: C | N7: Compareceu | O7: =IF($A7="","",IF($N7<>"","Fechado",IF(AND($I7<>"",NOW()>$I7),"Registar o desfecho",IF($E7<>"Sim","Sem SMS: ligar ou email",IF($M7&""="STOP","Saiu: sem SMS",IF($M7&""="R","Remarcar",IF($M7&""="C","Confirmado",IF($M7&""="Outra","Ler e responder",IF($K7="","Agendado",IF(NOW()<$K7,"Agendado",IF(NOW()>=$K7+1,"Sem resposta: ligar uma vez","À espera de resposta"))))))))))) | P7: Maren | Q7: Lembrete passado para as 8:00 pelo horário de envio. | U7: STOP | V7: Cancelamento tardio
A8: Joel Fenwick | B8: 614-555-0112 | C8: Avaliação inicial | D8: Ingrid | E8: Sim | F8: Sim | G8: Não | H8: 46281.583 | I8: 46301.458 | J8: =IF(OR($A8="",$H8="",$E8<>"Sim"),"",IF(MOD($H8,1)<'Definições'!$B$9,INT($H8)+'Definições'!$B$9,IF(MOD($H8,1)>'Definições'!$B$10,INT($H8)+1+'Definições'!$B$9,$H8))) | K8: =IF(OR($A8="",$I8="",$E8<>"Sim"),"",IF(AND($H8<>"",$I8-$H8<'Definições'!$B$6/24),"",INT($I8-'Definições'!$B$5/24)+MIN(MAX(MOD($I8-'Definições'!$B$5/24,1),'Definições'!$B$9),'Definições'!$B$10))) | L8: =IF(OR($A8="",$I8="",$E8<>"Sim"),"",IF(OR($F8="Sim",$G8="Sim",AND($H8<>"",$I8-$H8>='Definições'!$B$8)),IF(MOD(($I8-'Definições'!$B$7/24),1)<'Definições'!$B$9,INT(($I8-'Definições'!$B$7/24))-1+'Definições'!$B$10,IF(MOD(($I8-'Definições'!$B$7/24),1)>'Definições'!$B$10,INT(($I8-'Definições'!$B$7/24))+'Definições'!$B$10,($I8-'Definições'!$B$7/24))),"")) | N8: Falta | O8: =IF($A8="","",IF($N8<>"","Fechado",IF(AND($I8<>"",NOW()>$I8),"Registar o desfecho",IF($E8<>"Sim","Sem SMS: ligar ou email",IF($M8&""="STOP","Saiu: sem SMS",IF($M8&""="R","Remarcar",IF($M8&""="C","Confirmado",IF($M8&""="Outra","Ler e responder",IF($K8="","Agendado",IF(NOW()<$K8,"Agendado",IF(NOW()>=$K8+1,"Sem resposta: ligar uma vez","À espera de resposta"))))))))))) | P8: Maren | Q8: Sem resposta; mensagem de voz seg. 5 out. ao meio-dia. Faltou: chamada às 11:15, SMS às 11:24. Taxa não cobrada (primeira visita). Remarcou. | U8: Outra | V8: Cancelado a tempo
A9: Bianca Moretti | B9: 614-555-0185 | C9: Consulta de seguimento | D9: Callum | E9: Sim | F9: Não | G9: Não | H9: 46297.694 | I9: 46302.708 | J9: =IF(OR($A9="",$H9="",$E9<>"Sim"),"",IF(MOD($H9,1)<'Definições'!$B$9,INT($H9)+'Definições'!$B$9,IF(MOD($H9,1)>'Definições'!$B$10,INT($H9)+1+'Definições'!$B$9,$H9))) | K9: =IF(OR($A9="",$I9="",$E9<>"Sim"),"",IF(AND($H9<>"",$I9-$H9<'Definições'!$B$6/24),"",INT($I9-'Definições'!$B$5/24)+MIN(MAX(MOD($I9-'Definições'!$B$5/24,1),'Definições'!$B$9),'Definições'!$B$10))) | L9: =IF(OR($A9="",$I9="",$E9<>"Sim"),"",IF(OR($F9="Sim",$G9="Sim",AND($H9<>"",$I9-$H9>='Definições'!$B$8)),IF(MOD(($I9-'Definições'!$B$7/24),1)<'Definições'!$B$9,INT(($I9-'Definições'!$B$7/24))-1+'Definições'!$B$10,IF(MOD(($I9-'Definições'!$B$7/24),1)>'Definições'!$B$10,INT(($I9-'Definições'!$B$7/24))+'Definições'!$B$10,($I9-'Definições'!$B$7/24))),"")) | M9: C | N9: Compareceu | O9: =IF($A9="","",IF($N9<>"","Fechado",IF(AND($I9<>"",NOW()>$I9),"Registar o desfecho",IF($E9<>"Sim","Sem SMS: ligar ou email",IF($M9&""="STOP","Saiu: sem SMS",IF($M9&""="R","Remarcar",IF($M9&""="C","Confirmado",IF($M9&""="Outra","Ler e responder",IF($K9="","Agendado",IF(NOW()<$K9,"Agendado",IF(NOW()>=$K9+1,"Sem resposta: ligar uma vez","À espera de resposta"))))))))))) | P9: Maren | Q9: Confirmou 4 minutos depois do lembrete. | V9: Remarcado
A10: Kofi Asante | B10: 614-555-0127 | C10: Seguimento por vídeo | D10: Ingrid | E10: Não | F10: Não | G10: Não | H10: 46291.479 | I10: 46302.542 | J10: =IF(OR($A10="",$H10="",$E10<>"Sim"),"",IF(MOD($H10,1)<'Definições'!$B$9,INT($H10)+'Definições'!$B$9,IF(MOD($H10,1)>'Definições'!$B$10,INT($H10)+1+'Definições'!$B$9,$H10))) | K10: =IF(OR($A10="",$I10="",$E10<>"Sim"),"",IF(AND($H10<>"",$I10-$H10<'Definições'!$B$6/24),"",INT($I10-'Definições'!$B$5/24)+MIN(MAX(MOD($I10-'Definições'!$B$5/24,1),'Definições'!$B$9),'Definições'!$B$10))) | L10: =IF(OR($A10="",$I10="",$E10<>"Sim"),"",IF(OR($F10="Sim",$G10="Sim",AND($H10<>"",$I10-$H10>='Definições'!$B$8)),IF(MOD(($I10-'Definições'!$B$7/24),1)<'Definições'!$B$9,INT(($I10-'Definições'!$B$7/24))-1+'Definições'!$B$10,IF(MOD(($I10-'Definições'!$B$7/24),1)>'Definições'!$B$10,INT(($I10-'Definições'!$B$7/24))+'Definições'!$B$10,($I10-'Definições'!$B$7/24))),"")) | N10: Compareceu | O10: =IF($A10="","",IF($N10<>"","Fechado",IF(AND($I10<>"",NOW()>$I10),"Registar o desfecho",IF($E10<>"Sim","Sem SMS: ligar ou email",IF($M10&""="STOP","Saiu: sem SMS",IF($M10&""="R","Remarcar",IF($M10&""="C","Confirmado",IF($M10&""="Outra","Ler e responder",IF($K10="","Agendado",IF(NOW()<$K10,"Agendado",IF(NOW()>=$K10+1,"Sem resposta: ligar uma vez","À espera de resposta"))))))))))) | P10: Maren | Q10: Prefere email: só emails de marcação, sem SMS.
A11: Selma Ostrander | B11: 614-555-0164 | C11: Consulta de seguimento | D11: Ingrid | E11: Sim | F11: Não | G11: Sim | H11: 46296.438 | I11: 46303.396 | J11: =IF(OR($A11="",$H11="",$E11<>"Sim"),"",IF(MOD($H11,1)<'Definições'!$B$9,INT($H11)+'Definições'!$B$9,IF(MOD($H11,1)>'Definições'!$B$10,INT($H11)+1+'Definições'!$B$9,$H11))) | K11: =IF(OR($A11="",$I11="",$E11<>"Sim"),"",IF(AND($H11<>"",$I11-$H11<'Definições'!$B$6/24),"",INT($I11-'Definições'!$B$5/24)+MIN(MAX(MOD($I11-'Definições'!$B$5/24,1),'Definições'!$B$9),'Definições'!$B$10))) | L11: =IF(OR($A11="",$I11="",$E11<>"Sim"),"",IF(OR($F11="Sim",$G11="Sim",AND($H11<>"",$I11-$H11>='Definições'!$B$8)),IF(MOD(($I11-'Definições'!$B$7/24),1)<'Definições'!$B$9,INT(($I11-'Definições'!$B$7/24))-1+'Definições'!$B$10,IF(MOD(($I11-'Definições'!$B$7/24),1)>'Definições'!$B$10,INT(($I11-'Definições'!$B$7/24))+'Definições'!$B$10,($I11-'Definições'!$B$7/24))),"")) | M11: C | N11: Compareceu | O11: =IF($A11="","",IF($N11<>"","Fechado",IF(AND($I11<>"",NOW()>$I11),"Registar o desfecho",IF($E11<>"Sim","Sem SMS: ligar ou email",IF($M11&""="STOP","Saiu: sem SMS",IF($M11&""="R","Remarcar",IF($M11&""="C","Confirmado",IF($M11&""="Outra","Ler e responder",IF($K11="","Agendado",IF(NOW()<$K11,"Agendado",IF(NOW()>=$K11+1,"Sem resposta: ligar uma vez","À espera de resposta"))))))))))) | P11: Maren | Q11: Faltou a uma visita em setembro: SMS no próprio dia na véspera à noite.
A12: June Albrecht | B12: 614-555-0159 | C12: Consulta de seguimento | D12: Callum | E12: Sim | F12: Não | G12: Não | H12: 46300.5 | I12: 46303.667 | J12: =IF(OR($A12="",$H12="",$E12<>"Sim"),"",IF(MOD($H12,1)<'Definições'!$B$9,INT($H12)+'Definições'!$B$9,IF(MOD($H12,1)>'Definições'!$B$10,INT($H12)+1+'Definições'!$B$9,$H12))) | K12: =IF(OR($A12="",$I12="",$E12<>"Sim"),"",IF(AND($H12<>"",$I12-$H12<'Definições'!$B$6/24),"",INT($I12-'Definições'!$B$5/24)+MIN(MAX(MOD($I12-'Definições'!$B$5/24,1),'Definições'!$B$9),'Definições'!$B$10))) | L12: =IF(OR($A12="",$I12="",$E12<>"Sim"),"",IF(OR($F12="Sim",$G12="Sim",AND($H12<>"",$I12-$H12>='Definições'!$B$8)),IF(MOD(($I12-'Definições'!$B$7/24),1)<'Definições'!$B$9,INT(($I12-'Definições'!$B$7/24))-1+'Definições'!$B$10,IF(MOD(($I12-'Definições'!$B$7/24),1)>'Definições'!$B$10,INT(($I12-'Definições'!$B$7/24))+'Definições'!$B$10,($I12-'Definições'!$B$7/24))),"")) | M12: R | N12: Cancelado a tempo | O12: =IF($A12="","",IF($N12<>"","Fechado",IF(AND($I12<>"",NOW()>$I12),"Registar o desfecho",IF($E12<>"Sim","Sem SMS: ligar ou email",IF($M12&""="STOP","Saiu: sem SMS",IF($M12&""="R","Remarcar",IF($M12&""="C","Confirmado",IF($M12&""="Outra","Ler e responder",IF($K12="","Agendado",IF(NOW()<$K12,"Agendado",IF(NOW()>=$K12+1,"Sem resposta: ligar uma vez","À espera de resposta"))))))))))) | P12: Maren | Q12: Respondeu R: já não precisa da visita. Desmarcou por telefone 2 dias antes.
A13: Tessa Lindgren | B13: 614-555-0171 | C13: Avaliação inicial | D13: Callum | E13: Sim | F13: Sim | G13: Não | H13: 46301.744 | I13: 46304.521 | J13: =IF(OR($A13="",$H13="",$E13<>"Sim"),"",IF(MOD($H13,1)<'Definições'!$B$9,INT($H13)+'Definições'!$B$9,IF(MOD($H13,1)>'Definições'!$B$10,INT($H13)+1+'Definições'!$B$9,$H13))) | K13: =IF(OR($A13="",$I13="",$E13<>"Sim"),"",IF(AND($H13<>"",$I13-$H13<'Definições'!$B$6/24),"",INT($I13-'Definições'!$B$5/24)+MIN(MAX(MOD($I13-'Definições'!$B$5/24,1),'Definições'!$B$9),'Definições'!$B$10))) | L13: =IF(OR($A13="",$I13="",$E13<>"Sim"),"",IF(OR($F13="Sim",$G13="Sim",AND($H13<>"",$I13-$H13>='Definições'!$B$8)),IF(MOD(($I13-'Definições'!$B$7/24),1)<'Definições'!$B$9,INT(($I13-'Definições'!$B$7/24))-1+'Definições'!$B$10,IF(MOD(($I13-'Definições'!$B$7/24),1)>'Definições'!$B$10,INT(($I13-'Definições'!$B$7/24))+'Definições'!$B$10,($I13-'Definições'!$B$7/24))),"")) | N13: Compareceu | O13: =IF($A13="","",IF($N13<>"","Fechado",IF(AND($I13<>"",NOW()>$I13),"Registar o desfecho",IF($E13<>"Sim","Sem SMS: ligar ou email",IF($M13&""="STOP","Saiu: sem SMS",IF($M13&""="R","Remarcar",IF($M13&""="C","Confirmado",IF($M13&""="Outra","Ler e responder",IF($K13="","Agendado",IF(NOW()<$K13,"Agendado",IF(NOW()>=$K13+1,"Sem resposta: ligar uma vez","À espera de resposta"))))))))))) | P13: Maren | Q13: Marcou por SMS. Sem lembrete: marcado com menos de 3 dias. SMS no próprio dia enviado.
A14: Tobias Grell | B14: 614-555-0131 | C14: Avaliação inicial | D14: Ingrid | E14: Sim | F14: Sim | G14: Não | H14: 46294.844 | I14: 46304.354 | J14: =IF(OR($A14="",$H14="",$E14<>"Sim"),"",IF(MOD($H14,1)<'Definições'!$B$9,INT($H14)+'Definições'!$B$9,IF(MOD($H14,1)>'Definições'!$B$10,INT($H14)+1+'Definições'!$B$9,$H14))) | K14: =IF(OR($A14="",$I14="",$E14<>"Sim"),"",IF(AND($H14<>"",$I14-$H14<'Definições'!$B$6/24),"",INT($I14-'Definições'!$B$5/24)+MIN(MAX(MOD($I14-'Definições'!$B$5/24,1),'Definições'!$B$9),'Definições'!$B$10))) | L14: =IF(OR($A14="",$I14="",$E14<>"Sim"),"",IF(OR($F14="Sim",$G14="Sim",AND($H14<>"",$I14-$H14>='Definições'!$B$8)),IF(MOD(($I14-'Definições'!$B$7/24),1)<'Definições'!$B$9,INT(($I14-'Definições'!$B$7/24))-1+'Definições'!$B$10,IF(MOD(($I14-'Definições'!$B$7/24),1)>'Definições'!$B$10,INT(($I14-'Definições'!$B$7/24))+'Definições'!$B$10,($I14-'Definições'!$B$7/24))),"")) | M14: C | N14: Cancelamento tardio | O14: =IF($A14="","",IF($N14<>"","Fechado",IF(AND($I14<>"",NOW()>$I14),"Registar o desfecho",IF($E14<>"Sim","Sem SMS: ligar ou email",IF($M14&""="STOP","Saiu: sem SMS",IF($M14&""="R","Remarcar",IF($M14&""="C","Confirmado",IF($M14&""="Outra","Ler e responder",IF($K14="","Agendado",IF(NOW()<$K14,"Agendado",IF(NOW()>=$K14+1,"Sem resposta: ligar uma vez","À espera de resposta"))))))))))) | P14: Maren | Q14: Ligou às 7:40, doente. Taxa conforme a política; remarca quando estiver melhor.
A15: Carmen Ibarra | B15: 614-555-0177 | C15: Consulta de seguimento | D15: Callum | E15: Sim | F15: Não | G15: Não | H15: 46295.458 | I15: 46304.625 | J15: =IF(OR($A15="",$H15="",$E15<>"Sim"),"",IF(MOD($H15,1)<'Definições'!$B$9,INT($H15)+'Definições'!$B$9,IF(MOD($H15,1)>'Definições'!$B$10,INT($H15)+1+'Definições'!$B$9,$H15))) | K15: =IF(OR($A15="",$I15="",$E15<>"Sim"),"",IF(AND($H15<>"",$I15-$H15<'Definições'!$B$6/24),"",INT($I15-'Definições'!$B$5/24)+MIN(MAX(MOD($I15-'Definições'!$B$5/24,1),'Definições'!$B$9),'Definições'!$B$10))) | L15: =IF(OR($A15="",$I15="",$E15<>"Sim"),"",IF(OR($F15="Sim",$G15="Sim",AND($H15<>"",$I15-$H15>='Definições'!$B$8)),IF(MOD(($I15-'Definições'!$B$7/24),1)<'Definições'!$B$9,INT(($I15-'Definições'!$B$7/24))-1+'Definições'!$B$10,IF(MOD(($I15-'Definições'!$B$7/24),1)>'Definições'!$B$10,INT(($I15-'Definições'!$B$7/24))+'Definições'!$B$10,($I15-'Definições'!$B$7/24))),"")) | M15: STOP | N15: Compareceu | O15: =IF($A15="","",IF($N15<>"","Fechado",IF(AND($I15<>"",NOW()>$I15),"Registar o desfecho",IF($E15<>"Sim","Sem SMS: ligar ou email",IF($M15&""="STOP","Saiu: sem SMS",IF($M15&""="R","Remarcar",IF($M15&""="C","Confirmado",IF($M15&""="Outra","Ler e responder",IF($K15="","Agendado",IF(NOW()<$K15,"Agendado",IF(NOW()>=$K15+1,"Sem resposta: ligar uma vez","À espera de resposta"))))))))))) | P15: Maren | Q15: Respondeu STOP. Confirmação enviada 2 minutos depois. Lembretes só por email.
A16: Noor Siddiq | B16: 614-555-0142 | C16: Consulta de seguimento | D16: Ingrid | E16: Sim | F16: Não | G16: Não | H16: 46297.375 | I16: 46305.375 | J16: =IF(OR($A16="",$H16="",$E16<>"Sim"),"",IF(MOD($H16,1)<'Definições'!$B$9,INT($H16)+'Definições'!$B$9,IF(MOD($H16,1)>'Definições'!$B$10,INT($H16)+1+'Definições'!$B$9,$H16))) | K16: =IF(OR($A16="",$I16="",$E16<>"Sim"),"",IF(AND($H16<>"",$I16-$H16<'Definições'!$B$6/24),"",INT($I16-'Definições'!$B$5/24)+MIN(MAX(MOD($I16-'Definições'!$B$5/24,1),'Definições'!$B$9),'Definições'!$B$10))) | L16: =IF(OR($A16="",$I16="",$E16<>"Sim"),"",IF(OR($F16="Sim",$G16="Sim",AND($H16<>"",$I16-$H16>='Definições'!$B$8)),IF(MOD(($I16-'Definições'!$B$7/24),1)<'Definições'!$B$9,INT(($I16-'Definições'!$B$7/24))-1+'Definições'!$B$10,IF(MOD(($I16-'Definições'!$B$7/24),1)>'Definições'!$B$10,INT(($I16-'Definições'!$B$7/24))+'Definições'!$B$10,($I16-'Definições'!$B$7/24))),"")) | M16: Outra | N16: Compareceu | O16: =IF($A16="","",IF($N16<>"","Fechado",IF(AND($I16<>"",NOW()>$I16),"Registar o desfecho",IF($E16<>"Sim","Sem SMS: ligar ou email",IF($M16&""="STOP","Saiu: sem SMS",IF($M16&""="R","Remarcar",IF($M16&""="C","Confirmado",IF($M16&""="Outra","Ler e responder",IF($K16="","Agendado",IF(NOW()<$K16,"Agendado",IF(NOW()>=$K16+1,"Sem resposta: ligar uma vez","À espera de resposta"))))))))))) | P16: Maren | Q16: Perguntou pelo estacionamento. A Maren respondeu em 20 minutos.
A17: Paul Severin | B17: 614-555-0118 | C17: Consulta de seguimento | D17: Callum | E17: Sim | F17: Não | G17: Não | H17: 46300.361 | I17: 46305.438 | J17: =IF(OR($A17="",$H17="",$E17<>"Sim"),"",IF(MOD($H17,1)<'Definições'!$B$9,INT($H17)+'Definições'!$B$9,IF(MOD($H17,1)>'Definições'!$B$10,INT($H17)+1+'Definições'!$B$9,$H17))) | K17: =IF(OR($A17="",$I17="",$E17<>"Sim"),"",IF(AND($H17<>"",$I17-$H17<'Definições'!$B$6/24),"",INT($I17-'Definições'!$B$5/24)+MIN(MAX(MOD($I17-'Definições'!$B$5/24,1),'Definições'!$B$9),'Definições'!$B$10))) | L17: =IF(OR($A17="",$I17="",$E17<>"Sim"),"",IF(OR($F17="Sim",$G17="Sim",AND($H17<>"",$I17-$H17>='Definições'!$B$8)),IF(MOD(($I17-'Definições'!$B$7/24),1)<'Definições'!$B$9,INT(($I17-'Definições'!$B$7/24))-1+'Definições'!$B$10,IF(MOD(($I17-'Definições'!$B$7/24),1)>'Definições'!$B$10,INT(($I17-'Definições'!$B$7/24))+'Definições'!$B$10,($I17-'Definições'!$B$7/24))),"")) | N17: Compareceu | O17: =IF($A17="","",IF($N17<>"","Fechado",IF(AND($I17<>"",NOW()>$I17),"Registar o desfecho",IF($E17<>"Sim","Sem SMS: ligar ou email",IF($M17&""="STOP","Saiu: sem SMS",IF($M17&""="R","Remarcar",IF($M17&""="C","Confirmado",IF($M17&""="Outra","Ler e responder",IF($K17="","Agendado",IF(NOW()<$K17,"Agendado",IF(NOW()>=$K17+1,"Sem resposta: ligar uma vez","À espera de resposta"))))))))))) | P17: Maren | Q17: Sem resposta; chamada sex. 9 out. às 11:00, confirmou por telefone.
A18: Hugo Varga | B18: 614-555-0148 | C18: Consulta de seguimento | D18: Ingrid | E18: Sim | F18: Não | G18: Não | H18: 46300.361 | I18: 46308.333 | J18: =IF(OR($A18="",$H18="",$E18<>"Sim"),"",IF(MOD($H18,1)<'Definições'!$B$9,INT($H18)+'Definições'!$B$9,IF(MOD($H18,1)>'Definições'!$B$10,INT($H18)+1+'Definições'!$B$9,$H18))) | K18: =IF(OR($A18="",$I18="",$E18<>"Sim"),"",IF(AND($H18<>"",$I18-$H18<'Definições'!$B$6/24),"",INT($I18-'Definições'!$B$5/24)+MIN(MAX(MOD($I18-'Definições'!$B$5/24,1),'Definições'!$B$9),'Definições'!$B$10))) | L18: =IF(OR($A18="",$I18="",$E18<>"Sim"),"",IF(OR($F18="Sim",$G18="Sim",AND($H18<>"",$I18-$H18>='Definições'!$B$8)),IF(MOD(($I18-'Definições'!$B$7/24),1)<'Definições'!$B$9,INT(($I18-'Definições'!$B$7/24))-1+'Definições'!$B$10,IF(MOD(($I18-'Definições'!$B$7/24),1)>'Definições'!$B$10,INT(($I18-'Definições'!$B$7/24))+'Definições'!$B$10,($I18-'Definições'!$B$7/24))),"")) | M18: C | O18: =IF($A18="","",IF($N18<>"","Fechado",IF(AND($I18<>"",NOW()>$I18),"Registar o desfecho",IF($E18<>"Sim","Sem SMS: ligar ou email",IF($M18&""="STOP","Saiu: sem SMS",IF($M18&""="R","Remarcar",IF($M18&""="C","Confirmado",IF($M18&""="Outra","Ler e responder",IF($K18="","Agendado",IF(NOW()<$K18,"Agendado",IF(NOW()>=$K18+1,"Sem resposta: ligar uma vez","À espera de resposta"))))))))))) | P18: Maren | Q18: Marcou no fim da última visita.
A19: Joel Fenwick | B19: 614-555-0112 | C19: Avaliação inicial | D19: Ingrid | E19: Sim | F19: Sim | G19: Sim | H19: 46301.556 | I19: 46309.708 | J19: =IF(OR($A19="",$H19="",$E19<>"Sim"),"",IF(MOD($H19,1)<'Definições'!$B$9,INT($H19)+'Definições'!$B$9,IF(MOD($H19,1)>'Definições'!$B$10,INT($H19)+1+'Definições'!$B$9,$H19))) | K19: =IF(OR($A19="",$I19="",$E19<>"Sim"),"",IF(AND($H19<>"",$I19-$H19<'Definições'!$B$6/24),"",INT($I19-'Definições'!$B$5/24)+MIN(MAX(MOD($I19-'Definições'!$B$5/24,1),'Definições'!$B$9),'Definições'!$B$10))) | L19: =IF(OR($A19="",$I19="",$E19<>"Sim"),"",IF(OR($F19="Sim",$G19="Sim",AND($H19<>"",$I19-$H19>='Definições'!$B$8)),IF(MOD(($I19-'Definições'!$B$7/24),1)<'Definições'!$B$9,INT(($I19-'Definições'!$B$7/24))-1+'Definições'!$B$10,IF(MOD(($I19-'Definições'!$B$7/24),1)>'Definições'!$B$10,INT(($I19-'Definições'!$B$7/24))+'Definições'!$B$10,($I19-'Definições'!$B$7/24))),"")) | O19: =IF($A19="","",IF($N19<>"","Fechado",IF(AND($I19<>"",NOW()>$I19),"Registar o desfecho",IF($E19<>"Sim","Sem SMS: ligar ou email",IF($M19&""="STOP","Saiu: sem SMS",IF($M19&""="R","Remarcar",IF($M19&""="C","Confirmado",IF($M19&""="Outra","Ler e responder",IF($K19="","Agendado",IF(NOW()<$K19,"Agendado",IF(NOW()>=$K19+1,"Sem resposta: ligar uma vez","À espera de resposta"))))))))))) | P19: Maren | Q19: Remarcou depois do SMS após falta. SMS no próprio dia: primeira visita, falta anterior.
A20: Tessa Lindgren | B20: 614-555-0171 | C20: Consulta de seguimento | D20: Callum | E20: Sim | F20: Não | G20: Não | H20: 46304.569 | I20: 46310.729 | J20: =IF(OR($A20="",$H20="",$E20<>"Sim"),"",IF(MOD($H20,1)<'Definições'!$B$9,INT($H20)+'Definições'!$B$9,IF(MOD($H20,1)>'Definições'!$B$10,INT($H20)+1+'Definições'!$B$9,$H20))) | K20: =IF(OR($A20="",$I20="",$E20<>"Sim"),"",IF(AND($H20<>"",$I20-$H20<'Definições'!$B$6/24),"",INT($I20-'Definições'!$B$5/24)+MIN(MAX(MOD($I20-'Definições'!$B$5/24,1),'Definições'!$B$9),'Definições'!$B$10))) | L20: =IF(OR($A20="",$I20="",$E20<>"Sim"),"",IF(OR($F20="Sim",$G20="Sim",AND($H20<>"",$I20-$H20>='Definições'!$B$8)),IF(MOD(($I20-'Definições'!$B$7/24),1)<'Definições'!$B$9,INT(($I20-'Definições'!$B$7/24))-1+'Definições'!$B$10,IF(MOD(($I20-'Definições'!$B$7/24),1)>'Definições'!$B$10,INT(($I20-'Definições'!$B$7/24))+'Definições'!$B$10,($I20-'Definições'!$B$7/24))),"")) | O20: =IF($A20="","",IF($N20<>"","Fechado",IF(AND($I20<>"",NOW()>$I20),"Registar o desfecho",IF($E20<>"Sim","Sem SMS: ligar ou email",IF($M20&""="STOP","Saiu: sem SMS",IF($M20&""="R","Remarcar",IF($M20&""="C","Confirmado",IF($M20&""="Outra","Ler e responder",IF($K20="","Agendado",IF(NOW()<$K20,"Agendado",IF(NOW()>=$K20+1,"Sem resposta: ligar uma vez","À espera de resposta"))))))))))) | P20: Maren | Q20: Marcou depois da primeira visita.
A21: Amira Castell | B21: 614-555-0193 | C21: Consulta de seguimento | D21: Callum | E21: Sim | F21: Não | G21: Não | H21: 46301.344 | I21: 46311.312 | J21: =IF(OR($A21="",$H21="",$E21<>"Sim"),"",IF(MOD($H21,1)<'Definições'!$B$9,INT($H21)+'Definições'!$B$9,IF(MOD($H21,1)>'Definições'!$B$10,INT($H21)+1+'Definições'!$B$9,$H21))) | K21: =IF(OR($A21="",$I21="",$E21<>"Sim"),"",IF(AND($H21<>"",$I21-$H21<'Definições'!$B$6/24),"",INT($I21-'Definições'!$B$5/24)+MIN(MAX(MOD($I21-'Definições'!$B$5/24,1),'Definições'!$B$9),'Definições'!$B$10))) | L21: =IF(OR($A21="",$I21="",$E21<>"Sim"),"",IF(OR($F21="Sim",$G21="Sim",AND($H21<>"",$I21-$H21>='Definições'!$B$8)),IF(MOD(($I21-'Definições'!$B$7/24),1)<'Definições'!$B$9,INT(($I21-'Definições'!$B$7/24))-1+'Definições'!$B$10,IF(MOD(($I21-'Definições'!$B$7/24),1)>'Definições'!$B$10,INT(($I21-'Definições'!$B$7/24))+'Definições'!$B$10,($I21-'Definições'!$B$7/24))),"")) | O21: =IF($A21="","",IF($N21<>"","Fechado",IF(AND($I21<>"",NOW()>$I21),"Registar o desfecho",IF($E21<>"Sim","Sem SMS: ligar ou email",IF($M21&""="STOP","Saiu: sem SMS",IF($M21&""="R","Remarcar",IF($M21&""="C","Confirmado",IF($M21&""="Outra","Ler e responder",IF($K21="","Agendado",IF(NOW()<$K21,"Agendado",IF(NOW()>=$K21+1,"Sem resposta: ligar uma vez","À espera de resposta"))))))))))) | P21: Maren | Q21: Lembrete às 8:00 pelo horário de envio.
J22: =IF(OR($A22="",$H22="",$E22<>"Sim"),"",IF(MOD($H22,1)<'Definições'!$B$9,INT($H22)+'Definições'!$B$9,IF(MOD($H22,1)>'Definições'!$B$10,INT($H22)+1+'Definições'!$B$9,$H22))) | K22: =IF(OR($A22="",$I22="",$E22<>"Sim"),"",IF(AND($H22<>"",$I22-$H22<'Definições'!$B$6/24),"",INT($I22-'Definições'!$B$5/24)+MIN(MAX(MOD($I22-'Definições'!$B$5/24,1),'Definições'!$B$9),'Definições'!$B$10))) | L22: =IF(OR($A22="",$I22="",$E22<>"Sim"),"",IF(OR($F22="Sim",$G22="Sim",AND($H22<>"",$I22-$H22>='Definições'!$B$8)),IF(MOD(($I22-'Definições'!$B$7/24),1)<'Definições'!$B$9,INT(($I22-'Definições'!$B$7/24))-1+'Definições'!$B$10,IF(MOD(($I22-'Definições'!$B$7/24),1)>'Definições'!$B$10,INT(($I22-'Definições'!$B$7/24))+'Definições'!$B$10,($I22-'Definições'!$B$7/24))),"")) | O22: =IF($A22="","",IF($N22<>"","Fechado",IF(AND($I22<>"",NOW()>$I22),"Registar o desfecho",IF($E22<>"Sim","Sem SMS: ligar ou email",IF($M22&""="STOP","Saiu: sem SMS",IF($M22&""="R","Remarcar",IF($M22&""="C","Confirmado",IF($M22&""="Outra","Ler e responder",IF($K22="","Agendado",IF(NOW()<$K22,"Agendado",IF(NOW()>=$K22+1,"Sem resposta: ligar uma vez","À espera de resposta")))))))))))
J23: =IF(OR($A23="",$H23="",$E23<>"Sim"),"",IF(MOD($H23,1)<'Definições'!$B$9,INT($H23)+'Definições'!$B$9,IF(MOD($H23,1)>'Definições'!$B$10,INT($H23)+1+'Definições'!$B$9,$H23))) | K23: =IF(OR($A23="",$I23="",$E23<>"Sim"),"",IF(AND($H23<>"",$I23-$H23<'Definições'!$B$6/24),"",INT($I23-'Definições'!$B$5/24)+MIN(MAX(MOD($I23-'Definições'!$B$5/24,1),'Definições'!$B$9),'Definições'!$B$10))) | L23: =IF(OR($A23="",$I23="",$E23<>"Sim"),"",IF(OR($F23="Sim",$G23="Sim",AND($H23<>"",$I23-$H23>='Definições'!$B$8)),IF(MOD(($I23-'Definições'!$B$7/24),1)<'Definições'!$B$9,INT(($I23-'Definições'!$B$7/24))-1+'Definições'!$B$10,IF(MOD(($I23-'Definições'!$B$7/24),1)>'Definições'!$B$10,INT(($I23-'Definições'!$B$7/24))+'Definições'!$B$10,($I23-'Definições'!$B$7/24))),"")) | O23: =IF($A23="","",IF($N23<>"","Fechado",IF(AND($I23<>"",NOW()>$I23),"Registar o desfecho",IF($E23<>"Sim","Sem SMS: ligar ou email",IF($M23&""="STOP","Saiu: sem SMS",IF($M23&""="R","Remarcar",IF($M23&""="C","Confirmado",IF($M23&""="Outra","Ler e responder",IF($K23="","Agendado",IF(NOW()<$K23,"Agendado",IF(NOW()>=$K23+1,"Sem resposta: ligar uma vez","À espera de resposta")))))))))))
J24: =IF(OR($A24="",$H24="",$E24<>"Sim"),"",IF(MOD($H24,1)<'Definições'!$B$9,INT($H24)+'Definições'!$B$9,IF(MOD($H24,1)>'Definições'!$B$10,INT($H24)+1+'Definições'!$B$9,$H24))) | K24: =IF(OR($A24="",$I24="",$E24<>"Sim"),"",IF(AND($H24<>"",$I24-$H24<'Definições'!$B$6/24),"",INT($I24-'Definições'!$B$5/24)+MIN(MAX(MOD($I24-'Definições'!$B$5/24,1),'Definições'!$B$9),'Definições'!$B$10))) | L24: =IF(OR($A24="",$I24="",$E24<>"Sim"),"",IF(OR($F24="Sim",$G24="Sim",AND($H24<>"",$I24-$H24>='Definições'!$B$8)),IF(MOD(($I24-'Definições'!$B$7/24),1)<'Definições'!$B$9,INT(($I24-'Definições'!$B$7/24))-1+'Definições'!$B$10,IF(MOD(($I24-'Definições'!$B$7/24),1)>'Definições'!$B$10,INT(($I24-'Definições'!$B$7/24))+'Definições'!$B$10,($I24-'Definições'!$B$7/24))),"")) | O24: =IF($A24="","",IF($N24<>"","Fechado",IF(AND($I24<>"",NOW()>$I24),"Registar o desfecho",IF($E24<>"Sim","Sem SMS: ligar ou email",IF($M24&""="STOP","Saiu: sem SMS",IF($M24&""="R","Remarcar",IF($M24&""="C","Confirmado",IF($M24&""="Outra","Ler e responder",IF($K24="","Agendado",IF(NOW()<$K24,"Agendado",IF(NOW()>=$K24+1,"Sem resposta: ligar uma vez","À espera de resposta")))))))))))
J25: =IF(OR($A25="",$H25="",$E25<>"Sim"),"",IF(MOD($H25,1)<'Definições'!$B$9,INT($H25)+'Definições'!$B$9,IF(MOD($H25,1)>'Definições'!$B$10,INT($H25)+1+'Definições'!$B$9,$H25))) | K25: =IF(OR($A25="",$I25="",$E25<>"Sim"),"",IF(AND($H25<>"",$I25-$H25<'Definições'!$B$6/24),"",INT($I25-'Definições'!$B$5/24)+MIN(MAX(MOD($I25-'Definições'!$B$5/24,1),'Definições'!$B$9),'Definições'!$B$10))) | L25: =IF(OR($A25="",$I25="",$E25<>"Sim"),"",IF(OR($F25="Sim",$G25="Sim",AND($H25<>"",$I25-$H25>='Definições'!$B$8)),IF(MOD(($I25-'Definições'!$B$7/24),1)<'Definições'!$B$9,INT(($I25-'Definições'!$B$7/24))-1+'Definições'!$B$10,IF(MOD(($I25-'Definições'!$B$7/24),1)>'Definições'!$B$10,INT(($I25-'Definições'!$B$7/24))+'Definições'!$B$10,($I25-'Definições'!$B$7/24))),"")) | O25: =IF($A25="","",IF($N25<>"","Fechado",IF(AND($I25<>"",NOW()>$I25),"Registar o desfecho",IF($E25<>"Sim","Sem SMS: ligar ou email",IF($M25&""="STOP","Saiu: sem SMS",IF($M25&""="R","Remarcar",IF($M25&""="C","Confirmado",IF($M25&""="Outra","Ler e responder",IF($K25="","Agendado",IF(NOW()<$K25,"Agendado",IF(NOW()>=$K25+1,"Sem resposta: ligar uma vez","À espera de resposta")))))))))))
J26: =IF(OR($A26="",$H26="",$E26<>"Sim"),"",IF(MOD($H26,1)<'Definições'!$B$9,INT($H26)+'Definições'!$B$9,IF(MOD($H26,1)>'Definições'!$B$10,INT($H26)+1+'Definições'!$B$9,$H26))) | K26: =IF(OR($A26="",$I26="",$E26<>"Sim"),"",IF(AND($H26<>"",$I26-$H26<'Definições'!$B$6/24),"",INT($I26-'Definições'!$B$5/24)+MIN(MAX(MOD($I26-'Definições'!$B$5/24,1),'Definições'!$B$9),'Definições'!$B$10))) | L26: =IF(OR($A26="",$I26="",$E26<>"Sim"),"",IF(OR($F26="Sim",$G26="Sim",AND($H26<>"",$I26-$H26>='Definições'!$B$8)),IF(MOD(($I26-'Definições'!$B$7/24),1)<'Definições'!$B$9,INT(($I26-'Definições'!$B$7/24))-1+'Definições'!$B$10,IF(MOD(($I26-'Definições'!$B$7/24),1)>'Definições'!$B$10,INT(($I26-'Definições'!$B$7/24))+'Definições'!$B$10,($I26-'Definições'!$B$7/24))),"")) | O26: =IF($A26="","",IF($N26<>"","Fechado",IF(AND($I26<>"",NOW()>$I26),"Registar o desfecho",IF($E26<>"Sim","Sem SMS: ligar ou email",IF($M26&""="STOP","Saiu: sem SMS",IF($M26&""="R","Remarcar",IF($M26&""="C","Confirmado",IF($M26&""="Outra","Ler e responder",IF($K26="","Agendado",IF(NOW()<$K26,"Agendado",IF(NOW()>=$K26+1,"Sem resposta: ligar uma vez","À espera de resposta")))))))))))
J27: =IF(OR($A27="",$H27="",$E27<>"Sim"),"",IF(MOD($H27,1)<'Definições'!$B$9,INT($H27)+'Definições'!$B$9,IF(MOD($H27,1)>'Definições'!$B$10,INT($H27)+1+'Definições'!$B$9,$H27))) | K27: =IF(OR($A27="",$I27="",$E27<>"Sim"),"",IF(AND($H27<>"",$I27-$H27<'Definições'!$B$6/24),"",INT($I27-'Definições'!$B$5/24)+MIN(MAX(MOD($I27-'Definições'!$B$5/24,1),'Definições'!$B$9),'Definições'!$B$10))) | L27: =IF(OR($A27="",$I27="",$E27<>"Sim"),"",IF(OR($F27="Sim",$G27="Sim",AND($H27<>"",$I27-$H27>='Definições'!$B$8)),IF(MOD(($I27-'Definições'!$B$7/24),1)<'Definições'!$B$9,INT(($I27-'Definições'!$B$7/24))-1+'Definições'!$B$10,IF(MOD(($I27-'Definições'!$B$7/24),1)>'Definições'!$B$10,INT(($I27-'Definições'!$B$7/24))+'Definições'!$B$10,($I27-'Definições'!$B$7/24))),"")) | O27: =IF($A27="","",IF($N27<>"","Fechado",IF(AND($I27<>"",NOW()>$I27),"Registar o desfecho",IF($E27<>"Sim","Sem SMS: ligar ou email",IF($M27&""="STOP","Saiu: sem SMS",IF($M27&""="R","Remarcar",IF($M27&""="C","Confirmado",IF($M27&""="Outra","Ler e responder",IF($K27="","Agendado",IF(NOW()<$K27,"Agendado",IF(NOW()>=$K27+1,"Sem resposta: ligar uma vez","À espera de resposta")))))))))))
J28: =IF(OR($A28="",$H28="",$E28<>"Sim"),"",IF(MOD($H28,1)<'Definições'!$B$9,INT($H28)+'Definições'!$B$9,IF(MOD($H28,1)>'Definições'!$B$10,INT($H28)+1+'Definições'!$B$9,$H28))) | K28: =IF(OR($A28="",$I28="",$E28<>"Sim"),"",IF(AND($H28<>"",$I28-$H28<'Definições'!$B$6/24),"",INT($I28-'Definições'!$B$5/24)+MIN(MAX(MOD($I28-'Definições'!$B$5/24,1),'Definições'!$B$9),'Definições'!$B$10))) | L28: =IF(OR($A28="",$I28="",$E28<>"Sim"),"",IF(OR($F28="Sim",$G28="Sim",AND($H28<>"",$I28-$H28>='Definições'!$B$8)),IF(MOD(($I28-'Definições'!$B$7/24),1)<'Definições'!$B$9,INT(($I28-'Definições'!$B$7/24))-1+'Definições'!$B$10,IF(MOD(($I28-'Definições'!$B$7/24),1)>'Definições'!$B$10,INT(($I28-'Definições'!$B$7/24))+'Definições'!$B$10,($I28-'Definições'!$B$7/24))),"")) | O28: =IF($A28="","",IF($N28<>"","Fechado",IF(AND($I28<>"",NOW()>$I28),"Registar o desfecho",IF($E28<>"Sim","Sem SMS: ligar ou email",IF($M28&""="STOP","Saiu: sem SMS",IF($M28&""="R","Remarcar",IF($M28&""="C","Confirmado",IF($M28&""="Outra","Ler e responder",IF($K28="","Agendado",IF(NOW()<$K28,"Agendado",IF(NOW()>=$K28+1,"Sem resposta: ligar uma vez","À espera de resposta")))))))))))
J29: =IF(OR($A29="",$H29="",$E29<>"Sim"),"",IF(MOD($H29,1)<'Definições'!$B$9,INT($H29)+'Definições'!$B$9,IF(MOD($H29,1)>'Definições'!$B$10,INT($H29)+1+'Definições'!$B$9,$H29))) | K29: =IF(OR($A29="",$I29="",$E29<>"Sim"),"",IF(AND($H29<>"",$I29-$H29<'Definições'!$B$6/24),"",INT($I29-'Definições'!$B$5/24)+MIN(MAX(MOD($I29-'Definições'!$B$5/24,1),'Definições'!$B$9),'Definições'!$B$10))) | L29: =IF(OR($A29="",$I29="",$E29<>"Sim"),"",IF(OR($F29="Sim",$G29="Sim",AND($H29<>"",$I29-$H29>='Definições'!$B$8)),IF(MOD(($I29-'Definições'!$B$7/24),1)<'Definições'!$B$9,INT(($I29-'Definições'!$B$7/24))-1+'Definições'!$B$10,IF(MOD(($I29-'Definições'!$B$7/24),1)>'Definições'!$B$10,INT(($I29-'Definições'!$B$7/24))+'Definições'!$B$10,($I29-'Definições'!$B$7/24))),"")) | O29: =IF($A29="","",IF($N29<>"","Fechado",IF(AND($I29<>"",NOW()>$I29),"Registar o desfecho",IF($E29<>"Sim","Sem SMS: ligar ou email",IF($M29&""="STOP","Saiu: sem SMS",IF($M29&""="R","Remarcar",IF($M29&""="C","Confirmado",IF($M29&""="Outra","Ler e responder",IF($K29="","Agendado",IF(NOW()<$K29,"Agendado",IF(NOW()>=$K29+1,"Sem resposta: ligar uma vez","À espera de resposta")))))))))))
J30: =IF(OR($A30="",$H30="",$E30<>"Sim"),"",IF(MOD($H30,1)<'Definições'!$B$9,INT($H30)+'Definições'!$B$9,IF(MOD($H30,1)>'Definições'!$B$10,INT($H30)+1+'Definições'!$B$9,$H30))) | K30: =IF(OR($A30="",$I30="",$E30<>"Sim"),"",IF(AND($H30<>"",$I30-$H30<'Definições'!$B$6/24),"",INT($I30-'Definições'!$B$5/24)+MIN(MAX(MOD($I30-'Definições'!$B$5/24,1),'Definições'!$B$9),'Definições'!$B$10))) | L30: =IF(OR($A30="",$I30="",$E30<>"Sim"),"",IF(OR($F30="Sim",$G30="Sim",AND($H30<>"",$I30-$H30>='Definições'!$B$8)),IF(MOD(($I30-'Definições'!$B$7/24),1)<'Definições'!$B$9,INT(($I30-'Definições'!$B$7/24))-1+'Definições'!$B$10,IF(MOD(($I30-'Definições'!$B$7/24),1)>'Definições'!$B$10,INT(($I30-'Definições'!$B$7/24))+'Definições'!$B$10,($I30-'Definições'!$B$7/24))),"")) | O30: =IF($A30="","",IF($N30<>"","Fechado",IF(AND($I30<>"",NOW()>$I30),"Registar o desfecho",IF($E30<>"Sim","Sem SMS: ligar ou email",IF($M30&""="STOP","Saiu: sem SMS",IF($M30&""="R","Remarcar",IF($M30&""="C","Confirmado",IF($M30&""="Outra","Ler e responder",IF($K30="","Agendado",IF(NOW()<$K30,"Agendado",IF(NOW()>=$K30+1,"Sem resposta: ligar uma vez","À espera de resposta")))))))))))
J31: =IF(OR($A31="",$H31="",$E31<>"Sim"),"",IF(MOD($H31,1)<'Definições'!$B$9,INT($H31)+'Definições'!$B$9,IF(MOD($H31,1)>'Definições'!$B$10,INT($H31)+1+'Definições'!$B$9,$H31))) | K31: =IF(OR($A31="",$I31="",$E31<>"Sim"),"",IF(AND($H31<>"",$I31-$H31<'Definições'!$B$6/24),"",INT($I31-'Definições'!$B$5/24)+MIN(MAX(MOD($I31-'Definições'!$B$5/24,1),'Definições'!$B$9),'Definições'!$B$10))) | L31: =IF(OR($A31="",$I31="",$E31<>"Sim"),"",IF(OR($F31="Sim",$G31="Sim",AND($H31<>"",$I31-$H31>='Definições'!$B$8)),IF(MOD(($I31-'Definições'!$B$7/24),1)<'Definições'!$B$9,INT(($I31-'Definições'!$B$7/24))-1+'Definições'!$B$10,IF(MOD(($I31-'Definições'!$B$7/24),1)>'Definições'!$B$10,INT(($I31-'Definições'!$B$7/24))+'Definições'!$B$10,($I31-'Definições'!$B$7/24))),"")) | O31: =IF($A31="","",IF($N31<>"","Fechado",IF(AND($I31<>"",NOW()>$I31),"Registar o desfecho",IF($E31<>"Sim","Sem SMS: ligar ou email",IF($M31&""="STOP","Saiu: sem SMS",IF($M31&""="R","Remarcar",IF($M31&""="C","Confirmado",IF($M31&""="Outra","Ler e responder",IF($K31="","Agendado",IF(NOW()<$K31,"Agendado",IF(NOW()>=$K31+1,"Sem resposta: ligar uma vez","À espera de resposta")))))))))))
J32: =IF(OR($A32="",$H32="",$E32<>"Sim"),"",IF(MOD($H32,1)<'Definições'!$B$9,INT($H32)+'Definições'!$B$9,IF(MOD($H32,1)>'Definições'!$B$10,INT($H32)+1+'Definições'!$B$9,$H32))) | K32: =IF(OR($A32="",$I32="",$E32<>"Sim"),"",IF(AND($H32<>"",$I32-$H32<'Definições'!$B$6/24),"",INT($I32-'Definições'!$B$5/24)+MIN(MAX(MOD($I32-'Definições'!$B$5/24,1),'Definições'!$B$9),'Definições'!$B$10))) | L32: =IF(OR($A32="",$I32="",$E32<>"Sim"),"",IF(OR($F32="Sim",$G32="Sim",AND($H32<>"",$I32-$H32>='Definições'!$B$8)),IF(MOD(($I32-'Definições'!$B$7/24),1)<'Definições'!$B$9,INT(($I32-'Definições'!$B$7/24))-1+'Definições'!$B$10,IF(MOD(($I32-'Definições'!$B$7/24),1)>'Definições'!$B$10,INT(($I32-'Definições'!$B$7/24))+'Definições'!$B$10,($I32-'Definições'!$B$7/24))),"")) | O32: =IF($A32="","",IF($N32<>"","Fechado",IF(AND($I32<>"",NOW()>$I32),"Registar o desfecho",IF($E32<>"Sim","Sem SMS: ligar ou email",IF($M32&""="STOP","Saiu: sem SMS",IF($M32&""="R","Remarcar",IF($M32&""="C","Confirmado",IF($M32&""="Outra","Ler e responder",IF($K32="","Agendado",IF(NOW()<$K32,"Agendado",IF(NOW()>=$K32+1,"Sem resposta: ligar uma vez","À espera de resposta")))))))))))
J33: =IF(OR($A33="",$H33="",$E33<>"Sim"),"",IF(MOD($H33,1)<'Definições'!$B$9,INT($H33)+'Definições'!$B$9,IF(MOD($H33,1)>'Definições'!$B$10,INT($H33)+1+'Definições'!$B$9,$H33))) | K33: =IF(OR($A33="",$I33="",$E33<>"Sim"),"",IF(AND($H33<>"",$I33-$H33<'Definições'!$B$6/24),"",INT($I33-'Definições'!$B$5/24)+MIN(MAX(MOD($I33-'Definições'!$B$5/24,1),'Definições'!$B$9),'Definições'!$B$10))) | L33: =IF(OR($A33="",$I33="",$E33<>"Sim"),"",IF(OR($F33="Sim",$G33="Sim",AND($H33<>"",$I33-$H33>='Definições'!$B$8)),IF(MOD(($I33-'Definições'!$B$7/24),1)<'Definições'!$B$9,INT(($I33-'Definições'!$B$7/24))-1+'Definições'!$B$10,IF(MOD(($I33-'Definições'!$B$7/24),1)>'Definições'!$B$10,INT(($I33-'Definições'!$B$7/24))+'Definições'!$B$10,($I33-'Definições'!$B$7/24))),"")) | O33: =IF($A33="","",IF($N33<>"","Fechado",IF(AND($I33<>"",NOW()>$I33),"Registar o desfecho",IF($E33<>"Sim","Sem SMS: ligar ou email",IF($M33&""="STOP","Saiu: sem SMS",IF($M33&""="R","Remarcar",IF($M33&""="C","Confirmado",IF($M33&""="Outra","Ler e responder",IF($K33="","Agendado",IF(NOW()<$K33,"Agendado",IF(NOW()>=$K33+1,"Sem resposta: ligar uma vez","À espera de resposta")))))))))))
... J204: =IF(OR($A204="",$H204="",$E204<>"Sim"),"",IF(MOD($H204,1)<'Definições'!$B$9,INT($H204)+'Definições'!$B$9,IF(MOD($H204,1)>'Definições'!$B$10,INT($H204)+1+'Definições'!$B$9,$H204))) | K204: =IF(OR($A204="",$I204="",$E204<>"Sim"),"",IF(AND($H204<>"",$I204-$H204<'Definições'!$B$6/24),"",INT($I204-'Definições'!$B$5/24)+MIN(MAX(MOD($I204-'Definições'!$B$5/24,1),'Definições'!$B$9),'Definições'!$B$10))) | L204: =IF(OR($A204="",$I204="",$E204<>"Sim"),"",IF(OR($F204="Sim",$G204="Sim",AND($H204<>"",$I204-$H204>='Definições'!$B$8)),IF(MOD(($I204-'Definições'!$B$7/24),1)<'Definições'!$B$9,INT(($I204-'Definições'!$B$7/24))-1+'Definições'!$B$10,IF(MOD(($I204-'Definições'!$B$7/24),1)>'Definições'!$B$10,INT(($I204-'Definições'!$B$7/24))+'Definições'!$B$10,($I204-'Definições'!$B$7/24))),"")) | O204: =IF($A204="","",IF($N204<>"","Fechado",IF(AND($I204<>"",NOW()>$I204),"Registar o desfecho",IF($E204<>"Sim","Sem SMS: ligar ou email",IF($M204&""="STOP","Saiu: sem SMS",IF($M204&""="R","Remarcar",IF($M204&""="C","Confirmado",IF($M204&""="Outra","Ler e responder",IF($K204="","Agendado",IF(NOW()<$K204,"Agendado",IF(NOW()>=$K204+1,"Sem resposta: ligar uma vez","À espera de resposta")))))))))))

Sheet Resumo
A1: Resumo dos lembretes
A2: Totais do Registo de lembretes. As taxas contam as marcações fechadas: as que têm desfecho.
A4: Lembretes e respostas
A5: Medida | B5: Total
A6: Marcações no registo | B6: =COUNTA('Registo de lembretes'!$A$5:$A$204)
A7: Fechadas (desfecho registado) | B7: =COUNTIFS('Registo de lembretes'!$A$5:$A$204,"<>",'Registo de lembretes'!$N$5:$N$204,"<>")
A8: Lembretes em marcações fechadas | B8: =COUNTIFS('Registo de lembretes'!$K$5:$K$204,">0",'Registo de lembretes'!$N$5:$N$204,"<>")
A9: Respostas a esses lembretes | B9: =COUNTIFS('Registo de lembretes'!$K$5:$K$204,">0",'Registo de lembretes'!$N$5:$N$204,"<>",'Registo de lembretes'!$M$5:$M$204,"<>")
A10: Taxa de resposta | B10: =IF(B8=0,"",B9/B8)
A11: Saíram (STOP) | B11: =COUNTIF('Registo de lembretes'!$M$5:$M$204,"STOP")
A12: Sem consentimento SMS | B12: =COUNTIFS('Registo de lembretes'!$A$5:$A$204,"<>",'Registo de lembretes'!$E$5:$E$204,"<>Sim")
A14: Desfechos
A15: Desfecho | B15: Marcações
A16: Compareceu | B16: =COUNTIF('Registo de lembretes'!$N$5:$N$204,A16)
A17: Falta | B17: =COUNTIF('Registo de lembretes'!$N$5:$N$204,A17)
A18: Cancelamento tardio | B18: =COUNTIF('Registo de lembretes'!$N$5:$N$204,A18)
A19: Cancelado a tempo | B19: =COUNTIF('Registo de lembretes'!$N$5:$N$204,A19)
A20: Remarcado | B20: =COUNTIF('Registo de lembretes'!$N$5:$N$204,A20)
A21: Ainda sem desfecho | B21: =COUNTIFS('Registo de lembretes'!$A$5:$A$204,"<>",'Registo de lembretes'!$N$5:$N$204,"")
A23: Taxa de faltas
A24: Visitas previstas (Compareceu + Falta) | B24: =B16+B17
A25: Taxa de faltas (Falta ÷ visitas previstas) | B25: =IF(B24=0,"",B17/B24)
A26: Taxa de cancelamento tardio (÷ visitas previstas + cancelamentos tardios) | B26: =IF(B24+B18=0,"",B18/(B24+B18))
A28: Taxa de faltas por resposta ao lembrete
A29: Resposta | B29: Visitas previstas | C29: Faltas | D29: Taxa de faltas
A30: C | B30: =COUNTIFS('Registo de lembretes'!$M$5:$M$204,A30,'Registo de lembretes'!$N$5:$N$204,"Compareceu")+COUNTIFS('Registo de lembretes'!$M$5:$M$204,A30,'Registo de lembretes'!$N$5:$N$204,"Falta") | C30: =COUNTIFS('Registo de lembretes'!$M$5:$M$204,A30,'Registo de lembretes'!$N$5:$N$204,"Falta") | D30: =IF(B30=0,"",C30/B30)
A31: R | B31: =COUNTIFS('Registo de lembretes'!$M$5:$M$204,A31,'Registo de lembretes'!$N$5:$N$204,"Compareceu")+COUNTIFS('Registo de lembretes'!$M$5:$M$204,A31,'Registo de lembretes'!$N$5:$N$204,"Falta") | C31: =COUNTIFS('Registo de lembretes'!$M$5:$M$204,A31,'Registo de lembretes'!$N$5:$N$204,"Falta") | D31: =IF(B31=0,"",C31/B31)
A32: STOP | B32: =COUNTIFS('Registo de lembretes'!$M$5:$M$204,A32,'Registo de lembretes'!$N$5:$N$204,"Compareceu")+COUNTIFS('Registo de lembretes'!$M$5:$M$204,A32,'Registo de lembretes'!$N$5:$N$204,"Falta") | C32: =COUNTIFS('Registo de lembretes'!$M$5:$M$204,A32,'Registo de lembretes'!$N$5:$N$204,"Falta") | D32: =IF(B32=0,"",C32/B32)
A33: Outra | B33: =COUNTIFS('Registo de lembretes'!$M$5:$M$204,A33,'Registo de lembretes'!$N$5:$N$204,"Compareceu")+COUNTIFS('Registo de lembretes'!$M$5:$M$204,A33,'Registo de lembretes'!$N$5:$N$204,"Falta") | C33: =COUNTIFS('Registo de lembretes'!$M$5:$M$204,A33,'Registo de lembretes'!$N$5:$N$204,"Falta") | D33: =IF(B33=0,"",C33/B33)
A34: Sem resposta | B34: =COUNTIFS('Registo de lembretes'!$K$5:$K$204,">0",'Registo de lembretes'!$M$5:$M$204,"",'Registo de lembretes'!$N$5:$N$204,"Compareceu")+COUNTIFS('Registo de lembretes'!$K$5:$K$204,">0",'Registo de lembretes'!$M$5:$M$204,"",'Registo de lembretes'!$N$5:$N$204,"Falta") | C34: =COUNTIFS('Registo de lembretes'!$K$5:$K$204,">0",'Registo de lembretes'!$M$5:$M$204,"",'Registo de lembretes'!$N$5:$N$204,"Falta") | D34: =IF(B34=0,"",C34/B34)
A36: Antes e depois dos lembretes
A37: Visitas previstas nas 4 semanas antes dos lembretes (introduza) | B37: 48
A38: Faltas nessas 4 semanas (introduza) | B38: 6
A39: Taxa de faltas antes | B39: =IF(B37=0,"",B38/B37)
A40: Taxa de faltas agora | B40: =B25
A41: Variação em pontos percentuais | B41: =IF(OR(B39="",B40=""),"",(B40-B39)*100)
A43: Trabalho em aberto
A44: Estado | B44: Marcações
A45: Sem resposta: ligar uma vez | B45: =COUNTIF('Registo de lembretes'!$O$5:$O$204,A45)
A46: Remarcar | B46: =COUNTIF('Registo de lembretes'!$O$5:$O$204,A46)
A47: Ler e responder | B47: =COUNTIF('Registo de lembretes'!$O$5:$O$204,A47)
A48: Registar o desfecho | B48: =COUNTIF('Registo de lembretes'!$O$5:$O$204,A48)
A49: À espera de resposta | B49: =COUNTIF('Registo de lembretes'!$O$5:$O$204,A49)
A50: Agendado | B50: =COUNTIF('Registo de lembretes'!$O$5:$O$204,A50)
A52: Avalie a mudança após 4 semanas ou mais: com 10 visitas, uma falta muda a taxa em 10 pontos.
A53: Modelo grátis da CRMsoftware.pro. Dados de exemplo fictícios.

Sheet Verificação de SMS
A1: Verificação de SMS: caracteres e segmentos | H1: @£$¥èéùìòÇ Øø ÅåΔ_ΦΓΛΩΠΨΣΘΞÆæßÉ !"#¤%&'()*+,-./0123456789:;<=>?¡ABCDEFGHIJKLMNOPQRSTUVWXYZÄÖÑÜ§¿abcdefghijklmnopqrstuvwxyzäöñüà^{}\[~]|€
A2: Cole um SMS depois de preencher os parênteses retos. Um segmento leva 160 caracteres em GSM-7 (letras latinas simples, algarismos, pontuação básica, e também é e à) ou 70 em UCS-2 (qualquer emoji, aspa curva, outro alfabeto ou letras como ã, ç, á, í, ó, ú ou ê). Os textos mais longos dividem-se em partes de 153 ou 67. Os caracteres € [ ] { } ^ ~ | \ contam a dobrar em GSM-7. | H2: ^{}\[~]|€
A4: Mensagem | B4: SMS | C4: Caracteres | D4: Codificação | E4: Segmentos | F4: Verificação
A5: Confirmação da marcação | B5: Larchmont Physio: Tessa, tem hora marcada com o Callum para qui. 8 out. às 17:30, 240 Linden Lane. Para alterar, ligue 614-555-0136. Responda STOP para sair. | C5: =IF($B5="","",IF($D5="GSM-7",LEN($B5)+SUMPRODUCT(--ISNUMBER(FIND(MID($B5,ROW(INDIRECT("1:"&LEN($B5))),1),$H$2))),LEN($B5))) | D5: =IF($B5="","",IF(SUMPRODUCT(--ISERROR(FIND(MID($B5,ROW(INDIRECT("1:"&LEN($B5))),1),$H$1)))=0,"GSM-7","UCS-2")) | E5: =IF($B5="","",IF($D5="GSM-7",IF($C5<='Definições'!$B$11,1,ROUNDUP($C5/'Definições'!$B$12,0)),IF($C5<='Definições'!$B$13,1,ROUNDUP($C5/'Definições'!$B$14,0)))) | F5: =IF($B5="","",IF($E5=1,"1 segmento: OK","Encurtar para 1 segmento"))
A6: Lembrete de 48 horas | B6: Larchmont Physio: Tessa, lembrete: hora marcada com o Callum, qui. 8 out. às 17:30. Responda C para confirmar ou R para remarcar. Responda STOP para sair. | C6: =IF($B6="","",IF($D6="GSM-7",LEN($B6)+SUMPRODUCT(--ISNUMBER(FIND(MID($B6,ROW(INDIRECT("1:"&LEN($B6))),1),$H$2))),LEN($B6))) | D6: =IF($B6="","",IF(SUMPRODUCT(--ISERROR(FIND(MID($B6,ROW(INDIRECT("1:"&LEN($B6))),1),$H$1)))=0,"GSM-7","UCS-2")) | E6: =IF($B6="","",IF($D6="GSM-7",IF($C6<='Definições'!$B$11,1,ROUNDUP($C6/'Definições'!$B$12,0)),IF($C6<='Definições'!$B$13,1,ROUNDUP($C6/'Definições'!$B$14,0)))) | F6: =IF($B6="","",IF($E6=1,"1 segmento: OK","Encurtar para 1 segmento"))
A7: Resposta a R | B7: Obrigada por avisar cedo, Tessa. O Callum tem vaga na sex. 9 out. às 8:00 ou às 12:30. Qual prefere? | C7: =IF($B7="","",IF($D7="GSM-7",LEN($B7)+SUMPRODUCT(--ISNUMBER(FIND(MID($B7,ROW(INDIRECT("1:"&LEN($B7))),1),$H$2))),LEN($B7))) | D7: =IF($B7="","",IF(SUMPRODUCT(--ISERROR(FIND(MID($B7,ROW(INDIRECT("1:"&LEN($B7))),1),$H$1)))=0,"GSM-7","UCS-2")) | E7: =IF($B7="","",IF($D7="GSM-7",IF($C7<='Definições'!$B$11,1,ROUNDUP($C7/'Definições'!$B$12,0)),IF($C7<='Definições'!$B$13,1,ROUNDUP($C7/'Definições'!$B$14,0)))) | F7: =IF($B7="","",IF($E7=1,"1 segmento: OK","Encurtar para 1 segmento"))
A8: Nova hora confirmada | B8: Combinado: sex. 9 out. às 12:30 com o Callum. A vaga de quinta fica livre para outra pessoa. Até sexta! | C8: =IF($B8="","",IF($D8="GSM-7",LEN($B8)+SUMPRODUCT(--ISNUMBER(FIND(MID($B8,ROW(INDIRECT("1:"&LEN($B8))),1),$H$2))),LEN($B8))) | D8: =IF($B8="","",IF(SUMPRODUCT(--ISERROR(FIND(MID($B8,ROW(INDIRECT("1:"&LEN($B8))),1),$H$1)))=0,"GSM-7","UCS-2")) | E8: =IF($B8="","",IF($D8="GSM-7",IF($C8<='Definições'!$B$11,1,ROUNDUP($C8/'Definições'!$B$12,0)),IF($C8<='Definições'!$B$13,1,ROUNDUP($C8/'Definições'!$B$14,0)))) | F8: =IF($B8="","",IF($E8=1,"1 segmento: OK","Encurtar para 1 segmento"))
A9: Lembrete no próprio dia | B9: Larchmont Physio: Até logo às 12:30, Tessa. Estacionamento gratuito nas traseiras do prédio. Se se atrasar ou tiver de faltar, ligue 614-555-0136. | C9: =IF($B9="","",IF($D9="GSM-7",LEN($B9)+SUMPRODUCT(--ISNUMBER(FIND(MID($B9,ROW(INDIRECT("1:"&LEN($B9))),1),$H$2))),LEN($B9))) | D9: =IF($B9="","",IF(SUMPRODUCT(--ISERROR(FIND(MID($B9,ROW(INDIRECT("1:"&LEN($B9))),1),$H$1)))=0,"GSM-7","UCS-2")) | E9: =IF($B9="","",IF($D9="GSM-7",IF($C9<='Definições'!$B$11,1,ROUNDUP($C9/'Definições'!$B$12,0)),IF($C9<='Definições'!$B$13,1,ROUNDUP($C9/'Definições'!$B$14,0)))) | F9: =IF($B9="","",IF($E9=1,"1 segmento: OK","Encurtar para 1 segmento"))
A10: SMS após falta | B10: Larchmont Physio: Joel, tinha hora marcada hoje às 11:00 e liguei-lhe às 11:15. Espero que esteja bem. Faltas: taxa de 40 $. Remarcar: 614-555-0136, Maren. | C10: =IF($B10="","",IF($D10="GSM-7",LEN($B10)+SUMPRODUCT(--ISNUMBER(FIND(MID($B10,ROW(INDIRECT("1:"&LEN($B10))),1),$H$2))),LEN($B10))) | D10: =IF($B10="","",IF(SUMPRODUCT(--ISERROR(FIND(MID($B10,ROW(INDIRECT("1:"&LEN($B10))),1),$H$1)))=0,"GSM-7","UCS-2")) | E10: =IF($B10="","",IF($D10="GSM-7",IF($C10<='Definições'!$B$11,1,ROUNDUP($C10/'Definições'!$B$12,0)),IF($C10<='Definições'!$B$13,1,ROUNDUP($C10/'Definições'!$B$14,0)))) | F10: =IF($B10="","",IF($E10=1,"1 segmento: OK","Encurtar para 1 segmento"))
A11: Confirmação de STOP | B11: Larchmont Physio: Pedido recebido, deixa de receber os nossos SMS. Alguma pergunta? Ligue 614-555-0136. | C11: =IF($B11="","",IF($D11="GSM-7",LEN($B11)+SUMPRODUCT(--ISNUMBER(FIND(MID($B11,ROW(INDIRECT("1:"&LEN($B11))),1),$H$2))),LEN($B11))) | D11: =IF($B11="","",IF(SUMPRODUCT(--ISERROR(FIND(MID($B11,ROW(INDIRECT("1:"&LEN($B11))),1),$H$1)))=0,"GSM-7","UCS-2")) | E11: =IF($B11="","",IF($D11="GSM-7",IF($C11<='Definições'!$B$11,1,ROUNDUP($C11/'Definições'!$B$12,0)),IF($C11<='Definições'!$B$13,1,ROUNDUP($C11/'Definições'!$B$14,0)))) | F11: =IF($B11="","",IF($E11=1,"1 segmento: OK","Encurtar para 1 segmento"))
C12: =IF($B12="","",IF($D12="GSM-7",LEN($B12)+SUMPRODUCT(--ISNUMBER(FIND(MID($B12,ROW(INDIRECT("1:"&LEN($B12))),1),$H$2))),LEN($B12))) | D12: =IF($B12="","",IF(SUMPRODUCT(--ISERROR(FIND(MID($B12,ROW(INDIRECT("1:"&LEN($B12))),1),$H$1)))=0,"GSM-7","UCS-2")) | E12: =IF($B12="","",IF($D12="GSM-7",IF($C12<='Definições'!$B$11,1,ROUNDUP($C12/'Definições'!$B$12,0)),IF($C12<='Definições'!$B$13,1,ROUNDUP($C12/'Definições'!$B$14,0)))) | F12: =IF($B12="","",IF($E12=1,"1 segmento: OK","Encurtar para 1 segmento"))
C13: =IF($B13="","",IF($D13="GSM-7",LEN($B13)+SUMPRODUCT(--ISNUMBER(FIND(MID($B13,ROW(INDIRECT("1:"&LEN($B13))),1),$H$2))),LEN($B13))) | D13: =IF($B13="","",IF(SUMPRODUCT(--ISERROR(FIND(MID($B13,ROW(INDIRECT("1:"&LEN($B13))),1),$H$1)))=0,"GSM-7","UCS-2")) | E13: =IF($B13="","",IF($D13="GSM-7",IF($C13<='Definições'!$B$11,1,ROUNDUP($C13/'Definições'!$B$12,0)),IF($C13<='Definições'!$B$13,1,ROUNDUP($C13/'Definições'!$B$14,0)))) | F13: =IF($B13="","",IF($E13=1,"1 segmento: OK","Encurtar para 1 segmento"))
C14: =IF($B14="","",IF($D14="GSM-7",LEN($B14)+SUMPRODUCT(--ISNUMBER(FIND(MID($B14,ROW(INDIRECT("1:"&LEN($B14))),1),$H$2))),LEN($B14))) | D14: =IF($B14="","",IF(SUMPRODUCT(--ISERROR(FIND(MID($B14,ROW(INDIRECT("1:"&LEN($B14))),1),$H$1)))=0,"GSM-7","UCS-2")) | E14: =IF($B14="","",IF($D14="GSM-7",IF($C14<='Definições'!$B$11,1,ROUNDUP($C14/'Definições'!$B$12,0)),IF($C14<='Definições'!$B$13,1,ROUNDUP($C14/'Definições'!$B$14,0)))) | F14: =IF($B14="","",IF($E14=1,"1 segmento: OK","Encurtar para 1 segmento"))
C15: =IF($B15="","",IF($D15="GSM-7",LEN($B15)+SUMPRODUCT(--ISNUMBER(FIND(MID($B15,ROW(INDIRECT("1:"&LEN($B15))),1),$H$2))),LEN($B15))) | D15: =IF($B15="","",IF(SUMPRODUCT(--ISERROR(FIND(MID($B15,ROW(INDIRECT("1:"&LEN($B15))),1),$H$1)))=0,"GSM-7","UCS-2")) | E15: =IF($B15="","",IF($D15="GSM-7",IF($C15<='Definições'!$B$11,1,ROUNDUP($C15/'Definições'!$B$12,0)),IF($C15<='Definições'!$B$13,1,ROUNDUP($C15/'Definições'!$B$14,0)))) | F15: =IF($B15="","",IF($E15=1,"1 segmento: OK","Encurtar para 1 segmento"))
C16: =IF($B16="","",IF($D16="GSM-7",LEN($B16)+SUMPRODUCT(--ISNUMBER(FIND(MID($B16,ROW(INDIRECT("1:"&LEN($B16))),1),$H$2))),LEN($B16))) | D16: =IF($B16="","",IF(SUMPRODUCT(--ISERROR(FIND(MID($B16,ROW(INDIRECT("1:"&LEN($B16))),1),$H$1)))=0,"GSM-7","UCS-2")) | E16: =IF($B16="","",IF($D16="GSM-7",IF($C16<='Definições'!$B$11,1,ROUNDUP($C16/'Definições'!$B$12,0)),IF($C16<='Definições'!$B$13,1,ROUNDUP($C16/'Definições'!$B$14,0)))) | F16: =IF($B16="","",IF($E16=1,"1 segmento: OK","Encurtar para 1 segmento"))
C17: =IF($B17="","",IF($D17="GSM-7",LEN($B17)+SUMPRODUCT(--ISNUMBER(FIND(MID($B17,ROW(INDIRECT("1:"&LEN($B17))),1),$H$2))),LEN($B17))) | D17: =IF($B17="","",IF(SUMPRODUCT(--ISERROR(FIND(MID($B17,ROW(INDIRECT("1:"&LEN($B17))),1),$H$1)))=0,"GSM-7","UCS-2")) | E17: =IF($B17="","",IF($D17="GSM-7",IF($C17<='Definições'!$B$11,1,ROUNDUP($C17/'Definições'!$B$12,0)),IF($C17<='Definições'!$B$13,1,ROUNDUP($C17/'Definições'!$B$14,0)))) | F17: =IF($B17="","",IF($E17=1,"1 segmento: OK","Encurtar para 1 segmento"))
C18: =IF($B18="","",IF($D18="GSM-7",LEN($B18)+SUMPRODUCT(--ISNUMBER(FIND(MID($B18,ROW(INDIRECT("1:"&LEN($B18))),1),$H$2))),LEN($B18))) | D18: =IF($B18="","",IF(SUMPRODUCT(--ISERROR(FIND(MID($B18,ROW(INDIRECT("1:"&LEN($B18))),1),$H$1)))=0,"GSM-7","UCS-2")) | E18: =IF($B18="","",IF($D18="GSM-7",IF($C18<='Definições'!$B$11,1,ROUNDUP($C18/'Definições'!$B$12,0)),IF($C18<='Definições'!$B$13,1,ROUNDUP($C18/'Definições'!$B$14,0)))) | F18: =IF($B18="","",IF($E18=1,"1 segmento: OK","Encurtar para 1 segmento"))
C19: =IF($B19="","",IF($D19="GSM-7",LEN($B19)+SUMPRODUCT(--ISNUMBER(FIND(MID($B19,ROW(INDIRECT("1:"&LEN($B19))),1),$H$2))),LEN($B19))) | D19: =IF($B19="","",IF(SUMPRODUCT(--ISERROR(FIND(MID($B19,ROW(INDIRECT("1:"&LEN($B19))),1),$H$1)))=0,"GSM-7","UCS-2")) | E19: =IF($B19="","",IF($D19="GSM-7",IF($C19<='Definições'!$B$11,1,ROUNDUP($C19/'Definições'!$B$12,0)),IF($C19<='Definições'!$B$13,1,ROUNDUP($C19/'Definições'!$B$14,0)))) | F19: =IF($B19="","",IF($E19=1,"1 segmento: OK","Encurtar para 1 segmento"))
C20: =IF($B20="","",IF($D20="GSM-7",LEN($B20)+SUMPRODUCT(--ISNUMBER(FIND(MID($B20,ROW(INDIRECT("1:"&LEN($B20))),1),$H$2))),LEN($B20))) | D20: =IF($B20="","",IF(SUMPRODUCT(--ISERROR(FIND(MID($B20,ROW(INDIRECT("1:"&LEN($B20))),1),$H$1)))=0,"GSM-7","UCS-2")) | E20: =IF($B20="","",IF($D20="GSM-7",IF($C20<='Definições'!$B$11,1,ROUNDUP($C20/'Definições'!$B$12,0)),IF($C20<='Definições'!$B$13,1,ROUNDUP($C20/'Definições'!$B$14,0)))) | F20: =IF($B20="","",IF($E20=1,"1 segmento: OK","Encurtar para 1 segmento"))
C21: =IF($B21="","",IF($D21="GSM-7",LEN($B21)+SUMPRODUCT(--ISNUMBER(FIND(MID($B21,ROW(INDIRECT("1:"&LEN($B21))),1),$H$2))),LEN($B21))) | D21: =IF($B21="","",IF(SUMPRODUCT(--ISERROR(FIND(MID($B21,ROW(INDIRECT("1:"&LEN($B21))),1),$H$1)))=0,"GSM-7","UCS-2")) | E21: =IF($B21="","",IF($D21="GSM-7",IF($C21<='Definições'!$B$11,1,ROUNDUP($C21/'Definições'!$B$12,0)),IF($C21<='Definições'!$B$13,1,ROUNDUP($C21/'Definições'!$B$14,0)))) | F21: =IF($B21="","",IF($E21=1,"1 segmento: OK","Encurtar para 1 segmento"))
C22: =IF($B22="","",IF($D22="GSM-7",LEN($B22)+SUMPRODUCT(--ISNUMBER(FIND(MID($B22,ROW(INDIRECT("1:"&LEN($B22))),1),$H$2))),LEN($B22))) | D22: =IF($B22="","",IF(SUMPRODUCT(--ISERROR(FIND(MID($B22,ROW(INDIRECT("1:"&LEN($B22))),1),$H$1)))=0,"GSM-7","UCS-2")) | E22: =IF($B22="","",IF($D22="GSM-7",IF($C22<='Definições'!$B$11,1,ROUNDUP($C22/'Definições'!$B$12,0)),IF($C22<='Definições'!$B$13,1,ROUNDUP($C22/'Definições'!$B$14,0)))) | F22: =IF($B22="","",IF($E22=1,"1 segmento: OK","Encurtar para 1 segmento"))
C23: =IF($B23="","",IF($D23="GSM-7",LEN($B23)+SUMPRODUCT(--ISNUMBER(FIND(MID($B23,ROW(INDIRECT("1:"&LEN($B23))),1),$H$2))),LEN($B23))) | D23: =IF($B23="","",IF(SUMPRODUCT(--ISERROR(FIND(MID($B23,ROW(INDIRECT("1:"&LEN($B23))),1),$H$1)))=0,"GSM-7","UCS-2")) | E23: =IF($B23="","",IF($D23="GSM-7",IF($C23<='Definições'!$B$11,1,ROUNDUP($C23/'Definições'!$B$12,0)),IF($C23<='Definições'!$B$13,1,ROUNDUP($C23/'Definições'!$B$14,0)))) | F23: =IF($B23="","",IF($E23=1,"1 segmento: OK","Encurtar para 1 segmento"))
... C40: =IF($B40="","",IF($D40="GSM-7",LEN($B40)+SUMPRODUCT(--ISNUMBER(FIND(MID($B40,ROW(INDIRECT("1:"&LEN($B40))),1),$H$2))),LEN($B40))) | D40: =IF($B40="","",IF(SUMPRODUCT(--ISERROR(FIND(MID($B40,ROW(INDIRECT("1:"&LEN($B40))),1),$H$1)))=0,"GSM-7","UCS-2")) | E40: =IF($B40="","",IF($D40="GSM-7",IF($C40<='Definições'!$B$11,1,ROUNDUP($C40/'Definições'!$B$12,0)),IF($C40<='Definições'!$B$13,1,ROUNDUP($C40/'Definições'!$B$14,0)))) | F40: =IF($B40="","",IF($E40=1,"1 segmento: OK","Encurtar para 1 segmento"))

Sheet Definições
A1: Definições
A2: Altere os números para se adequarem ao seu negócio. Todas as horas de envio do Registo de lembretes usam estes valores.
A4: Definição | B4: Valor
A5: Lembrete: horas antes da visita | B5: 48
A6: Não enviar o lembrete se marcado com menos destas horas de antecedência | B6: 72
A7: Lembrete no próprio dia: horas antes da visita | B7: 2
A8: Lembrete no próprio dia se marcado com estes dias de antecedência ou mais | B8: 14
A9: Primeira hora de envio | B9: 0.33333333
A10: Última hora de envio | B10: 0.83333333
A11: Um segmento, GSM-7: caracteres | B11: 160
A12: Cada parte de um texto GSM-7 mais longo: caracteres | B12: 153
A13: Um segmento, UCS-2: caracteres | B13: 70
A14: Cada parte de um texto UCS-2 mais longo: caracteres | B14: 67
A16: Uma hora no próprio dia antes da primeira hora de envio passa para a última hora de envio da véspera. As outras horas de envio passam para dentro do horário de envio, no mesmo dia.
A19: Listas pendentes
A20: Responsáveis e profissionais | B20: Serviços
A21: Maren | B21: Avaliação inicial
A22: Callum | B22: Consulta de seguimento
A23: Ingrid | B23: Seguimento por vídeo
