Workbook

Sheet 升级聊天
A1: 升级聊天记录表
A2: 每个情绪激动的聊天记一行。渠道、原因、严重程度、提供的方案和结果从列表中选择。“记录完整”和“状态”会自动填写。
A3: 只有客户确认了解决办法或下一步、承诺的跟进已完成且这一行已完整时，才显示“已关闭”。
A4: 日期 | B4: 客户 | C4: 渠道 | D4: 原因 | E4: 严重程度 | F4: 负责人 | G4: 首次回复（分钟） | H4: 已转交 | I4: 提供的方案 | J4: 金额（$） | K4: 审批人 | L4: 跟进截止 | M4: 跟进完成 | N4: 客户已确认 | O4: 结果 | P4: 满意度（1-5） | Q4: 记录完整 | R4: 状态 | S4: 备注
A5: 46294 | B5: Aisha Bello | C5: WhatsApp | D5: 产品故障或损坏 | E5: 中 | F5: Owen Hart | G5: 6 | H5: 否 | I5: 解决办法 | L5: 46297.5 | M5: 46297.427 | N5: 是 | O5: 已解决 | P5: 5 | Q5: =IF($A5="","",IF(AND(COUNTA($B5:$I5)=8,$O5<>"",OR(AND($I5<>"抵扣",$I5<>"退款"),$J5<>""),OR(N($J5)<='列表'!$I$5,$K5<>"")),"是","否")) | R5: =IF($A5="","",IF(AND($L5<>"",$M5="",$L5<NOW()),"跟进逾期",IF(AND($Q5="是",$N5="是",OR($L5="",$M5<>"")),"已关闭","处理中"))) | S5: 桌面有划痕；新桌面已于 10 月 2 日送达
A6: 46295 | B6: Tom Becker | C6: 网站聊天 | D6: 账单或扣款 | E6: 高 | F6: Owen Hart | G6: 2 | H6: 是 | I6: 退款 | J6: 250 | K6: Hannah Price | L6: 46296.708 | M6: 46296.694 | N6: 是 | O6: 已解决 | P6: 4 | Q6: =IF($A6="","",IF(AND(COUNTA($B6:$I6)=8,$O6<>"",OR(AND($I6<>"抵扣",$I6<>"退款"),$J6<>""),OR(N($J6)<='列表'!$I$5,$K6<>"")),"是","否")) | R6: =IF($A6="","",IF(AND($L6<>"",$M6="",$L6<NOW()),"跟进逾期",IF(AND($Q6="是",$N6="是",OR($L6="",$M6<>"")),"已关闭","处理中"))) | S6: 定金被扣了两次；第二笔已退款
A7: 46296 | B7: Lucia Ferraro | C7: Instagram | D7: 等待太久或无人回复 | E7: 低 | F7: Mia Chen | G7: 4 | H7: 否 | I7: 道歉 | N7: 否 | Q7: =IF($A7="","",IF(AND(COUNTA($B7:$I7)=8,$O7<>"",OR(AND($I7<>"抵扣",$I7<>"退款"),$J7<>""),OR(N($J7)<='列表'!$I$5,$K7<>"")),"是","否")) | R7: =IF($A7="","",IF(AND($L7<>"",$M7="",$L7<NOW()),"跟进逾期",IF(AND($Q7="是",$N7="是",OR($L7="",$M7<>"")),"已关闭","处理中"))) | S7: 她的 Instagram 消息 2 天无人回复；道歉后客户没有再回复
A8: 46297 | B8: Kevin Doyle | C8: 网站聊天 | D8: 员工态度 | E8: 中 | F8: Owen Hart | G8: 5 | H8: 是 | I8: 经理致电 | K8: Hannah Price | L8: 46300.5 | N8: 否 | Q8: =IF($A8="","",IF(AND(COUNTA($B8:$I8)=8,$O8<>"",OR(AND($I8<>"抵扣",$I8<>"退款"),$J8<>""),OR(N($J8)<='列表'!$I$5,$K8<>"")),"是","否")) | R8: =IF($A8="","",IF(AND($L8<>"",$M8="",$L8<NOW()),"跟进逾期",IF(AND($Q8="是",$N8="是",OR($L8="",$M8<>"")),"已关闭","处理中"))) | S8: 客户说司机态度粗鲁；Hannah 与司机沟通后给客户打电话
A9: 46298 | B9: Grace Mendel | C9: 网站聊天 | D9: 配送延误或未送达 | E9: 高 | F9: Owen Hart | G9: 2 | H9: 是 | I9: 退款 | J9: 1240 | K9: Hannah Price | L9: 46300.5 | M9: 46300.396 | N9: 是 | O9: 已流失 | P9: 2 | Q9: =IF($A9="","",IF(AND(COUNTA($B9:$I9)=8,$O9<>"",OR(AND($I9<>"抵扣",$I9<>"退款"),$J9<>""),OR(N($J9)<='列表'!$I$5,$K9<>"")),"是","否")) | R9: =IF($A9="","",IF(AND($L9<>"",$M9="",$L9<NOW()),"跟进逾期",IF(AND($Q9="是",$N9="是",OR($L9="",$M9<>"")),"已关闭","处理中"))) | S9: 缺货待补的床第三次延期；订单已取消并全额退款
A10: 46300 | B10: Teresa Molina | C10: 网站聊天 | D10: 配送延误或未送达 | E10: 高 | F10: Owen Hart | G10: 3 | H10: 是 | I10: 退款 | J10: 79 | K10: Owen Hart，在权限内 | L10: 46301.312 | M10: 46301.308 | N10: 是 | O10: 已解决 | P10: 4 | Q10: =IF($A10="","",IF(AND(COUNTA($B10:$I10)=8,$O10<>"",OR(AND($I10<>"抵扣",$I10<>"退款"),$J10<>""),OR(N($J10)<='列表'!$I$5,$K10<>"")),"是","否")) | R10: =IF($A10="","",IF(AND($L10<>"",$M10="",$L10<NOW()),"跟进逾期",IF(AND($Q10="是",$N10="是",OR($L10="",$M10<>"")),"已关闭","处理中"))) | S10: 订单 OR-58213：错过送货时段，送货车故障；改为 10 月 6 日第一个时段 8:00 到 10:00，8:35 送达
A11: 46301 | B11: Sam Whitley | C11: Messenger | D11: 产品故障或损坏 | E11: 严重 | F11: Hannah Price | G11: 1 | H11: 是 | I11: 经理致电 | K11: Hannah Price | L11: 46302.5 | M11: 46302.417 | N11: 是 | O11: 已解决 | P11: 4 | Q11: =IF($A11="","",IF(AND(COUNTA($B11:$I11)=8,$O11<>"",OR(AND($I11<>"抵扣",$I11<>"退款"),$J11<>""),OR(N($J11)<='列表'!$I$5,$K11<>"")),"是","否")) | R11: =IF($A11="","",IF(AND($L11<>"",$M11="",$L11<NOW()),"跟进逾期",IF(AND($Q11="是",$N11="是",OR($L11="",$M11<>"")),"已关闭","处理中"))) | S11: 安全问题：躺椅夹到手指，未受伤；技术人员已于 10 月 7 日修好
A12: 46302 | B12: 访客，仅有邮箱 | C12: 网站聊天 | D12: 其他 | E12: 严重 | F12: Mia Chen | G12: 1 | H12: 是 | I12: 无 | L12: 46302.708 | M12: 46302.681 | N12: 否 | O12: 未解决 | Q12: =IF($A12="","",IF(AND(COUNTA($B12:$I12)=8,$O12<>"",OR(AND($I12<>"抵扣",$I12<>"退款"),$J12<>""),OR(N($J12)<='列表'!$I$5,$K12<>"")),"是","否")) | R12: =IF($A12="","",IF(AND($L12<>"",$M12="",$L12<NOW()),"跟进逾期",IF(AND($Q12="是",$N12="是",OR($L12="",$M12<>"")),"已关闭","处理中"))) | S12: 底线提醒后结束聊天；原话已记入备注；已告知 Hannah；邮件已发送
Q13: =IF($A13="","",IF(AND(COUNTA($B13:$I13)=8,$O13<>"",OR(AND($I13<>"抵扣",$I13<>"退款"),$J13<>""),OR(N($J13)<='列表'!$I$5,$K13<>"")),"是","否")) | R13: =IF($A13="","",IF(AND($L13<>"",$M13="",$L13<NOW()),"跟进逾期",IF(AND($Q13="是",$N13="是",OR($L13="",$M13<>"")),"已关闭","处理中")))
Q14: =IF($A14="","",IF(AND(COUNTA($B14:$I14)=8,$O14<>"",OR(AND($I14<>"抵扣",$I14<>"退款"),$J14<>""),OR(N($J14)<='列表'!$I$5,$K14<>"")),"是","否")) | R14: =IF($A14="","",IF(AND($L14<>"",$M14="",$L14<NOW()),"跟进逾期",IF(AND($Q14="是",$N14="是",OR($L14="",$M14<>"")),"已关闭","处理中")))
Q15: =IF($A15="","",IF(AND(COUNTA($B15:$I15)=8,$O15<>"",OR(AND($I15<>"抵扣",$I15<>"退款"),$J15<>""),OR(N($J15)<='列表'!$I$5,$K15<>"")),"是","否")) | R15: =IF($A15="","",IF(AND($L15<>"",$M15="",$L15<NOW()),"跟进逾期",IF(AND($Q15="是",$N15="是",OR($L15="",$M15<>"")),"已关闭","处理中")))
Q16: =IF($A16="","",IF(AND(COUNTA($B16:$I16)=8,$O16<>"",OR(AND($I16<>"抵扣",$I16<>"退款"),$J16<>""),OR(N($J16)<='列表'!$I$5,$K16<>"")),"是","否")) | R16: =IF($A16="","",IF(AND($L16<>"",$M16="",$L16<NOW()),"跟进逾期",IF(AND($Q16="是",$N16="是",OR($L16="",$M16<>"")),"已关闭","处理中")))
Q17: =IF($A17="","",IF(AND(COUNTA($B17:$I17)=8,$O17<>"",OR(AND($I17<>"抵扣",$I17<>"退款"),$J17<>""),OR(N($J17)<='列表'!$I$5,$K17<>"")),"是","否")) | R17: =IF($A17="","",IF(AND($L17<>"",$M17="",$L17<NOW()),"跟进逾期",IF(AND($Q17="是",$N17="是",OR($L17="",$M17<>"")),"已关闭","处理中")))
Q18: =IF($A18="","",IF(AND(COUNTA($B18:$I18)=8,$O18<>"",OR(AND($I18<>"抵扣",$I18<>"退款"),$J18<>""),OR(N($J18)<='列表'!$I$5,$K18<>"")),"是","否")) | R18: =IF($A18="","",IF(AND($L18<>"",$M18="",$L18<NOW()),"跟进逾期",IF(AND($Q18="是",$N18="是",OR($L18="",$M18<>"")),"已关闭","处理中")))
Q19: =IF($A19="","",IF(AND(COUNTA($B19:$I19)=8,$O19<>"",OR(AND($I19<>"抵扣",$I19<>"退款"),$J19<>""),OR(N($J19)<='列表'!$I$5,$K19<>"")),"是","否")) | R19: =IF($A19="","",IF(AND($L19<>"",$M19="",$L19<NOW()),"跟进逾期",IF(AND($Q19="是",$N19="是",OR($L19="",$M19<>"")),"已关闭","处理中")))
Q20: =IF($A20="","",IF(AND(COUNTA($B20:$I20)=8,$O20<>"",OR(AND($I20<>"抵扣",$I20<>"退款"),$J20<>""),OR(N($J20)<='列表'!$I$5,$K20<>"")),"是","否")) | R20: =IF($A20="","",IF(AND($L20<>"",$M20="",$L20<NOW()),"跟进逾期",IF(AND($Q20="是",$N20="是",OR($L20="",$M20<>"")),"已关闭","处理中")))
Q21: =IF($A21="","",IF(AND(COUNTA($B21:$I21)=8,$O21<>"",OR(AND($I21<>"抵扣",$I21<>"退款"),$J21<>""),OR(N($J21)<='列表'!$I$5,$K21<>"")),"是","否")) | R21: =IF($A21="","",IF(AND($L21<>"",$M21="",$L21<NOW()),"跟进逾期",IF(AND($Q21="是",$N21="是",OR($L21="",$M21<>"")),"已关闭","处理中")))
Q22: =IF($A22="","",IF(AND(COUNTA($B22:$I22)=8,$O22<>"",OR(AND($I22<>"抵扣",$I22<>"退款"),$J22<>""),OR(N($J22)<='列表'!$I$5,$K22<>"")),"是","否")) | R22: =IF($A22="","",IF(AND($L22<>"",$M22="",$L22<NOW()),"跟进逾期",IF(AND($Q22="是",$N22="是",OR($L22="",$M22<>"")),"已关闭","处理中")))
Q23: =IF($A23="","",IF(AND(COUNTA($B23:$I23)=8,$O23<>"",OR(AND($I23<>"抵扣",$I23<>"退款"),$J23<>""),OR(N($J23)<='列表'!$I$5,$K23<>"")),"是","否")) | R23: =IF($A23="","",IF(AND($L23<>"",$M23="",$L23<NOW()),"跟进逾期",IF(AND($Q23="是",$N23="是",OR($L23="",$M23<>"")),"已关闭","处理中")))
Q24: =IF($A24="","",IF(AND(COUNTA($B24:$I24)=8,$O24<>"",OR(AND($I24<>"抵扣",$I24<>"退款"),$J24<>""),OR(N($J24)<='列表'!$I$5,$K24<>"")),"是","否")) | R24: =IF($A24="","",IF(AND($L24<>"",$M24="",$L24<NOW()),"跟进逾期",IF(AND($Q24="是",$N24="是",OR($L24="",$M24<>"")),"已关闭","处理中")))
... Q204: =IF($A204="","",IF(AND(COUNTA($B204:$I204)=8,$O204<>"",OR(AND($I204<>"抵扣",$I204<>"退款"),$J204<>""),OR(N($J204)<='列表'!$I$5,$K204<>"")),"是","否")) | R204: =IF($A204="","",IF(AND($L204<>"",$M204="",$L204<NOW()),"跟进逾期",IF(AND($Q204="是",$N204="是",OR($L204="",$M204<>"")),"已关闭","处理中")))

Sheet 汇总
A1: 汇总
A2: 在记录表中添加行后，计数会自动更新。
A4: 指标 | B4: 值
A5: 已记录的情绪激动聊天 | B5: =COUNT('升级聊天'!$A$5:$A$204)
A6: 已关闭 | B6: =COUNTIF('升级聊天'!$R$5:$R$204,"已关闭")
A7: 处理中 | B7: =COUNTIF('升级聊天'!$R$5:$R$204,"处理中")
A8: 跟进逾期 | B8: =COUNTIF('升级聊天'!$R$5:$R$204,"跟进逾期")
A9: 转交比例 | B9: =IF(B5=0,"",COUNTIF('升级聊天'!$H$5:$H$204,"是")/B5)
A10: 平均首次回复（分钟） | B10: =IF(COUNT('升级聊天'!$G$5:$G$204)=0,"",AVERAGE('升级聊天'!$G$5:$G$204))
A11: 平均满意度（1-5） | B11: =IF(COUNT('升级聊天'!$P$5:$P$204)=0,"",AVERAGE('升级聊天'!$P$5:$P$204))
A12: 抵扣和退款（$） | B12: =SUMIF('升级聊天'!$I$5:$I$204,"抵扣",'升级聊天'!$J$5:$J$204)+SUMIF('升级聊天'!$I$5:$I$204,"退款",'升级聊天'!$J$5:$J$204)
A13: 超出客服权限上限且无审批人 | B13: =SUMPRODUCT(('升级聊天'!$J$5:$J$204>'列表'!$I$5)*('升级聊天'!$K$5:$K$204=""))
A14: 流失的客户 | B14: =COUNTIF('升级聊天'!$O$5:$O$204,"已流失")
A16: 按原因和严重程度
A17: 原因 | B17: 聊天数 | C17: 低 | D17: 中 | E17: 高 | F17: 严重 | G17: 已转交 | H17: 平均满意度
A18: 配送延误或未送达 | B18: =COUNTIF('升级聊天'!$D$5:$D$204,$A18) | C18: =COUNTIFS('升级聊天'!$D$5:$D$204,$A18,'升级聊天'!$E$5:$E$204,"低") | D18: =COUNTIFS('升级聊天'!$D$5:$D$204,$A18,'升级聊天'!$E$5:$E$204,"中") | E18: =COUNTIFS('升级聊天'!$D$5:$D$204,$A18,'升级聊天'!$E$5:$E$204,"高") | F18: =COUNTIFS('升级聊天'!$D$5:$D$204,$A18,'升级聊天'!$E$5:$E$204,"严重") | G18: =COUNTIFS('升级聊天'!$D$5:$D$204,$A18,'升级聊天'!$H$5:$H$204,"是") | H18: =IF(COUNTIFS('升级聊天'!$D$5:$D$204,$A18,'升级聊天'!$P$5:$P$204,"<>")=0,"",AVERAGEIF('升级聊天'!$D$5:$D$204,$A18,'升级聊天'!$P$5:$P$204))
A19: 产品故障或损坏 | B19: =COUNTIF('升级聊天'!$D$5:$D$204,$A19) | C19: =COUNTIFS('升级聊天'!$D$5:$D$204,$A19,'升级聊天'!$E$5:$E$204,"低") | D19: =COUNTIFS('升级聊天'!$D$5:$D$204,$A19,'升级聊天'!$E$5:$E$204,"中") | E19: =COUNTIFS('升级聊天'!$D$5:$D$204,$A19,'升级聊天'!$E$5:$E$204,"高") | F19: =COUNTIFS('升级聊天'!$D$5:$D$204,$A19,'升级聊天'!$E$5:$E$204,"严重") | G19: =COUNTIFS('升级聊天'!$D$5:$D$204,$A19,'升级聊天'!$H$5:$H$204,"是") | H19: =IF(COUNTIFS('升级聊天'!$D$5:$D$204,$A19,'升级聊天'!$P$5:$P$204,"<>")=0,"",AVERAGEIF('升级聊天'!$D$5:$D$204,$A19,'升级聊天'!$P$5:$P$204))
A20: 账单或扣款 | B20: =COUNTIF('升级聊天'!$D$5:$D$204,$A20) | C20: =COUNTIFS('升级聊天'!$D$5:$D$204,$A20,'升级聊天'!$E$5:$E$204,"低") | D20: =COUNTIFS('升级聊天'!$D$5:$D$204,$A20,'升级聊天'!$E$5:$E$204,"中") | E20: =COUNTIFS('升级聊天'!$D$5:$D$204,$A20,'升级聊天'!$E$5:$E$204,"高") | F20: =COUNTIFS('升级聊天'!$D$5:$D$204,$A20,'升级聊天'!$E$5:$E$204,"严重") | G20: =COUNTIFS('升级聊天'!$D$5:$D$204,$A20,'升级聊天'!$H$5:$H$204,"是") | H20: =IF(COUNTIFS('升级聊天'!$D$5:$D$204,$A20,'升级聊天'!$P$5:$P$204,"<>")=0,"",AVERAGEIF('升级聊天'!$D$5:$D$204,$A20,'升级聊天'!$P$5:$P$204))
A21: 等待太久或无人回复 | B21: =COUNTIF('升级聊天'!$D$5:$D$204,$A21) | C21: =COUNTIFS('升级聊天'!$D$5:$D$204,$A21,'升级聊天'!$E$5:$E$204,"低") | D21: =COUNTIFS('升级聊天'!$D$5:$D$204,$A21,'升级聊天'!$E$5:$E$204,"中") | E21: =COUNTIFS('升级聊天'!$D$5:$D$204,$A21,'升级聊天'!$E$5:$E$204,"高") | F21: =COUNTIFS('升级聊天'!$D$5:$D$204,$A21,'升级聊天'!$E$5:$E$204,"严重") | G21: =COUNTIFS('升级聊天'!$D$5:$D$204,$A21,'升级聊天'!$H$5:$H$204,"是") | H21: =IF(COUNTIFS('升级聊天'!$D$5:$D$204,$A21,'升级聊天'!$P$5:$P$204,"<>")=0,"",AVERAGEIF('升级聊天'!$D$5:$D$204,$A21,'升级聊天'!$P$5:$P$204))
A22: 员工态度 | B22: =COUNTIF('升级聊天'!$D$5:$D$204,$A22) | C22: =COUNTIFS('升级聊天'!$D$5:$D$204,$A22,'升级聊天'!$E$5:$E$204,"低") | D22: =COUNTIFS('升级聊天'!$D$5:$D$204,$A22,'升级聊天'!$E$5:$E$204,"中") | E22: =COUNTIFS('升级聊天'!$D$5:$D$204,$A22,'升级聊天'!$E$5:$E$204,"高") | F22: =COUNTIFS('升级聊天'!$D$5:$D$204,$A22,'升级聊天'!$E$5:$E$204,"严重") | G22: =COUNTIFS('升级聊天'!$D$5:$D$204,$A22,'升级聊天'!$H$5:$H$204,"是") | H22: =IF(COUNTIFS('升级聊天'!$D$5:$D$204,$A22,'升级聊天'!$P$5:$P$204,"<>")=0,"",AVERAGEIF('升级聊天'!$D$5:$D$204,$A22,'升级聊天'!$P$5:$P$204))
A23: 拒绝退款或退货 | B23: =COUNTIF('升级聊天'!$D$5:$D$204,$A23) | C23: =COUNTIFS('升级聊天'!$D$5:$D$204,$A23,'升级聊天'!$E$5:$E$204,"低") | D23: =COUNTIFS('升级聊天'!$D$5:$D$204,$A23,'升级聊天'!$E$5:$E$204,"中") | E23: =COUNTIFS('升级聊天'!$D$5:$D$204,$A23,'升级聊天'!$E$5:$E$204,"高") | F23: =COUNTIFS('升级聊天'!$D$5:$D$204,$A23,'升级聊天'!$E$5:$E$204,"严重") | G23: =COUNTIFS('升级聊天'!$D$5:$D$204,$A23,'升级聊天'!$H$5:$H$204,"是") | H23: =IF(COUNTIFS('升级聊天'!$D$5:$D$204,$A23,'升级聊天'!$P$5:$P$204,"<>")=0,"",AVERAGEIF('升级聊天'!$D$5:$D$204,$A23,'升级聊天'!$P$5:$P$204))
A24: 其他 | B24: =COUNTIF('升级聊天'!$D$5:$D$204,$A24) | C24: =COUNTIFS('升级聊天'!$D$5:$D$204,$A24,'升级聊天'!$E$5:$E$204,"低") | D24: =COUNTIFS('升级聊天'!$D$5:$D$204,$A24,'升级聊天'!$E$5:$E$204,"中") | E24: =COUNTIFS('升级聊天'!$D$5:$D$204,$A24,'升级聊天'!$E$5:$E$204,"高") | F24: =COUNTIFS('升级聊天'!$D$5:$D$204,$A24,'升级聊天'!$E$5:$E$204,"严重") | G24: =COUNTIFS('升级聊天'!$D$5:$D$204,$A24,'升级聊天'!$H$5:$H$204,"是") | H24: =IF(COUNTIFS('升级聊天'!$D$5:$D$204,$A24,'升级聊天'!$P$5:$P$204,"<>")=0,"",AVERAGEIF('升级聊天'!$D$5:$D$204,$A24,'升级聊天'!$P$5:$P$204))
A26: 按严重程度
A27: 严重程度 | B27: 聊天数 | C27: 已转交 | D27: 平均首次回复（分钟） | E27: 跟进逾期 | F27: 平均满意度
A28: 低 | B28: =COUNTIF('升级聊天'!$E$5:$E$204,$A28) | C28: =COUNTIFS('升级聊天'!$E$5:$E$204,$A28,'升级聊天'!$H$5:$H$204,"是") | D28: =IF(COUNTIFS('升级聊天'!$E$5:$E$204,$A28,'升级聊天'!$G$5:$G$204,"<>")=0,"",AVERAGEIF('升级聊天'!$E$5:$E$204,$A28,'升级聊天'!$G$5:$G$204)) | E28: =COUNTIFS('升级聊天'!$E$5:$E$204,$A28,'升级聊天'!$R$5:$R$204,"跟进逾期") | F28: =IF(COUNTIFS('升级聊天'!$E$5:$E$204,$A28,'升级聊天'!$P$5:$P$204,"<>")=0,"",AVERAGEIF('升级聊天'!$E$5:$E$204,$A28,'升级聊天'!$P$5:$P$204))
A29: 中 | B29: =COUNTIF('升级聊天'!$E$5:$E$204,$A29) | C29: =COUNTIFS('升级聊天'!$E$5:$E$204,$A29,'升级聊天'!$H$5:$H$204,"是") | D29: =IF(COUNTIFS('升级聊天'!$E$5:$E$204,$A29,'升级聊天'!$G$5:$G$204,"<>")=0,"",AVERAGEIF('升级聊天'!$E$5:$E$204,$A29,'升级聊天'!$G$5:$G$204)) | E29: =COUNTIFS('升级聊天'!$E$5:$E$204,$A29,'升级聊天'!$R$5:$R$204,"跟进逾期") | F29: =IF(COUNTIFS('升级聊天'!$E$5:$E$204,$A29,'升级聊天'!$P$5:$P$204,"<>")=0,"",AVERAGEIF('升级聊天'!$E$5:$E$204,$A29,'升级聊天'!$P$5:$P$204))
A30: 高 | B30: =COUNTIF('升级聊天'!$E$5:$E$204,$A30) | C30: =COUNTIFS('升级聊天'!$E$5:$E$204,$A30,'升级聊天'!$H$5:$H$204,"是") | D30: =IF(COUNTIFS('升级聊天'!$E$5:$E$204,$A30,'升级聊天'!$G$5:$G$204,"<>")=0,"",AVERAGEIF('升级聊天'!$E$5:$E$204,$A30,'升级聊天'!$G$5:$G$204)) | E30: =COUNTIFS('升级聊天'!$E$5:$E$204,$A30,'升级聊天'!$R$5:$R$204,"跟进逾期") | F30: =IF(COUNTIFS('升级聊天'!$E$5:$E$204,$A30,'升级聊天'!$P$5:$P$204,"<>")=0,"",AVERAGEIF('升级聊天'!$E$5:$E$204,$A30,'升级聊天'!$P$5:$P$204))
A31: 严重 | B31: =COUNTIF('升级聊天'!$E$5:$E$204,$A31) | C31: =COUNTIFS('升级聊天'!$E$5:$E$204,$A31,'升级聊天'!$H$5:$H$204,"是") | D31: =IF(COUNTIFS('升级聊天'!$E$5:$E$204,$A31,'升级聊天'!$G$5:$G$204,"<>")=0,"",AVERAGEIF('升级聊天'!$E$5:$E$204,$A31,'升级聊天'!$G$5:$G$204)) | E31: =COUNTIFS('升级聊天'!$E$5:$E$204,$A31,'升级聊天'!$R$5:$R$204,"跟进逾期") | F31: =IF(COUNTIFS('升级聊天'!$E$5:$E$204,$A31,'升级聊天'!$P$5:$P$204,"<>")=0,"",AVERAGEIF('升级聊天'!$E$5:$E$204,$A31,'升级聊天'!$P$5:$P$204))
A33: 按提供的方案
A34: 提供的方案 | B34: 聊天数 | C34: 金额（$）
A35: 无 | B35: =COUNTIF('升级聊天'!$I$5:$I$204,$A35) | C35: =SUMIF('升级聊天'!$I$5:$I$204,$A35,'升级聊天'!$J$5:$J$204)
A36: 道歉 | B36: =COUNTIF('升级聊天'!$I$5:$I$204,$A36) | C36: =SUMIF('升级聊天'!$I$5:$I$204,$A36,'升级聊天'!$J$5:$J$204)
A37: 解决办法 | B37: =COUNTIF('升级聊天'!$I$5:$I$204,$A37) | C37: =SUMIF('升级聊天'!$I$5:$I$204,$A37,'升级聊天'!$J$5:$J$204)
A38: 抵扣 | B38: =COUNTIF('升级聊天'!$I$5:$I$204,$A38) | C38: =SUMIF('升级聊天'!$I$5:$I$204,$A38,'升级聊天'!$J$5:$J$204)
A39: 退款 | B39: =COUNTIF('升级聊天'!$I$5:$I$204,$A39) | C39: =SUMIF('升级聊天'!$I$5:$I$204,$A39,'升级聊天'!$J$5:$J$204)
A40: 经理致电 | B40: =COUNTIF('升级聊天'!$I$5:$I$204,$A40) | C40: =SUMIF('升级聊天'!$I$5:$I$204,$A40,'升级聊天'!$J$5:$J$204)
A42: CRMsoftware.pro 免费模板。示例数据为虚构。

Sheet 列表
A1: 列表
A2: 按您的业务修改这些列表。记录表中的下拉菜单从这里读取选项。请保持“严重程度”“提供的方案”和“结果”的顺序不变。
A4: 渠道 | B4: 原因 | C4: 严重程度 | D4: 提供的方案 | E4: 结果 | F4: 是 / 否
A5: 网站聊天 | B5: 配送延误或未送达 | C5: 低 | D5: 无 | E5: 已解决 | F5: 是 | H5: 抵扣和退款的客服权限上限（$） | I5: 100
A6: WhatsApp | B6: 产品故障或损坏 | C6: 中 | D6: 道歉 | E6: 未解决 | F6: 否
A7: Instagram | B7: 账单或扣款 | C7: 高 | D7: 解决办法 | E7: 已流失
A8: Messenger | B8: 等待太久或无人回复 | C8: 严重 | D8: 抵扣
A9: Telegram | B9: 员工态度 | D9: 退款
A10: 邮件 | B10: 拒绝退款或退货 | D10: 经理致电
B11: 其他
