Workbook

Sheet 答卷记录
A1: 调查答卷记录表
A2: 每份答卷一行。带底色的列会自动填写。低分 = 已解决或已设置好为“否”、满意度或费力度不高于限值，或 NPS 0 到 6（限值见“列表和设置”工作表）。
A3: 回复截止日 = 答卷后的下一个工作日。跟进状态：填写回复日期后为“已完成”；回复截止日之前为“待回复”；之后为“已逾期”。
A4: 答卷日期 | B4: 客户 | C4: 问卷 | D4: 编号 | E4: 已解决或已设置好 | F4: 满意度（1-5） | G4: 费力度（1-7） | H4: NPS（0-10） | I4: NPS 分组 | J4: 意见 | K4: 反馈负责人 | L4: 低分 | M4: 回复截止日 | N4: 回复日期 | O4: 跟进状态 | P4: 采取的措施和备注 | Q4: 待跟进序号
A5: 46267 | B5: Lena Fischer, Fischer Florals | C5: 工单或聊天后 | D5: T-371 | E5: 是 | F5: 5 | G5: 7 | I5: =IF($H5="","",IF($H5>=9,"推荐者",IF($H5>=7,"中立者","贬损者"))) | J5: 又快又清楚，谢谢。 | K5: Maya Chen，客户服务主管 | L5: =IF($A5="","",IF(OR($E5="否",AND($F5<>"",$F5<='列表和设置'!$F$5),AND($G5<>"",$G5<='列表和设置'!$F$6),AND($H5<>"",$H5<=6)),"是","否")) | M5: =IF($L5="是",WORKDAY($A5,'列表和设置'!$F$7),"") | O5: =IF($L5<>"是","",IF($N5<>"","已完成",IF(TODAY()>$M5,"已逾期","待回复"))) | Q5: =IF(OR($O5="待回复",$O5="已逾期"),COUNTIF($O$5:$O5,"待回复")+COUNTIF($O$5:$O5,"已逾期"),"")
A6: 46269 | B6: Ben Ortiz, Ortiz Plumbing | C6: 工单或聊天后 | D6: T-377 | E6: 是 | F6: 5 | G6: 6 | I6: =IF($H6="","",IF($H6>=9,"推荐者",IF($H6>=7,"中立者","贬损者"))) | K6: Maya Chen，客户服务主管 | L6: =IF($A6="","",IF(OR($E6="否",AND($F6<>"",$F6<='列表和设置'!$F$5),AND($G6<>"",$G6<='列表和设置'!$F$6),AND($H6<>"",$H6<=6)),"是","否")) | M6: =IF($L6="是",WORKDAY($A6,'列表和设置'!$F$7),"") | O6: =IF($L6<>"是","",IF($N6<>"","已完成",IF(TODAY()>$M6,"已逾期","待回复"))) | Q6: =IF(OR($O6="待回复",$O6="已逾期"),COUNTIF($O$5:$O6,"待回复")+COUNTIF($O$5:$O6,"已逾期"),"")
A7: 46274 | B7: Aisha Khan, Khan Dental | C7: 工单或聊天后 | D7: T-385 | E7: 是 | F7: 4 | G7: 6 | I7: =IF($H7="","",IF($H7>=9,"推荐者",IF($H7>=7,"中立者","贬损者"))) | J7: 来回发了两封邮件，不过还好。 | K7: Maya Chen，客户服务主管 | L7: =IF($A7="","",IF(OR($E7="否",AND($F7<>"",$F7<='列表和设置'!$F$5),AND($G7<>"",$G7<='列表和设置'!$F$6),AND($H7<>"",$H7<=6)),"是","否")) | M7: =IF($L7="是",WORKDAY($A7,'列表和设置'!$F$7),"") | O7: =IF($L7<>"是","",IF($N7<>"","已完成",IF(TODAY()>$M7,"已逾期","待回复"))) | Q7: =IF(OR($O7="待回复",$O7="已逾期"),COUNTIF($O$5:$O7,"待回复")+COUNTIF($O$5:$O7,"已逾期"),"")
A8: 46276 | B8: Tom Becker, Becker Cycles | C8: 工单或聊天后 | D8: T-389 | E8: 是 | F8: 5 | G8: 7 | I8: =IF($H8="","",IF($H8>=9,"推荐者",IF($H8>=7,"中立者","贬损者"))) | K8: Maya Chen，客户服务主管 | L8: =IF($A8="","",IF(OR($E8="否",AND($F8<>"",$F8<='列表和设置'!$F$5),AND($G8<>"",$G8<='列表和设置'!$F$6),AND($H8<>"",$H8<=6)),"是","否")) | M8: =IF($L8="是",WORKDAY($A8,'列表和设置'!$F$7),"") | O8: =IF($L8<>"是","",IF($N8<>"","已完成",IF(TODAY()>$M8,"已逾期","待回复"))) | Q8: =IF(OR($O8="待回复",$O8="已逾期"),COUNTIF($O$5:$O8,"待回复")+COUNTIF($O$5:$O8,"已逾期"),"")
A9: 46279 | B9: Owen Clark, Clark Coffee Cart | C9: 上手引导后 | D9: 上手引导，8 月 14 日开始 | E9: 是 | G9: 6 | I9: =IF($H9="","",IF($H9>=9,"推荐者",IF($H9>=7,"中立者","贬损者"))) | J9: 连接银行花了些时间。 | K9: Leo Park，上手引导 | L9: =IF($A9="","",IF(OR($E9="否",AND($F9<>"",$F9<='列表和设置'!$F$5),AND($G9<>"",$G9<='列表和设置'!$F$6),AND($H9<>"",$H9<=6)),"是","否")) | M9: =IF($L9="是",WORKDAY($A9,'列表和设置'!$F$7),"") | O9: =IF($L9<>"是","",IF($N9<>"","已完成",IF(TODAY()>$M9,"已逾期","待回复"))) | Q9: =IF(OR($O9="待回复",$O9="已逾期"),COUNTIF($O$5:$O9,"待回复")+COUNTIF($O$5:$O9,"已逾期"),"")
A10: 46281 | B10: Grace Liu, Liu Design Studio | C10: 工单或聊天后 | D10: T-396 | E10: 否 | F10: 3 | G10: 4 | I10: =IF($H10="","",IF($H10>=9,"推荐者",IF($H10>=7,"中立者","贬损者"))) | J10: 销售税报表上还是旧税率。 | K10: Maya Chen，客户服务主管 | L10: =IF($A10="","",IF(OR($E10="否",AND($F10<>"",$F10<='列表和设置'!$F$5),AND($G10<>"",$G10<='列表和设置'!$F$6),AND($H10<>"",$H10<=6)),"是","否")) | M10: =IF($L10="是",WORKDAY($A10,'列表和设置'!$F$7),"") | N10: 46281 | O10: =IF($L10<>"是","",IF($N10<>"","已完成",IF(TODAY()>$M10,"已逾期","待回复"))) | P10: 9 月 17 日已修正税率，并重新发送报表 | Q10: =IF(OR($O10="待回复",$O10="已逾期"),COUNTIF($O$5:$O10,"待回复")+COUNTIF($O$5:$O10,"已逾期"),"")
A11: 46283 | B11: Sam Patel, Patel Auto Repair | C11: 工单或聊天后 | D11: T-401 | E11: 是 | F11: 4 | G11: 5 | I11: =IF($H11="","",IF($H11>=9,"推荐者",IF($H11>=7,"中立者","贬损者"))) | K11: Maya Chen，客户服务主管 | L11: =IF($A11="","",IF(OR($E11="否",AND($F11<>"",$F11<='列表和设置'!$F$5),AND($G11<>"",$G11<='列表和设置'!$F$6),AND($H11<>"",$H11<=6)),"是","否")) | M11: =IF($L11="是",WORKDAY($A11,'列表和设置'!$F$7),"") | O11: =IF($L11<>"是","",IF($N11<>"","已完成",IF(TODAY()>$M11,"已逾期","待回复"))) | Q11: =IF(OR($O11="待回复",$O11="已逾期"),COUNTIF($O$5:$O11,"待回复")+COUNTIF($O$5:$O11,"已逾期"),"")
A12: 46288 | B12: Nora White, White Pilates | C12: 工单或聊天后 | D12: T-409 | E12: 是 | F12: 5 | G12: 6 | I12: =IF($H12="","",IF($H12>=9,"推荐者",IF($H12>=7,"中立者","贬损者"))) | J12: Dana 讲解得非常清楚。 | K12: Maya Chen，客户服务主管 | L12: =IF($A12="","",IF(OR($E12="否",AND($F12<>"",$F12<='列表和设置'!$F$5),AND($G12<>"",$G12<='列表和设置'!$F$6),AND($H12<>"",$H12<=6)),"是","否")) | M12: =IF($L12="是",WORKDAY($A12,'列表和设置'!$F$7),"") | O12: =IF($L12<>"是","",IF($N12<>"","已完成",IF(TODAY()>$M12,"已逾期","待回复"))) | Q12: =IF(OR($O12="待回复",$O12="已逾期"),COUNTIF($O$5:$O12,"待回复")+COUNTIF($O$5:$O12,"已逾期"),"")
A13: 46290 | B13: Carlos Mendes, Mendes Roofing | C13: 工单或聊天后 | D13: T-412 | E13: 是 | F13: 4 | G13: 6 | I13: =IF($H13="","",IF($H13>=9,"推荐者",IF($H13>=7,"中立者","贬损者"))) | K13: Maya Chen，客户服务主管 | L13: =IF($A13="","",IF(OR($E13="否",AND($F13<>"",$F13<='列表和设置'!$F$5),AND($G13<>"",$G13<='列表和设置'!$F$6),AND($H13<>"",$H13<=6)),"是","否")) | M13: =IF($L13="是",WORKDAY($A13,'列表和设置'!$F$7),"") | O13: =IF($L13<>"是","",IF($N13<>"","已完成",IF(TODAY()>$M13,"已逾期","待回复"))) | Q13: =IF(OR($O13="待回复",$O13="已逾期"),COUNTIF($O$5:$O13,"待回复")+COUNTIF($O$5:$O13,"已逾期"),"")
A14: 46293 | B14: Mia Johnson, Johnson Interiors | C14: 上手引导后 | D14: 上手引导，8 月 28 日开始 | E14: 是 | G14: 5 | I14: =IF($H14="","",IF($H14>=9,"推荐者",IF($H14>=7,"中立者","贬损者"))) | K14: Leo Park，上手引导 | L14: =IF($A14="","",IF(OR($E14="否",AND($F14<>"",$F14<='列表和设置'!$F$5),AND($G14<>"",$G14<='列表和设置'!$F$6),AND($H14<>"",$H14<=6)),"是","否")) | M14: =IF($L14="是",WORKDAY($A14,'列表和设置'!$F$7),"") | O14: =IF($L14<>"是","",IF($N14<>"","已完成",IF(TODAY()>$M14,"已逾期","待回复"))) | Q14: =IF(OR($O14="待回复",$O14="已逾期"),COUNTIF($O$5:$O14,"待回复")+COUNTIF($O$5:$O14,"已逾期"),"")
A15: 46295 | B15: Omar Haddad, Saltbox Bakery | C15: 工单或聊天后 | D15: T-418 | E15: 是 | F15: 2 | G15: 2 | I15: =IF($H15="","",IF($H15>=9,"推荐者",IF($H15>=7,"中立者","贬损者"))) | J15: 最后是解决了，但我解释了两遍，而且没人告诉我银行流水同步已经中断了。 | K15: Maya Chen，客户服务主管 | L15: =IF($A15="","",IF(OR($E15="否",AND($F15<>"",$F15<='列表和设置'!$F$5),AND($G15<>"",$G15<='列表和设置'!$F$6),AND($H15<>"",$H15<=6)),"是","否")) | M15: =IF($L15="是",WORKDAY($A15,'列表和设置'!$F$7),"") | N15: 46295 | O15: =IF($L15<>"是","",IF($N15<>"","已完成",IF(TODAY()>$M15,"已逾期","待回复"))) | P15: 10 月 5 日起每周一检查银行流水同步；如有中断，当天邮件通知客户 | Q15: =IF(OR($O15="待回复",$O15="已逾期"),COUNTIF($O$5:$O15,"待回复")+COUNTIF($O$5:$O15,"已逾期"),"")
A16: 46296 | B16: Peter Novak, Novak Electric | C16: 季度 NPS | D16: NPS 2026 年第四季度 | H16: 10 | I16: =IF($H16="","",IF($H16>=9,"推荐者",IF($H16>=7,"中立者","贬损者"))) | J16: 总是很准时，Maya 回复也很快。 | K16: Ruth Alvarez，创始人 | L16: =IF($A16="","",IF(OR($E16="否",AND($F16<>"",$F16<='列表和设置'!$F$5),AND($G16<>"",$G16<='列表和设置'!$F$6),AND($H16<>"",$H16<=6)),"是","否")) | M16: =IF($L16="是",WORKDAY($A16,'列表和设置'!$F$7),"") | O16: =IF($L16<>"是","",IF($N16<>"","已完成",IF(TODAY()>$M16,"已逾期","待回复"))) | Q16: =IF(OR($O16="待回复",$O16="已逾期"),COUNTIF($O$5:$O16,"待回复")+COUNTIF($O$5:$O16,"已逾期"),"")
A17: 46296 | B17: Julia Rossi, Rossi Catering | C17: 季度 NPS | D17: NPS 2026 年第四季度 | H17: 9 | I17: =IF($H17="","",IF($H17>=9,"推荐者",IF($H17>=7,"中立者","贬损者"))) | J17: 月度报表很清楚。 | K17: Ruth Alvarez，创始人 | L17: =IF($A17="","",IF(OR($E17="否",AND($F17<>"",$F17<='列表和设置'!$F$5),AND($G17<>"",$G17<='列表和设置'!$F$6),AND($H17<>"",$H17<=6)),"是","否")) | M17: =IF($L17="是",WORKDAY($A17,'列表和设置'!$F$7),"") | O17: =IF($L17<>"是","",IF($N17<>"","已完成",IF(TODAY()>$M17,"已逾期","待回复"))) | Q17: =IF(OR($O17="待回复",$O17="已逾期"),COUNTIF($O$5:$O17,"待回复")+COUNTIF($O$5:$O17,"已逾期"),"")
A18: 46296 | B18: David Kim, Kim Physio | C18: 季度 NPS | D18: NPS 2026 年第四季度 | H18: 8 | I18: =IF($H18="","",IF($H18>=9,"推荐者",IF($H18>=7,"中立者","贬损者"))) | J18: 不错，但客户门户登录不太方便。 | K18: Ruth Alvarez，创始人 | L18: =IF($A18="","",IF(OR($E18="否",AND($F18<>"",$F18<='列表和设置'!$F$5),AND($G18<>"",$G18<='列表和设置'!$F$6),AND($H18<>"",$H18<=6)),"是","否")) | M18: =IF($L18="是",WORKDAY($A18,'列表和设置'!$F$7),"") | O18: =IF($L18<>"是","",IF($N18<>"","已完成",IF(TODAY()>$M18,"已逾期","待回复"))) | Q18: =IF(OR($O18="待回复",$O18="已逾期"),COUNTIF($O$5:$O18,"待回复")+COUNTIF($O$5:$O18,"已逾期"),"")
A19: 46297 | B19: Fatima Ali, Ali Tailoring | C19: 季度 NPS | D19: NPS 2026 年第四季度 | H19: 10 | I19: =IF($H19="","",IF($H19>=9,"推荐者",IF($H19>=7,"中立者","贬损者"))) | K19: Ruth Alvarez，创始人 | L19: =IF($A19="","",IF(OR($E19="否",AND($F19<>"",$F19<='列表和设置'!$F$5),AND($G19<>"",$G19<='列表和设置'!$F$6),AND($H19<>"",$H19<=6)),"是","否")) | M19: =IF($L19="是",WORKDAY($A19,'列表和设置'!$F$7),"") | O19: =IF($L19<>"是","",IF($N19<>"","已完成",IF(TODAY()>$M19,"已逾期","待回复"))) | Q19: =IF(OR($O19="待回复",$O19="已逾期"),COUNTIF($O$5:$O19,"待回复")+COUNTIF($O$5:$O19,"已逾期"),"")
A20: 46297 | B20: Mark Evans, Evans Joinery | C20: 季度 NPS | D20: NPS 2026 年第四季度 | H20: 6 | I20: =IF($H20="","",IF($H20>=9,"推荐者",IF($H20>=7,"中立者","贬损者"))) | J20: 忙的月份报表会晚到。 | K20: Ruth Alvarez，创始人 | L20: =IF($A20="","",IF(OR($E20="否",AND($F20<>"",$F20<='列表和设置'!$F$5),AND($G20<>"",$G20<='列表和设置'!$F$6),AND($H20<>"",$H20<=6)),"是","否")) | M20: =IF($L20="是",WORKDAY($A20,'列表和设置'!$F$7),"") | N20: 46297 | O20: =IF($L20<>"是","",IF($N20<>"","已完成",IF(TODAY()>$M20,"已逾期","待回复"))) | P20: 10 月 2 日已致电；约定报表日期为每月 10 日 | Q20: =IF(OR($O20="待回复",$O20="已逾期"),COUNTIF($O$5:$O20,"待回复")+COUNTIF($O$5:$O20,"已逾期"),"")
A21: 46297 | B21: Hana Sato, Sato Tea House | C21: 工单或聊天后 | D21: T-423 | E21: 是 | F21: 5 | G21: 7 | I21: =IF($H21="","",IF($H21>=9,"推荐者",IF($H21>=7,"中立者","贬损者"))) | J21: 当天就回复了，很棒。 | K21: Maya Chen，客户服务主管 | L21: =IF($A21="","",IF(OR($E21="否",AND($F21<>"",$F21<='列表和设置'!$F$5),AND($G21<>"",$G21<='列表和设置'!$F$6),AND($H21<>"",$H21<=6)),"是","否")) | M21: =IF($L21="是",WORKDAY($A21,'列表和设置'!$F$7),"") | O21: =IF($L21<>"是","",IF($N21<>"","已完成",IF(TODAY()>$M21,"已逾期","待回复"))) | Q21: =IF(OR($O21="待回复",$O21="已逾期"),COUNTIF($O$5:$O21,"待回复")+COUNTIF($O$5:$O21,"已逾期"),"")
A22: 46297 | B22: Rosa Diaz, Diaz Cleaning | C22: 季度 NPS | D22: NPS 2026 年第四季度 | H22: 9 | I22: =IF($H22="","",IF($H22>=9,"推荐者",IF($H22>=7,"中立者","贬损者"))) | J22: 每个月帮我省下好几个小时。 | K22: Ruth Alvarez，创始人 | L22: =IF($A22="","",IF(OR($E22="否",AND($F22<>"",$F22<='列表和设置'!$F$5),AND($G22<>"",$G22<='列表和设置'!$F$6),AND($H22<>"",$H22<=6)),"是","否")) | M22: =IF($L22="是",WORKDAY($A22,'列表和设置'!$F$7),"") | O22: =IF($L22<>"是","",IF($N22<>"","已完成",IF(TODAY()>$M22,"已逾期","待回复"))) | Q22: =IF(OR($O22="待回复",$O22="已逾期"),COUNTIF($O$5:$O22,"待回复")+COUNTIF($O$5:$O22,"已逾期"),"")
A23: 46300 | B23: Kevin Brown, Brown Landscaping | C23: 季度 NPS | D23: NPS 2026 年第四季度 | H23: 7 | I23: =IF($H23="","",IF($H23>=9,"推荐者",IF($H23>=7,"中立者","贬损者"))) | K23: Ruth Alvarez，创始人 | L23: =IF($A23="","",IF(OR($E23="否",AND($F23<>"",$F23<='列表和设置'!$F$5),AND($G23<>"",$G23<='列表和设置'!$F$6),AND($H23<>"",$H23<=6)),"是","否")) | M23: =IF($L23="是",WORKDAY($A23,'列表和设置'!$F$7),"") | O23: =IF($L23<>"是","",IF($N23<>"","已完成",IF(TODAY()>$M23,"已逾期","待回复"))) | Q23: =IF(OR($O23="待回复",$O23="已逾期"),COUNTIF($O$5:$O23,"待回复")+COUNTIF($O$5:$O23,"已逾期"),"")
A24: 46300 | B24: Emma Wilson, Wilson Yoga Loft | C24: 季度 NPS | D24: NPS 2026 年第四季度 | H24: 10 | I24: =IF($H24="","",IF($H24>=9,"推荐者",IF($H24>=7,"中立者","贬损者"))) | J24: 我遇到的每位新店主，我都会向他们推荐你们。 | K24: Ruth Alvarez，创始人 | L24: =IF($A24="","",IF(OR($E24="否",AND($F24<>"",$F24<='列表和设置'!$F$5),AND($G24<>"",$G24<='列表和设置'!$F$6),AND($H24<>"",$H24<=6)),"是","否")) | M24: =IF($L24="是",WORKDAY($A24,'列表和设置'!$F$7),"") | O24: =IF($L24<>"是","",IF($N24<>"","已完成",IF(TODAY()>$M24,"已逾期","待回复"))) | Q24: =IF(OR($O24="待回复",$O24="已逾期"),COUNTIF($O$5:$O24,"待回复")+COUNTIF($O$5:$O24,"已逾期"),"")
A25: 46300 | B25: Yusuf Demir, Demir Kebab | C25: 季度 NPS | D25: NPS 2026 年第四季度 | H25: 8 | I25: =IF($H25="","",IF($H25>=9,"推荐者",IF($H25>=7,"中立者","贬损者"))) | J25: 还行。今年涨价了。 | K25: Ruth Alvarez，创始人 | L25: =IF($A25="","",IF(OR($E25="否",AND($F25<>"",$F25<='列表和设置'!$F$5),AND($G25<>"",$G25<='列表和设置'!$F$6),AND($H25<>"",$H25<=6)),"是","否")) | M25: =IF($L25="是",WORKDAY($A25,'列表和设置'!$F$7),"") | O25: =IF($L25<>"是","",IF($N25<>"","已完成",IF(TODAY()>$M25,"已逾期","待回复"))) | Q25: =IF(OR($O25="待回复",$O25="已逾期"),COUNTIF($O$5:$O25,"待回复")+COUNTIF($O$5:$O25,"已逾期"),"")
A26: 46301 | B26: Chloe Martin, Martin Bridal | C26: 季度 NPS | D26: NPS 2026 年第四季度 | H26: 3 | I26: =IF($H26="","",IF($H26>=9,"推荐者",IF($H26>=7,"中立者","贬损者"))) | J26: 我 8 月的报表里有两个分类错了，也没人给我打电话。 | K26: Ruth Alvarez，创始人 | L26: =IF($A26="","",IF(OR($E26="否",AND($F26<>"",$F26<='列表和设置'!$F$5),AND($G26<>"",$G26<='列表和设置'!$F$6),AND($H26<>"",$H26<=6)),"是","否")) | M26: =IF($L26="是",WORKDAY($A26,'列表和设置'!$F$7),"") | O26: =IF($L26<>"是","",IF($N26<>"","已完成",IF(TODAY()>$M26,"已逾期","待回复"))) | Q26: =IF(OR($O26="待回复",$O26="已逾期"),COUNTIF($O$5:$O26,"待回复")+COUNTIF($O$5:$O26,"已逾期"),"")
A27: 46301 | B27: Ivan Petrov, Petrov Movers | C27: 季度 NPS | D27: NPS 2026 年第四季度 | H27: 9 | I27: =IF($H27="","",IF($H27>=9,"推荐者",IF($H27>=7,"中立者","贬损者"))) | K27: Ruth Alvarez，创始人 | L27: =IF($A27="","",IF(OR($E27="否",AND($F27<>"",$F27<='列表和设置'!$F$5),AND($G27<>"",$G27<='列表和设置'!$F$6),AND($H27<>"",$H27<=6)),"是","否")) | M27: =IF($L27="是",WORKDAY($A27,'列表和设置'!$F$7),"") | O27: =IF($L27<>"是","",IF($N27<>"","已完成",IF(TODAY()>$M27,"已逾期","待回复"))) | Q27: =IF(OR($O27="待回复",$O27="已逾期"),COUNTIF($O$5:$O27,"待回复")+COUNTIF($O$5:$O27,"已逾期"),"")
A28: 46302 | B28: Sara Lopez, Lopez Pet Grooming | C28: 季度 NPS | D28: NPS 2026 年第四季度 | H28: 7 | I28: =IF($H28="","",IF($H28>=9,"推荐者",IF($H28>=7,"中立者","贬损者"))) | J28: 服务不错；希望每季度能通一次电话。 | K28: Ruth Alvarez，创始人 | L28: =IF($A28="","",IF(OR($E28="否",AND($F28<>"",$F28<='列表和设置'!$F$5),AND($G28<>"",$G28<='列表和设置'!$F$6),AND($H28<>"",$H28<=6)),"是","否")) | M28: =IF($L28="是",WORKDAY($A28,'列表和设置'!$F$7),"") | O28: =IF($L28<>"是","",IF($N28<>"","已完成",IF(TODAY()>$M28,"已逾期","待回复"))) | Q28: =IF(OR($O28="待回复",$O28="已逾期"),COUNTIF($O$5:$O28,"待回复")+COUNTIF($O$5:$O28,"已逾期"),"")
A29: 46302 | B29: Ali Rezaei, Rezaei Rugs | C29: 上手引导后 | D29: 上手引导，9 月 7 日开始 | E29: 否 | G29: 3 | I29: =IF($H29="","",IF($H29>=9,"推荐者",IF($H29>=7,"中立者","贬损者"))) | J29: 一个月了，工资系统还没接通。 | K29: Leo Park，上手引导 | L29: =IF($A29="","",IF(OR($E29="否",AND($F29<>"",$F29<='列表和设置'!$F$5),AND($G29<>"",$G29<='列表和设置'!$F$6),AND($H29<>"",$H29<=6)),"是","否")) | M29: =IF($L29="是",WORKDAY($A29,'列表和设置'!$F$7),"") | O29: =IF($L29<>"是","",IF($N29<>"","已完成",IF(TODAY()>$M29,"已逾期","待回复"))) | Q29: =IF(OR($O29="待回复",$O29="已逾期"),COUNTIF($O$5:$O29,"待回复")+COUNTIF($O$5:$O29,"已逾期"),"")
I30: =IF($H30="","",IF($H30>=9,"推荐者",IF($H30>=7,"中立者","贬损者"))) | L30: =IF($A30="","",IF(OR($E30="否",AND($F30<>"",$F30<='列表和设置'!$F$5),AND($G30<>"",$G30<='列表和设置'!$F$6),AND($H30<>"",$H30<=6)),"是","否")) | M30: =IF($L30="是",WORKDAY($A30,'列表和设置'!$F$7),"") | O30: =IF($L30<>"是","",IF($N30<>"","已完成",IF(TODAY()>$M30,"已逾期","待回复"))) | Q30: =IF(OR($O30="待回复",$O30="已逾期"),COUNTIF($O$5:$O30,"待回复")+COUNTIF($O$5:$O30,"已逾期"),"")
I31: =IF($H31="","",IF($H31>=9,"推荐者",IF($H31>=7,"中立者","贬损者"))) | L31: =IF($A31="","",IF(OR($E31="否",AND($F31<>"",$F31<='列表和设置'!$F$5),AND($G31<>"",$G31<='列表和设置'!$F$6),AND($H31<>"",$H31<=6)),"是","否")) | M31: =IF($L31="是",WORKDAY($A31,'列表和设置'!$F$7),"") | O31: =IF($L31<>"是","",IF($N31<>"","已完成",IF(TODAY()>$M31,"已逾期","待回复"))) | Q31: =IF(OR($O31="待回复",$O31="已逾期"),COUNTIF($O$5:$O31,"待回复")+COUNTIF($O$5:$O31,"已逾期"),"")
I32: =IF($H32="","",IF($H32>=9,"推荐者",IF($H32>=7,"中立者","贬损者"))) | L32: =IF($A32="","",IF(OR($E32="否",AND($F32<>"",$F32<='列表和设置'!$F$5),AND($G32<>"",$G32<='列表和设置'!$F$6),AND($H32<>"",$H32<=6)),"是","否")) | M32: =IF($L32="是",WORKDAY($A32,'列表和设置'!$F$7),"") | O32: =IF($L32<>"是","",IF($N32<>"","已完成",IF(TODAY()>$M32,"已逾期","待回复"))) | Q32: =IF(OR($O32="待回复",$O32="已逾期"),COUNTIF($O$5:$O32,"待回复")+COUNTIF($O$5:$O32,"已逾期"),"")
I33: =IF($H33="","",IF($H33>=9,"推荐者",IF($H33>=7,"中立者","贬损者"))) | L33: =IF($A33="","",IF(OR($E33="否",AND($F33<>"",$F33<='列表和设置'!$F$5),AND($G33<>"",$G33<='列表和设置'!$F$6),AND($H33<>"",$H33<=6)),"是","否")) | M33: =IF($L33="是",WORKDAY($A33,'列表和设置'!$F$7),"") | O33: =IF($L33<>"是","",IF($N33<>"","已完成",IF(TODAY()>$M33,"已逾期","待回复"))) | Q33: =IF(OR($O33="待回复",$O33="已逾期"),COUNTIF($O$5:$O33,"待回复")+COUNTIF($O$5:$O33,"已逾期"),"")
I34: =IF($H34="","",IF($H34>=9,"推荐者",IF($H34>=7,"中立者","贬损者"))) | L34: =IF($A34="","",IF(OR($E34="否",AND($F34<>"",$F34<='列表和设置'!$F$5),AND($G34<>"",$G34<='列表和设置'!$F$6),AND($H34<>"",$H34<=6)),"是","否")) | M34: =IF($L34="是",WORKDAY($A34,'列表和设置'!$F$7),"") | O34: =IF($L34<>"是","",IF($N34<>"","已完成",IF(TODAY()>$M34,"已逾期","待回复"))) | Q34: =IF(OR($O34="待回复",$O34="已逾期"),COUNTIF($O$5:$O34,"待回复")+COUNTIF($O$5:$O34,"已逾期"),"")
I35: =IF($H35="","",IF($H35>=9,"推荐者",IF($H35>=7,"中立者","贬损者"))) | L35: =IF($A35="","",IF(OR($E35="否",AND($F35<>"",$F35<='列表和设置'!$F$5),AND($G35<>"",$G35<='列表和设置'!$F$6),AND($H35<>"",$H35<=6)),"是","否")) | M35: =IF($L35="是",WORKDAY($A35,'列表和设置'!$F$7),"") | O35: =IF($L35<>"是","",IF($N35<>"","已完成",IF(TODAY()>$M35,"已逾期","待回复"))) | Q35: =IF(OR($O35="待回复",$O35="已逾期"),COUNTIF($O$5:$O35,"待回复")+COUNTIF($O$5:$O35,"已逾期"),"")
I36: =IF($H36="","",IF($H36>=9,"推荐者",IF($H36>=7,"中立者","贬损者"))) | L36: =IF($A36="","",IF(OR($E36="否",AND($F36<>"",$F36<='列表和设置'!$F$5),AND($G36<>"",$G36<='列表和设置'!$F$6),AND($H36<>"",$H36<=6)),"是","否")) | M36: =IF($L36="是",WORKDAY($A36,'列表和设置'!$F$7),"") | O36: =IF($L36<>"是","",IF($N36<>"","已完成",IF(TODAY()>$M36,"已逾期","待回复"))) | Q36: =IF(OR($O36="待回复",$O36="已逾期"),COUNTIF($O$5:$O36,"待回复")+COUNTIF($O$5:$O36,"已逾期"),"")
I37: =IF($H37="","",IF($H37>=9,"推荐者",IF($H37>=7,"中立者","贬损者"))) | L37: =IF($A37="","",IF(OR($E37="否",AND($F37<>"",$F37<='列表和设置'!$F$5),AND($G37<>"",$G37<='列表和设置'!$F$6),AND($H37<>"",$H37<=6)),"是","否")) | M37: =IF($L37="是",WORKDAY($A37,'列表和设置'!$F$7),"") | O37: =IF($L37<>"是","",IF($N37<>"","已完成",IF(TODAY()>$M37,"已逾期","待回复"))) | Q37: =IF(OR($O37="待回复",$O37="已逾期"),COUNTIF($O$5:$O37,"待回复")+COUNTIF($O$5:$O37,"已逾期"),"")
I38: =IF($H38="","",IF($H38>=9,"推荐者",IF($H38>=7,"中立者","贬损者"))) | L38: =IF($A38="","",IF(OR($E38="否",AND($F38<>"",$F38<='列表和设置'!$F$5),AND($G38<>"",$G38<='列表和设置'!$F$6),AND($H38<>"",$H38<=6)),"是","否")) | M38: =IF($L38="是",WORKDAY($A38,'列表和设置'!$F$7),"") | O38: =IF($L38<>"是","",IF($N38<>"","已完成",IF(TODAY()>$M38,"已逾期","待回复"))) | Q38: =IF(OR($O38="待回复",$O38="已逾期"),COUNTIF($O$5:$O38,"待回复")+COUNTIF($O$5:$O38,"已逾期"),"")
I39: =IF($H39="","",IF($H39>=9,"推荐者",IF($H39>=7,"中立者","贬损者"))) | L39: =IF($A39="","",IF(OR($E39="否",AND($F39<>"",$F39<='列表和设置'!$F$5),AND($G39<>"",$G39<='列表和设置'!$F$6),AND($H39<>"",$H39<=6)),"是","否")) | M39: =IF($L39="是",WORKDAY($A39,'列表和设置'!$F$7),"") | O39: =IF($L39<>"是","",IF($N39<>"","已完成",IF(TODAY()>$M39,"已逾期","待回复"))) | Q39: =IF(OR($O39="待回复",$O39="已逾期"),COUNTIF($O$5:$O39,"待回复")+COUNTIF($O$5:$O39,"已逾期"),"")
I40: =IF($H40="","",IF($H40>=9,"推荐者",IF($H40>=7,"中立者","贬损者"))) | L40: =IF($A40="","",IF(OR($E40="否",AND($F40<>"",$F40<='列表和设置'!$F$5),AND($G40<>"",$G40<='列表和设置'!$F$6),AND($H40<>"",$H40<=6)),"是","否")) | M40: =IF($L40="是",WORKDAY($A40,'列表和设置'!$F$7),"") | O40: =IF($L40<>"是","",IF($N40<>"","已完成",IF(TODAY()>$M40,"已逾期","待回复"))) | Q40: =IF(OR($O40="待回复",$O40="已逾期"),COUNTIF($O$5:$O40,"待回复")+COUNTIF($O$5:$O40,"已逾期"),"")
I41: =IF($H41="","",IF($H41>=9,"推荐者",IF($H41>=7,"中立者","贬损者"))) | L41: =IF($A41="","",IF(OR($E41="否",AND($F41<>"",$F41<='列表和设置'!$F$5),AND($G41<>"",$G41<='列表和设置'!$F$6),AND($H41<>"",$H41<=6)),"是","否")) | M41: =IF($L41="是",WORKDAY($A41,'列表和设置'!$F$7),"") | O41: =IF($L41<>"是","",IF($N41<>"","已完成",IF(TODAY()>$M41,"已逾期","待回复"))) | Q41: =IF(OR($O41="待回复",$O41="已逾期"),COUNTIF($O$5:$O41,"待回复")+COUNTIF($O$5:$O41,"已逾期"),"")
... I204: =IF($H204="","",IF($H204>=9,"推荐者",IF($H204>=7,"中立者","贬损者"))) | L204: =IF($A204="","",IF(OR($E204="否",AND($F204<>"",$F204<='列表和设置'!$F$5),AND($G204<>"",$G204<='列表和设置'!$F$6),AND($H204<>"",$H204<=6)),"是","否")) | M204: =IF($L204="是",WORKDAY($A204,'列表和设置'!$F$7),"") | O204: =IF($L204<>"是","",IF($N204<>"","已完成",IF(TODAY()>$M204,"已逾期","待回复"))) | Q204: =IF(OR($O204="待回复",$O204="已逾期"),COUNTIF($O$5:$O204,"待回复")+COUNTIF($O$5:$O204,"已逾期"),"")

Sheet 汇总
A1: 汇总
A2: 数据来自“答卷记录”，添加行后会自动更新。已发送的问卷数和聊天星级评分需自行填写。
A4: 指标 | B4: 数值
A5: 答卷数（记录中的行数） | B5: =COUNT('答卷记录'!$A$5:$A$204)
A6: 满意度答卷数 | B6: =COUNT('答卷记录'!$F$5:$F$204)
A7: CSAT %（4 分或 5 分的答卷） | B7: =IF(COUNT('答卷记录'!$F$5:$F$204)=0,"",COUNTIF('答卷记录'!$F$5:$F$204,">=4")/COUNT('答卷记录'!$F$5:$F$204))
A8: 已解决或已设置好：是 | B8: =IF((COUNTIF('答卷记录'!$E$5:$E$204,"是")+COUNTIF('答卷记录'!$E$5:$E$204,"否"))=0,"",COUNTIF('答卷记录'!$E$5:$E$204,"是")/(COUNTIF('答卷记录'!$E$5:$E$204,"是")+COUNTIF('答卷记录'!$E$5:$E$204,"否")))
A9: 费力度答卷数 | B9: =COUNT('答卷记录'!$G$5:$G$204)
A10: 平均费力度（1-7） | B10: =IF(COUNT('答卷记录'!$G$5:$G$204)=0,"",AVERAGE('答卷记录'!$G$5:$G$204))
A11: NPS 答卷数 | B11: =COUNT('答卷记录'!$H$5:$H$204)
A12: 推荐者（9-10） | B12: =COUNTIF('答卷记录'!$H$5:$H$204,">=9")
A13: 中立者（7-8） | B13: =COUNTIFS('答卷记录'!$H$5:$H$204,">=7",'答卷记录'!$H$5:$H$204,"<=8")
A14: 贬损者（0-6） | B14: =COUNTIF('答卷记录'!$H$5:$H$204,"<=6")
A15: NPS（-100 到 +100） | B15: =IF($B$11=0,"",ROUND(($B$12-$B$14)/$B$11*100,0))
A16: 低分 | B16: =COUNTIF('答卷记录'!$L$5:$L$204,"是")
A17: 已完成的跟进 | B17: =COUNTIF('答卷记录'!$O$5:$O$204,"已完成")
A18: 待回复的跟进 | B18: =COUNTIF('答卷记录'!$O$5:$O$204,"待回复")
A19: 已逾期的跟进 | B19: =COUNTIF('答卷记录'!$O$5:$O$204,"已逾期")
A20: 在时限内回复 | B20: =IF($B$17=0,"",SUMPRODUCT(('答卷记录'!$O$5:$O$204="已完成")*('答卷记录'!$N$5:$N$204<='答卷记录'!$M$5:$M$204))/$B$17)
A22: 小样本提示
A23: =IF($B$11=0,"",IF($B$11<'列表和设置'!$F$8,SUBSTITUTE(SUBSTITUTE("只有 {n} 份 NPS 答卷：一位客户从推荐者变成贬损者，NPS 就会变化 {p} 分。请阅读意见，并把分数当作方向参考。","{n}",$B$11),"{p}",ROUND(200/$B$11,0)),SUBSTITUTE("{n} 份 NPS 答卷。请用同一个问题，按季度对比。","{n}",$B$11)))
A24: =IF($B$6=0,"",IF($B$6<'列表和设置'!$F$8,SUBSTITUTE(SUBSTITUTE("只有 {n} 份满意度答卷：一份答卷就会让 CSAT 变化 {p} 个百分点。","{n}",$B$6),"{p}",ROUND(100/$B$6,0)),SUBSTITUTE("{n} 份满意度答卷。请用同一个问题，按月对比。","{n}",$B$6)))
A26: 按问卷
A27: 问卷 | B27: 答卷数 | C27: 已发送问卷数（填写） | D27: 回收率 | E27: CSAT % | F27: 已解决或已设置好：是 | G27: 平均费力度 | H27: NPS | I27: 低分
A28: ='列表和设置'!$A$5 | B28: =COUNTIF('答卷记录'!$C$5:$C$204,$A28) | C28: 31 | D28: =IF(OR($C28="",$C28=0),"",$B28/$C28) | E28: =IF(COUNTIFS('答卷记录'!$C$5:$C$204,$A28,'答卷记录'!$F$5:$F$204,">=1")=0,"",COUNTIFS('答卷记录'!$C$5:$C$204,$A28,'答卷记录'!$F$5:$F$204,">=4")/COUNTIFS('答卷记录'!$C$5:$C$204,$A28,'答卷记录'!$F$5:$F$204,">=1")) | F28: =IF((COUNTIFS('答卷记录'!$C$5:$C$204,$A28,'答卷记录'!$E$5:$E$204,"是")+COUNTIFS('答卷记录'!$C$5:$C$204,$A28,'答卷记录'!$E$5:$E$204,"否"))=0,"",COUNTIFS('答卷记录'!$C$5:$C$204,$A28,'答卷记录'!$E$5:$E$204,"是")/(COUNTIFS('答卷记录'!$C$5:$C$204,$A28,'答卷记录'!$E$5:$E$204,"是")+COUNTIFS('答卷记录'!$C$5:$C$204,$A28,'答卷记录'!$E$5:$E$204,"否"))) | G28: =IF(COUNTIFS('答卷记录'!$C$5:$C$204,$A28,'答卷记录'!$G$5:$G$204,">=1")=0,"",AVERAGEIFS('答卷记录'!$G$5:$G$204,'答卷记录'!$C$5:$C$204,$A28)) | H28: =IF(COUNTIFS('答卷记录'!$C$5:$C$204,$A28,'答卷记录'!$H$5:$H$204,">=0")=0,"",ROUND((COUNTIFS('答卷记录'!$C$5:$C$204,$A28,'答卷记录'!$H$5:$H$204,">=9")-COUNTIFS('答卷记录'!$C$5:$C$204,$A28,'答卷记录'!$H$5:$H$204,"<=6"))/COUNTIFS('答卷记录'!$C$5:$C$204,$A28,'答卷记录'!$H$5:$H$204,">=0")*100,0)) | I28: =COUNTIFS('答卷记录'!$C$5:$C$204,$A28,'答卷记录'!$L$5:$L$204,"是")
A29: ='列表和设置'!$A$6 | B29: =COUNTIF('答卷记录'!$C$5:$C$204,$A29) | C29: 58 | D29: =IF(OR($C29="",$C29=0),"",$B29/$C29) | E29: =IF(COUNTIFS('答卷记录'!$C$5:$C$204,$A29,'答卷记录'!$F$5:$F$204,">=1")=0,"",COUNTIFS('答卷记录'!$C$5:$C$204,$A29,'答卷记录'!$F$5:$F$204,">=4")/COUNTIFS('答卷记录'!$C$5:$C$204,$A29,'答卷记录'!$F$5:$F$204,">=1")) | F29: =IF((COUNTIFS('答卷记录'!$C$5:$C$204,$A29,'答卷记录'!$E$5:$E$204,"是")+COUNTIFS('答卷记录'!$C$5:$C$204,$A29,'答卷记录'!$E$5:$E$204,"否"))=0,"",COUNTIFS('答卷记录'!$C$5:$C$204,$A29,'答卷记录'!$E$5:$E$204,"是")/(COUNTIFS('答卷记录'!$C$5:$C$204,$A29,'答卷记录'!$E$5:$E$204,"是")+COUNTIFS('答卷记录'!$C$5:$C$204,$A29,'答卷记录'!$E$5:$E$204,"否"))) | G29: =IF(COUNTIFS('答卷记录'!$C$5:$C$204,$A29,'答卷记录'!$G$5:$G$204,">=1")=0,"",AVERAGEIFS('答卷记录'!$G$5:$G$204,'答卷记录'!$C$5:$C$204,$A29)) | H29: =IF(COUNTIFS('答卷记录'!$C$5:$C$204,$A29,'答卷记录'!$H$5:$H$204,">=0")=0,"",ROUND((COUNTIFS('答卷记录'!$C$5:$C$204,$A29,'答卷记录'!$H$5:$H$204,">=9")-COUNTIFS('答卷记录'!$C$5:$C$204,$A29,'答卷记录'!$H$5:$H$204,"<=6"))/COUNTIFS('答卷记录'!$C$5:$C$204,$A29,'答卷记录'!$H$5:$H$204,">=0")*100,0)) | I29: =COUNTIFS('答卷记录'!$C$5:$C$204,$A29,'答卷记录'!$L$5:$L$204,"是")
A30: ='列表和设置'!$A$7 | B30: =COUNTIF('答卷记录'!$C$5:$C$204,$A30) | C30: 4 | D30: =IF(OR($C30="",$C30=0),"",$B30/$C30) | E30: =IF(COUNTIFS('答卷记录'!$C$5:$C$204,$A30,'答卷记录'!$F$5:$F$204,">=1")=0,"",COUNTIFS('答卷记录'!$C$5:$C$204,$A30,'答卷记录'!$F$5:$F$204,">=4")/COUNTIFS('答卷记录'!$C$5:$C$204,$A30,'答卷记录'!$F$5:$F$204,">=1")) | F30: =IF((COUNTIFS('答卷记录'!$C$5:$C$204,$A30,'答卷记录'!$E$5:$E$204,"是")+COUNTIFS('答卷记录'!$C$5:$C$204,$A30,'答卷记录'!$E$5:$E$204,"否"))=0,"",COUNTIFS('答卷记录'!$C$5:$C$204,$A30,'答卷记录'!$E$5:$E$204,"是")/(COUNTIFS('答卷记录'!$C$5:$C$204,$A30,'答卷记录'!$E$5:$E$204,"是")+COUNTIFS('答卷记录'!$C$5:$C$204,$A30,'答卷记录'!$E$5:$E$204,"否"))) | G30: =IF(COUNTIFS('答卷记录'!$C$5:$C$204,$A30,'答卷记录'!$G$5:$G$204,">=1")=0,"",AVERAGEIFS('答卷记录'!$G$5:$G$204,'答卷记录'!$C$5:$C$204,$A30)) | H30: =IF(COUNTIFS('答卷记录'!$C$5:$C$204,$A30,'答卷记录'!$H$5:$H$204,">=0")=0,"",ROUND((COUNTIFS('答卷记录'!$C$5:$C$204,$A30,'答卷记录'!$H$5:$H$204,">=9")-COUNTIFS('答卷记录'!$C$5:$C$204,$A30,'答卷记录'!$H$5:$H$204,"<=6"))/COUNTIFS('答卷记录'!$C$5:$C$204,$A30,'答卷记录'!$H$5:$H$204,">=0")*100,0)) | I30: =COUNTIFS('答卷记录'!$C$5:$C$204,$A30,'答卷记录'!$L$5:$L$204,"是")
A32: 聊天星级评分（从“分析”>“满意度”复制）
A33: 星级 | B33: 评分数（填写）
A34: 5 星 | B34: 31
A35: 4 星 | B35: 9
A36: 3 星 | B36: 3
A37: 2 星 | B37: 2
A38: 1 星 | B38: 1
A39: 评分总数 | B39: =SUM($B$34:$B$38)
A40: 4 星或 5 星 | B40: =IF($B$39=0,"",($B$34+$B$35)/$B$39)
A41: 平均评分 | B41: =IF($B$39=0,"",(5*$B$34+4*$B$35+3*$B$36+2*$B$37+$B$38)/$B$39)
A43: 待回复或已逾期的跟进
A44: # | B44: 答卷日期 | C44: 客户 | D44: 问卷 | E44: 回复截止日 | F44: 状态 | G44: 反馈负责人
A45: 1 | B45: =IFERROR(INDEX('答卷记录'!$A$5:$A$204,MATCH($A45,'答卷记录'!$Q$5:$Q$204,0)),"") | C45: =IFERROR(INDEX('答卷记录'!$B$5:$B$204,MATCH($A45,'答卷记录'!$Q$5:$Q$204,0)),"") | D45: =IFERROR(INDEX('答卷记录'!$C$5:$C$204,MATCH($A45,'答卷记录'!$Q$5:$Q$204,0)),"") | E45: =IFERROR(INDEX('答卷记录'!$M$5:$M$204,MATCH($A45,'答卷记录'!$Q$5:$Q$204,0)),"") | F45: =IFERROR(INDEX('答卷记录'!$O$5:$O$204,MATCH($A45,'答卷记录'!$Q$5:$Q$204,0)),"") | G45: =IFERROR(INDEX('答卷记录'!$K$5:$K$204,MATCH($A45,'答卷记录'!$Q$5:$Q$204,0)),"")
A46: 2 | B46: =IFERROR(INDEX('答卷记录'!$A$5:$A$204,MATCH($A46,'答卷记录'!$Q$5:$Q$204,0)),"") | C46: =IFERROR(INDEX('答卷记录'!$B$5:$B$204,MATCH($A46,'答卷记录'!$Q$5:$Q$204,0)),"") | D46: =IFERROR(INDEX('答卷记录'!$C$5:$C$204,MATCH($A46,'答卷记录'!$Q$5:$Q$204,0)),"") | E46: =IFERROR(INDEX('答卷记录'!$M$5:$M$204,MATCH($A46,'答卷记录'!$Q$5:$Q$204,0)),"") | F46: =IFERROR(INDEX('答卷记录'!$O$5:$O$204,MATCH($A46,'答卷记录'!$Q$5:$Q$204,0)),"") | G46: =IFERROR(INDEX('答卷记录'!$K$5:$K$204,MATCH($A46,'答卷记录'!$Q$5:$Q$204,0)),"")
A47: 3 | B47: =IFERROR(INDEX('答卷记录'!$A$5:$A$204,MATCH($A47,'答卷记录'!$Q$5:$Q$204,0)),"") | C47: =IFERROR(INDEX('答卷记录'!$B$5:$B$204,MATCH($A47,'答卷记录'!$Q$5:$Q$204,0)),"") | D47: =IFERROR(INDEX('答卷记录'!$C$5:$C$204,MATCH($A47,'答卷记录'!$Q$5:$Q$204,0)),"") | E47: =IFERROR(INDEX('答卷记录'!$M$5:$M$204,MATCH($A47,'答卷记录'!$Q$5:$Q$204,0)),"") | F47: =IFERROR(INDEX('答卷记录'!$O$5:$O$204,MATCH($A47,'答卷记录'!$Q$5:$Q$204,0)),"") | G47: =IFERROR(INDEX('答卷记录'!$K$5:$K$204,MATCH($A47,'答卷记录'!$Q$5:$Q$204,0)),"")
A48: 4 | B48: =IFERROR(INDEX('答卷记录'!$A$5:$A$204,MATCH($A48,'答卷记录'!$Q$5:$Q$204,0)),"") | C48: =IFERROR(INDEX('答卷记录'!$B$5:$B$204,MATCH($A48,'答卷记录'!$Q$5:$Q$204,0)),"") | D48: =IFERROR(INDEX('答卷记录'!$C$5:$C$204,MATCH($A48,'答卷记录'!$Q$5:$Q$204,0)),"") | E48: =IFERROR(INDEX('答卷记录'!$M$5:$M$204,MATCH($A48,'答卷记录'!$Q$5:$Q$204,0)),"") | F48: =IFERROR(INDEX('答卷记录'!$O$5:$O$204,MATCH($A48,'答卷记录'!$Q$5:$Q$204,0)),"") | G48: =IFERROR(INDEX('答卷记录'!$K$5:$K$204,MATCH($A48,'答卷记录'!$Q$5:$Q$204,0)),"")
A49: 5 | B49: =IFERROR(INDEX('答卷记录'!$A$5:$A$204,MATCH($A49,'答卷记录'!$Q$5:$Q$204,0)),"") | C49: =IFERROR(INDEX('答卷记录'!$B$5:$B$204,MATCH($A49,'答卷记录'!$Q$5:$Q$204,0)),"") | D49: =IFERROR(INDEX('答卷记录'!$C$5:$C$204,MATCH($A49,'答卷记录'!$Q$5:$Q$204,0)),"") | E49: =IFERROR(INDEX('答卷记录'!$M$5:$M$204,MATCH($A49,'答卷记录'!$Q$5:$Q$204,0)),"") | F49: =IFERROR(INDEX('答卷记录'!$O$5:$O$204,MATCH($A49,'答卷记录'!$Q$5:$Q$204,0)),"") | G49: =IFERROR(INDEX('答卷记录'!$K$5:$K$204,MATCH($A49,'答卷记录'!$Q$5:$Q$204,0)),"")
A50: 6 | B50: =IFERROR(INDEX('答卷记录'!$A$5:$A$204,MATCH($A50,'答卷记录'!$Q$5:$Q$204,0)),"") | C50: =IFERROR(INDEX('答卷记录'!$B$5:$B$204,MATCH($A50,'答卷记录'!$Q$5:$Q$204,0)),"") | D50: =IFERROR(INDEX('答卷记录'!$C$5:$C$204,MATCH($A50,'答卷记录'!$Q$5:$Q$204,0)),"") | E50: =IFERROR(INDEX('答卷记录'!$M$5:$M$204,MATCH($A50,'答卷记录'!$Q$5:$Q$204,0)),"") | F50: =IFERROR(INDEX('答卷记录'!$O$5:$O$204,MATCH($A50,'答卷记录'!$Q$5:$Q$204,0)),"") | G50: =IFERROR(INDEX('答卷记录'!$K$5:$K$204,MATCH($A50,'答卷记录'!$Q$5:$Q$204,0)),"")
A51: 7 | B51: =IFERROR(INDEX('答卷记录'!$A$5:$A$204,MATCH($A51,'答卷记录'!$Q$5:$Q$204,0)),"") | C51: =IFERROR(INDEX('答卷记录'!$B$5:$B$204,MATCH($A51,'答卷记录'!$Q$5:$Q$204,0)),"") | D51: =IFERROR(INDEX('答卷记录'!$C$5:$C$204,MATCH($A51,'答卷记录'!$Q$5:$Q$204,0)),"") | E51: =IFERROR(INDEX('答卷记录'!$M$5:$M$204,MATCH($A51,'答卷记录'!$Q$5:$Q$204,0)),"") | F51: =IFERROR(INDEX('答卷记录'!$O$5:$O$204,MATCH($A51,'答卷记录'!$Q$5:$Q$204,0)),"") | G51: =IFERROR(INDEX('答卷记录'!$K$5:$K$204,MATCH($A51,'答卷记录'!$Q$5:$Q$204,0)),"")
A52: 8 | B52: =IFERROR(INDEX('答卷记录'!$A$5:$A$204,MATCH($A52,'答卷记录'!$Q$5:$Q$204,0)),"") | C52: =IFERROR(INDEX('答卷记录'!$B$5:$B$204,MATCH($A52,'答卷记录'!$Q$5:$Q$204,0)),"") | D52: =IFERROR(INDEX('答卷记录'!$C$5:$C$204,MATCH($A52,'答卷记录'!$Q$5:$Q$204,0)),"") | E52: =IFERROR(INDEX('答卷记录'!$M$5:$M$204,MATCH($A52,'答卷记录'!$Q$5:$Q$204,0)),"") | F52: =IFERROR(INDEX('答卷记录'!$O$5:$O$204,MATCH($A52,'答卷记录'!$Q$5:$Q$204,0)),"") | G52: =IFERROR(INDEX('答卷记录'!$K$5:$K$204,MATCH($A52,'答卷记录'!$Q$5:$Q$204,0)),"")
A53: 9 | B53: =IFERROR(INDEX('答卷记录'!$A$5:$A$204,MATCH($A53,'答卷记录'!$Q$5:$Q$204,0)),"") | C53: =IFERROR(INDEX('答卷记录'!$B$5:$B$204,MATCH($A53,'答卷记录'!$Q$5:$Q$204,0)),"") | D53: =IFERROR(INDEX('答卷记录'!$C$5:$C$204,MATCH($A53,'答卷记录'!$Q$5:$Q$204,0)),"") | E53: =IFERROR(INDEX('答卷记录'!$M$5:$M$204,MATCH($A53,'答卷记录'!$Q$5:$Q$204,0)),"") | F53: =IFERROR(INDEX('答卷记录'!$O$5:$O$204,MATCH($A53,'答卷记录'!$Q$5:$Q$204,0)),"") | G53: =IFERROR(INDEX('答卷记录'!$K$5:$K$204,MATCH($A53,'答卷记录'!$Q$5:$Q$204,0)),"")
A54: 10 | B54: =IFERROR(INDEX('答卷记录'!$A$5:$A$204,MATCH($A54,'答卷记录'!$Q$5:$Q$204,0)),"") | C54: =IFERROR(INDEX('答卷记录'!$B$5:$B$204,MATCH($A54,'答卷记录'!$Q$5:$Q$204,0)),"") | D54: =IFERROR(INDEX('答卷记录'!$C$5:$C$204,MATCH($A54,'答卷记录'!$Q$5:$Q$204,0)),"") | E54: =IFERROR(INDEX('答卷记录'!$M$5:$M$204,MATCH($A54,'答卷记录'!$Q$5:$Q$204,0)),"") | F54: =IFERROR(INDEX('答卷记录'!$O$5:$O$204,MATCH($A54,'答卷记录'!$Q$5:$Q$204,0)),"") | G54: =IFERROR(INDEX('答卷记录'!$K$5:$K$204,MATCH($A54,'答卷记录'!$Q$5:$Q$204,0)),"")
A55: 11 | B55: =IFERROR(INDEX('答卷记录'!$A$5:$A$204,MATCH($A55,'答卷记录'!$Q$5:$Q$204,0)),"") | C55: =IFERROR(INDEX('答卷记录'!$B$5:$B$204,MATCH($A55,'答卷记录'!$Q$5:$Q$204,0)),"") | D55: =IFERROR(INDEX('答卷记录'!$C$5:$C$204,MATCH($A55,'答卷记录'!$Q$5:$Q$204,0)),"") | E55: =IFERROR(INDEX('答卷记录'!$M$5:$M$204,MATCH($A55,'答卷记录'!$Q$5:$Q$204,0)),"") | F55: =IFERROR(INDEX('答卷记录'!$O$5:$O$204,MATCH($A55,'答卷记录'!$Q$5:$Q$204,0)),"") | G55: =IFERROR(INDEX('答卷记录'!$K$5:$K$204,MATCH($A55,'答卷记录'!$Q$5:$Q$204,0)),"")
A56: 12 | B56: =IFERROR(INDEX('答卷记录'!$A$5:$A$204,MATCH($A56,'答卷记录'!$Q$5:$Q$204,0)),"") | C56: =IFERROR(INDEX('答卷记录'!$B$5:$B$204,MATCH($A56,'答卷记录'!$Q$5:$Q$204,0)),"") | D56: =IFERROR(INDEX('答卷记录'!$C$5:$C$204,MATCH($A56,'答卷记录'!$Q$5:$Q$204,0)),"") | E56: =IFERROR(INDEX('答卷记录'!$M$5:$M$204,MATCH($A56,'答卷记录'!$Q$5:$Q$204,0)),"") | F56: =IFERROR(INDEX('答卷记录'!$O$5:$O$204,MATCH($A56,'答卷记录'!$Q$5:$Q$204,0)),"") | G56: =IFERROR(INDEX('答卷记录'!$K$5:$K$204,MATCH($A56,'答卷记录'!$Q$5:$Q$204,0)),"")
... A64: 20 | B64: =IFERROR(INDEX('答卷记录'!$A$5:$A$204,MATCH($A64,'答卷记录'!$Q$5:$Q$204,0)),"") | C64: =IFERROR(INDEX('答卷记录'!$B$5:$B$204,MATCH($A64,'答卷记录'!$Q$5:$Q$204,0)),"") | D64: =IFERROR(INDEX('答卷记录'!$C$5:$C$204,MATCH($A64,'答卷记录'!$Q$5:$Q$204,0)),"") | E64: =IFERROR(INDEX('答卷记录'!$M$5:$M$204,MATCH($A64,'答卷记录'!$Q$5:$Q$204,0)),"") | F64: =IFERROR(INDEX('答卷记录'!$O$5:$O$204,MATCH($A64,'答卷记录'!$Q$5:$Q$204,0)),"") | G64: =IFERROR(INDEX('答卷记录'!$K$5:$K$204,MATCH($A64,'答卷记录'!$Q$5:$Q$204,0)),"")
A66: CRMsoftware.pro 免费模板。示例数据为虚构。

Sheet 列表和设置
A1: 列表和设置
A2: 修改列表即可更改下拉选项。“汇总”按此列表中的名称统计前 3 份问卷。
A4: 问卷 | B4: 反馈负责人 | C4: 是 / 否 | E4: 设置 | F4: 值
A5: 工单或聊天后 | B5: Maya Chen，客户服务主管 | C5: 是 | E5: 满意度低分：不高于 | F5: 2
A6: 季度 NPS | B6: Ruth Alvarez，创始人 | C6: 否 | E6: 费力度低分：不高于 | F6: 3
A7: 上手引导后 | B7: Leo Park，上手引导 | E7: 回复时限（工作日） | F7: 1
E8: 小样本提示：答卷数少于 | F8: 30
