Workbook

Sheet 请求
A1: 转介绍与评价跟踪表
A2: 每次请求一行。填写请求日期：跟进日期会自动填为 7 天后，落在周末的日期顺延到周一。
A3: 填写唯一一次跟进的发送日期、结果，以及新线索或评价链接。状态和“汇总”工作表会自动更新。示例日期以今天为基准。
A4: 请求日期 | B4: 客户 | C4: 公司 | D4: 触发时机 | E4: 渠道 | F4: 类型 | G4: 介绍已发 | H4: 跟进日期 | I4: 跟进已发 | J4: 结果 | K4: 新线索或评价链接 | L4: 负责人 | M4: 状态 | N4: 备注
A5: =TODAY()-15 | B5: Priya Nair | D5: 5 星评分 | E5: WhatsApp | F5: 评价 | G5: 无需 | H5: =IF($A5="","",WORKDAY($A5+6,1)) | J5: 已留评价 | K5: Google 评价，9 月 23 日 | L5: Kim | M5: =IF($A5="","",IF($J5<>"","已完成",IF($I5<>"",IF(TODAY()-$I5>=7,"按无回应关闭","等待中"),IF($H5<TODAY(),"逾期",IF($H5=TODAY(),"今天跟进","等待中"))))) | N5: 9 月 23 日已回复评价
A6: =TODAY()-2 | B6: Priya Nair | D6: 成果交付 | E6: 邮件 | F6: 转介绍 | G6: 是 | H6: =IF($A6="","",WORKDAY($A6+6,1)) | J6: 已介绍 | K6: Tom Keller，10 月 7 日上门 | L6: Kim | M6: =IF($A6="","",IF($J6<>"","已完成",IF($I6<>"",IF(TODAY()-$I6>=7,"按无回应关闭","等待中"),IF($H6<TODAY(),"逾期",IF($H6=TODAY(),"今天跟进","等待中"))))) | N6: 奖励：Tom 的工作完成后抵扣 $50
A7: =TODAY()-20 | B7: Elena Brooks | C7: Brooks Lettings | D7: 续约或复购 | E7: 邮件 | F7: 转介绍 | G7: 是 | H7: =IF($A7="","",WORKDAY($A7+6,1)) | J7: 已介绍 | K7: Sam Lee，Harbor Court 公寓 | L7: Dan | M7: =IF($A7="","",IF($J7<>"","已完成",IF($I7<>"",IF(TODAY()-$I7>=7,"按无回应关闭","等待中"),IF($H7<TODAY(),"逾期",IF($H7=TODAY(),"今天跟进","等待中"))))) | N7: 服务合同于 9 月 15 日续签
A8: =TODAY()-12 | B8: Jonas Weber | D8: 成果交付 | E8: SMS | F8: 评价 | G8: 无需 | H8: =IF($A8="","",WORKDAY($A8+6,1)) | J8: 已留评价 | K8: Google 评价，5 星 | L8: Kim | M8: =IF($A8="","",IF($J8<>"","已完成",IF($I8<>"",IF(TODAY()-$I8>=7,"按无回应关闭","等待中"),IF($H8<TODAY(),"逾期",IF($H8=TODAY(),"今天跟进","等待中")))))
A9: =TODAY()-18 | B9: Amara Okafor | C9: Okafor Bakery | D9: 客户致谢 | E9: WhatsApp | F9: 转介绍 | G9: 是 | H9: =IF($A9="","",WORKDAY($A9+6,1)) | J9: 已介绍 | K9: Nina Petrov，Mill Street 的咖啡馆 | L9: Dan | M9: =IF($A9="","",IF($J9<>"","已完成",IF($I9<>"",IF(TODAY()-$I9>=7,"按无回应关闭","等待中"),IF($H9<TODAY(),"逾期",IF($H9=TODAY(),"今天跟进","等待中"))))) | N9: 介绍当天已转发
A10: =TODAY()-7 | B10: Lucas Moreau | D10: 5 星评分 | E10: 邮件 | F10: 评价 | G10: 无需 | H10: =IF($A10="","",WORKDAY($A10+6,1)) | L10: Dan | M10: =IF($A10="","",IF($J10<>"","已完成",IF($I10<>"",IF(TODAY()-$I10>=7,"按无回应关闭","等待中"),IF($H10<TODAY(),"逾期",IF($H10=TODAY(),"今天跟进","等待中"))))) | N10: 今天再发一次链接
A11: =TODAY()-11 | B11: Hannah Lindqvist | C11: Lindqvist Studio | D11: 成果交付 | E11: 邮件 | F11: 转介绍 | G11: 否 | H11: =IF($A11="","",WORKDAY($A11+6,1)) | L11: Kim | M11: =IF($A11="","",IF($J11<>"","已完成",IF($I11<>"",IF(TODAY()-$I11>=7,"按无回应关闭","等待中"),IF($H11<TODAY(),"逾期",IF($H11=TODAY(),"今天跟进","等待中"))))) | N11: 跟进已逾期：发送介绍文本
A12: =TODAY()-16 | B12: Ravi Shah | D12: 客户致谢 | E12: WhatsApp | F12: 评价 | G12: 无需 | H12: =IF($A12="","",WORKDAY($A12+6,1)) | I12: =TODAY()-9 | L12: Kim | M12: =IF($A12="","",IF($J12<>"","已完成",IF($I12<>"",IF(TODAY()-$I12>=7,"按无回应关闭","等待中"),IF($H12<TODAY(),"逾期",IF($H12=TODAY(),"今天跟进","等待中")))))
A13: =TODAY()-25 | B13: Grace Mitchell | C13: Mitchell & Co Accountants | D13: 续约或复购 | E13: 当面 | F13: 转介绍 | G13: 否 | H13: =IF($A13="","",WORKDAY($A13+6,1)) | J13: 已拒绝 | L13: Dan | M13: =IF($A13="","",IF($J13<>"","已完成",IF($I13<>"",IF(TODAY()-$I13>=7,"按无回应关闭","等待中"),IF($H13<TODAY(),"逾期",IF($H13=TODAY(),"今天跟进","等待中"))))) | N13: 2027 年 9 月前不再请求
H14: =IF($A14="","",WORKDAY($A14+6,1)) | M14: =IF($A14="","",IF($J14<>"","已完成",IF($I14<>"",IF(TODAY()-$I14>=7,"按无回应关闭","等待中"),IF($H14<TODAY(),"逾期",IF($H14=TODAY(),"今天跟进","等待中")))))
H15: =IF($A15="","",WORKDAY($A15+6,1)) | M15: =IF($A15="","",IF($J15<>"","已完成",IF($I15<>"",IF(TODAY()-$I15>=7,"按无回应关闭","等待中"),IF($H15<TODAY(),"逾期",IF($H15=TODAY(),"今天跟进","等待中")))))
H16: =IF($A16="","",WORKDAY($A16+6,1)) | M16: =IF($A16="","",IF($J16<>"","已完成",IF($I16<>"",IF(TODAY()-$I16>=7,"按无回应关闭","等待中"),IF($H16<TODAY(),"逾期",IF($H16=TODAY(),"今天跟进","等待中")))))
H17: =IF($A17="","",WORKDAY($A17+6,1)) | M17: =IF($A17="","",IF($J17<>"","已完成",IF($I17<>"",IF(TODAY()-$I17>=7,"按无回应关闭","等待中"),IF($H17<TODAY(),"逾期",IF($H17=TODAY(),"今天跟进","等待中")))))
H18: =IF($A18="","",WORKDAY($A18+6,1)) | M18: =IF($A18="","",IF($J18<>"","已完成",IF($I18<>"",IF(TODAY()-$I18>=7,"按无回应关闭","等待中"),IF($H18<TODAY(),"逾期",IF($H18=TODAY(),"今天跟进","等待中")))))
H19: =IF($A19="","",WORKDAY($A19+6,1)) | M19: =IF($A19="","",IF($J19<>"","已完成",IF($I19<>"",IF(TODAY()-$I19>=7,"按无回应关闭","等待中"),IF($H19<TODAY(),"逾期",IF($H19=TODAY(),"今天跟进","等待中")))))
H20: =IF($A20="","",WORKDAY($A20+6,1)) | M20: =IF($A20="","",IF($J20<>"","已完成",IF($I20<>"",IF(TODAY()-$I20>=7,"按无回应关闭","等待中"),IF($H20<TODAY(),"逾期",IF($H20=TODAY(),"今天跟进","等待中")))))
H21: =IF($A21="","",WORKDAY($A21+6,1)) | M21: =IF($A21="","",IF($J21<>"","已完成",IF($I21<>"",IF(TODAY()-$I21>=7,"按无回应关闭","等待中"),IF($H21<TODAY(),"逾期",IF($H21=TODAY(),"今天跟进","等待中")))))
H22: =IF($A22="","",WORKDAY($A22+6,1)) | M22: =IF($A22="","",IF($J22<>"","已完成",IF($I22<>"",IF(TODAY()-$I22>=7,"按无回应关闭","等待中"),IF($H22<TODAY(),"逾期",IF($H22=TODAY(),"今天跟进","等待中")))))
H23: =IF($A23="","",WORKDAY($A23+6,1)) | M23: =IF($A23="","",IF($J23<>"","已完成",IF($I23<>"",IF(TODAY()-$I23>=7,"按无回应关闭","等待中"),IF($H23<TODAY(),"逾期",IF($H23=TODAY(),"今天跟进","等待中")))))
H24: =IF($A24="","",WORKDAY($A24+6,1)) | M24: =IF($A24="","",IF($J24<>"","已完成",IF($I24<>"",IF(TODAY()-$I24>=7,"按无回应关闭","等待中"),IF($H24<TODAY(),"逾期",IF($H24=TODAY(),"今天跟进","等待中")))))
H25: =IF($A25="","",WORKDAY($A25+6,1)) | M25: =IF($A25="","",IF($J25<>"","已完成",IF($I25<>"",IF(TODAY()-$I25>=7,"按无回应关闭","等待中"),IF($H25<TODAY(),"逾期",IF($H25=TODAY(),"今天跟进","等待中")))))
... H204: =IF($A204="","",WORKDAY($A204+6,1)) | M204: =IF($A204="","",IF($J204<>"","已完成",IF($I204<>"",IF(TODAY()-$I204>=7,"按无回应关闭","等待中"),IF($H204<TODAY(),"逾期",IF($H204=TODAY(),"今天跟进","等待中")))))

Sheet 汇总
A1: 转介绍与评价汇总
A2: 数据来自“请求”工作表。修改任意一行后会自动更新。
A4: 指标 | B4: 合计
A5: 跟踪表中的请求 | B5: =COUNTA('请求'!$B$5:$B$204)
A6: 转介绍请求 | B6: =COUNTIF('请求'!$F$5:$F$204,"转介绍")
A7: 评价邀请 | B7: =COUNTIF('请求'!$F$5:$F$204,"评价")
A8: 已介绍 | B8: =COUNTIF('请求'!$J$5:$J$204,"已介绍")
A9: 已留评价 | B9: =COUNTIF('请求'!$J$5:$J$204,"已留评价")
A10: 已拒绝 | B10: =COUNTIF('请求'!$J$5:$J$204,"已拒绝")
A11: 无回应 | B11: =COUNTIF('请求'!$J$5:$J$204,"无回应")
A12: 进行中的请求 | B12: =B5-COUNTA('请求'!$J$5:$J$204)
A13: 转介绍转化率（每次转介绍请求带来的介绍） | B13: =IF(B6=0,"",B8/B6)
A14: 评价转化率（每次评价邀请带来的评价） | B14: =IF(B7=0,"",B9/B7)
A15: 今天到期的跟进 | B15: =COUNTIF('请求'!$M$5:$M$204,"今天跟进")
A16: 逾期的跟进 | B16: =COUNTIF('请求'!$M$5:$M$204,"逾期")
A17: 需按无回应关闭的请求 | B17: =COUNTIF('请求'!$M$5:$M$204,"按无回应关闭")
A19: 按触发时机
A20: 触发时机 | B20: 请求 | C20: 介绍 | D20: 评价
A21: 成果交付 | B21: =COUNTIF('请求'!$D$5:$D$204,A21) | C21: =COUNTIFS('请求'!$D$5:$D$204,A21,'请求'!$J$5:$J$204,"已介绍") | D21: =COUNTIFS('请求'!$D$5:$D$204,A21,'请求'!$J$5:$J$204,"已留评价")
A22: 客户致谢 | B22: =COUNTIF('请求'!$D$5:$D$204,A22) | C22: =COUNTIFS('请求'!$D$5:$D$204,A22,'请求'!$J$5:$J$204,"已介绍") | D22: =COUNTIFS('请求'!$D$5:$D$204,A22,'请求'!$J$5:$J$204,"已留评价")
A23: 5 星评分 | B23: =COUNTIF('请求'!$D$5:$D$204,A23) | C23: =COUNTIFS('请求'!$D$5:$D$204,A23,'请求'!$J$5:$J$204,"已介绍") | D23: =COUNTIFS('请求'!$D$5:$D$204,A23,'请求'!$J$5:$J$204,"已留评价")
A24: 续约或复购 | B24: =COUNTIF('请求'!$D$5:$D$204,A24) | C24: =COUNTIFS('请求'!$D$5:$D$204,A24,'请求'!$J$5:$J$204,"已介绍") | D24: =COUNTIFS('请求'!$D$5:$D$204,A24,'请求'!$J$5:$J$204,"已留评价")
A26: 按渠道
A27: 渠道 | B27: 请求 | C27: 介绍 | D27: 评价
A28: 邮件 | B28: =COUNTIF('请求'!$E$5:$E$204,A28) | C28: =COUNTIFS('请求'!$E$5:$E$204,A28,'请求'!$J$5:$J$204,"已介绍") | D28: =COUNTIFS('请求'!$E$5:$E$204,A28,'请求'!$J$5:$J$204,"已留评价")
A29: SMS | B29: =COUNTIF('请求'!$E$5:$E$204,A29) | C29: =COUNTIFS('请求'!$E$5:$E$204,A29,'请求'!$J$5:$J$204,"已介绍") | D29: =COUNTIFS('请求'!$E$5:$E$204,A29,'请求'!$J$5:$J$204,"已留评价")
A30: WhatsApp | B30: =COUNTIF('请求'!$E$5:$E$204,A30) | C30: =COUNTIFS('请求'!$E$5:$E$204,A30,'请求'!$J$5:$J$204,"已介绍") | D30: =COUNTIFS('请求'!$E$5:$E$204,A30,'请求'!$J$5:$J$204,"已留评价")
A31: 聊天 | B31: =COUNTIF('请求'!$E$5:$E$204,A31) | C31: =COUNTIFS('请求'!$E$5:$E$204,A31,'请求'!$J$5:$J$204,"已介绍") | D31: =COUNTIFS('请求'!$E$5:$E$204,A31,'请求'!$J$5:$J$204,"已留评价")
A32: 当面 | B32: =COUNTIF('请求'!$E$5:$E$204,A32) | C32: =COUNTIFS('请求'!$E$5:$E$204,A32,'请求'!$J$5:$J$204,"已介绍") | D32: =COUNTIFS('请求'!$E$5:$E$204,A32,'请求'!$J$5:$J$204,"已留评价")
A34: 按负责人
A35: 负责人 | B35: 进行中的请求 | C35: 逾期 | D35: 今天到期
A36: =IF('列表'!A5="","",'列表'!A5) | B36: =IF(A36="","",COUNTIF('请求'!$L$5:$L$204,A36)-COUNTIFS('请求'!$L$5:$L$204,A36,'请求'!$J$5:$J$204,"<>")) | C36: =IF(A36="","",COUNTIFS('请求'!$L$5:$L$204,A36,'请求'!$M$5:$M$204,"逾期")) | D36: =IF(A36="","",COUNTIFS('请求'!$L$5:$L$204,A36,'请求'!$M$5:$M$204,"今天跟进"))
A37: =IF('列表'!A6="","",'列表'!A6) | B37: =IF(A37="","",COUNTIF('请求'!$L$5:$L$204,A37)-COUNTIFS('请求'!$L$5:$L$204,A37,'请求'!$J$5:$J$204,"<>")) | C37: =IF(A37="","",COUNTIFS('请求'!$L$5:$L$204,A37,'请求'!$M$5:$M$204,"逾期")) | D37: =IF(A37="","",COUNTIFS('请求'!$L$5:$L$204,A37,'请求'!$M$5:$M$204,"今天跟进"))
A38: =IF('列表'!A7="","",'列表'!A7) | B38: =IF(A38="","",COUNTIF('请求'!$L$5:$L$204,A38)-COUNTIFS('请求'!$L$5:$L$204,A38,'请求'!$J$5:$J$204,"<>")) | C38: =IF(A38="","",COUNTIFS('请求'!$L$5:$L$204,A38,'请求'!$M$5:$M$204,"逾期")) | D38: =IF(A38="","",COUNTIFS('请求'!$L$5:$L$204,A38,'请求'!$M$5:$M$204,"今天跟进"))
A39: =IF('列表'!A8="","",'列表'!A8) | B39: =IF(A39="","",COUNTIF('请求'!$L$5:$L$204,A39)-COUNTIFS('请求'!$L$5:$L$204,A39,'请求'!$J$5:$J$204,"<>")) | C39: =IF(A39="","",COUNTIFS('请求'!$L$5:$L$204,A39,'请求'!$M$5:$M$204,"逾期")) | D39: =IF(A39="","",COUNTIFS('请求'!$L$5:$L$204,A39,'请求'!$M$5:$M$204,"今天跟进"))
A40: =IF('列表'!A9="","",'列表'!A9) | B40: =IF(A40="","",COUNTIF('请求'!$L$5:$L$204,A40)-COUNTIFS('请求'!$L$5:$L$204,A40,'请求'!$J$5:$J$204,"<>")) | C40: =IF(A40="","",COUNTIFS('请求'!$L$5:$L$204,A40,'请求'!$M$5:$M$204,"逾期")) | D40: =IF(A40="","",COUNTIFS('请求'!$L$5:$L$204,A40,'请求'!$M$5:$M$204,"今天跟进"))
A41: =IF('列表'!A10="","",'列表'!A10) | B41: =IF(A41="","",COUNTIF('请求'!$L$5:$L$204,A41)-COUNTIFS('请求'!$L$5:$L$204,A41,'请求'!$J$5:$J$204,"<>")) | C41: =IF(A41="","",COUNTIFS('请求'!$L$5:$L$204,A41,'请求'!$M$5:$M$204,"逾期")) | D41: =IF(A41="","",COUNTIFS('请求'!$L$5:$L$204,A41,'请求'!$M$5:$M$204,"今天跟进"))
A43: CRMsoftware.pro 免费模板。示例数据均为虚构。

Sheet 列表
A1: 列表和触发时机
A2: 在这里修改负责人姓名。“请求”工作表中的下拉列表使用这些列表。
A4: 负责人 | B4: 触发时机 | C4: 渠道 | D4: 类型 | E4: 介绍已发 | F4: 结果
A5: Kim | B5: 成果交付 | C5: 邮件 | D5: 转介绍 | E5: 是 | F5: 已介绍
A6: Dan | B6: 客户致谢 | C6: SMS | D6: 评价 | E6: 否 | F6: 已留评价
B7: 5 星评分 | C7: WhatsApp | E7: 无需 | F7: 已拒绝
B8: 续约或复购 | C8: 聊天 | F8: 无回应
C9: 当面
A17: 四个触发时机
A18: 触发时机 | B18: 算什么 | C18: 多久内开口
A19: 成果交付 | B19: 工作或订单已完成，并得到客户确认。 | C19: 评价：1 天内。转介绍：2 到 4 周内。
A20: 客户致谢 | B20: 书面的感谢，而不是客套的告别。 | C20: 当天，在您的回复中。
A21: 5 星评分 | B21: 聊天窗口中给了 5 星，或 4 星外加正面评论。 | C21: 1 天内。
A22: 续约或复购 | B22: 第二次购买、合同续签或升级。 | C22: 同一周内。
