Workbook

Sheet 交易邮件记录
A1: 交易邮件记录
A2: 每封销售邮件一行。选择阶段，填写邮件主题和日期，再填写唯一的下一步及其截止日期。
A3: 下一步完成后填写“完成日期”。“下一步状态”“逾期天数”“交易状态”和“汇总”会自动更新。Olive Branch 各行是本页示例；其他样例的日期会随今天变化。
A4: 交易 | B4: 联系人 | C4: 负责人 | D4: 阶段 | E4: 已发邮件（主题） | F4: 发送日期 | G4: 回复 | H4: 下一步 | I4: 截止日期 | J4: 完成日期 | K4: 下一步状态 | L4: 逾期天数 | M4: 交易状态 | N4: 备注
A5: Olive Branch Bistro Group | B5: Ines Moreau | C5: Jonah | D5: 回复咨询线索 | E5: 关于 4 家餐厅的周报：两个可选通话时间 | F5: 46297 | G5: 是 | H5: 需求挖掘电话，10 月 6 日周二 10:00 | I5: 46301 | J5: 46301 | K5: =IF(OR($A5="",$F5=""),"",IF($J5<>"","已完成",IF(OR($H5="",$I5=""),IF($M5="进行中","无带日期的下一步",""),IF(TODAY()>$I5,"已逾期",IF(TODAY()=$I5,"今天到期","未到期"))))) | L5: =IF($K5="已逾期",TODAY()-$I5,"") | M5: =IF($A5="","",IF(COUNTIFS($A$5:$A$204,$A5,$D$5:$D$204,'列表'!$A$10)>0,"赢单",IF(COUNTIFS($A$5:$A$204,$A5,$D$5:$D$204,'列表'!$A$11)>0,"丢单","进行中"))) | N5: 来自网站聊天的线索，10 月 1 日周四 21:40。Ines 在 42 分钟后回复。
A6: Olive Branch Bistro Group | B6: Ines Moreau | C6: Jonah | D6: 通话或演示总结 | E6: 总结：Olive Branch 的统一周报 | F6: 46301 | G6: 是 | H6: 10 月 12 日周一前发送方案 | I6: 46307 | J6: 46307 | K6: =IF(OR($A6="",$F6=""),"",IF($J6<>"","已完成",IF(OR($H6="",$I6=""),IF($M6="进行中","无带日期的下一步",""),IF(TODAY()>$I6,"已逾期",IF(TODAY()=$I6,"今天到期","未到期"))))) | L6: =IF($K6="已逾期",TODAY()-$I6,"") | M6: =IF($A6="","",IF(COUNTIFS($A$5:$A$204,$A6,$D$5:$D$204,'列表'!$A$10)>0,"赢单",IF(COUNTIFS($A$5:$A$204,$A6,$D$5:$D$204,'列表'!$A$11)>0,"丢单","进行中"))) | N6: Ines 和 Paul Okonkwo 将在 10 月 28 日的预算会议上做决定
A7: Olive Branch Bistro Group | B7: Ines Moreau | C7: Jonah | D7: 价格询问 | E7: 价格说明：Olive Branch，每月 $480 | F7: 46302 | G7: 是 | H7: 含按年和按月价格的方案 | I7: 46307 | J7: 46307 | K7: =IF(OR($A7="",$F7=""),"",IF($J7<>"","已完成",IF(OR($H7="",$I7=""),IF($M7="进行中","无带日期的下一步",""),IF(TODAY()>$I7,"已逾期",IF(TODAY()=$I7,"今天到期","未到期"))))) | L7: =IF($K7="已逾期",TODAY()-$I7,"") | M7: =IF($A7="","",IF(COUNTIFS($A$5:$A$204,$A7,$D$5:$D$204,'列表'!$A$10)>0,"赢单",IF(COUNTIFS($A$5:$A$204,$A7,$D$5:$D$204,'列表'!$A$11)>0,"丢单","进行中"))) | N7: 每家餐厅每月 $120，按年付费，$900 实施费
A8: Olive Branch Bistro Group | B8: Ines Moreau | C8: Jonah | D8: 方案或报价 | E8: 方案 Q-1042：4 家餐厅的周报 | F8: 46307 | G8: 是 | H8: 与 Ines 和 Paul 通话，10 月 15 日周四 10:00 | I8: 46310 | J8: 46310 | K8: =IF(OR($A8="",$F8=""),"",IF($J8<>"","已完成",IF(OR($H8="",$I8=""),IF($M8="进行中","无带日期的下一步",""),IF(TODAY()>$I8,"已逾期",IF(TODAY()=$I8,"今天到期","未到期"))))) | L8: =IF($K8="已逾期",TODAY()-$I8,"") | M8: =IF($A8="","",IF(COUNTIFS($A$5:$A$204,$A8,$D$5:$D$204,'列表'!$A$10)>0,"赢单",IF(COUNTIFS($A$5:$A$204,$A8,$D$5:$D$204,'列表'!$A$11)>0,"丢单","进行中"))) | N8: 首年 $6,660，有效期至 10 月 30 日
A9: Olive Branch Bistro Group | B9: Ines Moreau, Paul Okonkwo | C9: Jonah | D9: 采购小组沟通 | E9: 供您 10 月 28 日决策参考：价格、条款和开始日期 | F9: 46316 | G9: 是 | H9: 10 月 28 日会议后询问决定 | I9: 46324 | J9: 46324 | K9: =IF(OR($A9="",$F9=""),"",IF($J9<>"","已完成",IF(OR($H9="",$I9=""),IF($M9="进行中","无带日期的下一步",""),IF(TODAY()>$I9,"已逾期",IF(TODAY()=$I9,"今天到期","未到期"))))) | L9: =IF($K9="已逾期",TODAY()-$I9,"") | M9: =IF($A9="","",IF(COUNTIFS($A$5:$A$204,$A9,$D$5:$D$204,'列表'!$A$10)>0,"赢单",IF(COUNTIFS($A$5:$A$204,$A9,$D$5:$D$204,'列表'!$A$11)>0,"丢单","进行中"))) | N9: Paul：按年计费从上线当天（11 月 23 日）开始
A10: Olive Branch Bistro Group | B10: Ines Moreau | C10: Jonah | D10: 赢单：下一步 | E10: 下一步：Olive Branch 11 月 23 日前上线 | F10: 46324 | G10: 是 | H10: 启动会，11 月 3 日周二 10:00 | I10: 46329 | J10: 46329 | K10: =IF(OR($A10="",$F10=""),"",IF($J10<>"","已完成",IF(OR($H10="",$I10=""),IF($M10="进行中","无带日期的下一步",""),IF(TODAY()>$I10,"已逾期",IF(TODAY()=$I10,"今天到期","未到期"))))) | L10: =IF($K10="已逾期",TODAY()-$I10,"") | M10: =IF($A10="","",IF(COUNTIFS($A$5:$A$204,$A10,$D$5:$D$204,'列表'!$A$10)>0,"赢单",IF(COUNTIFS($A$5:$A$204,$A10,$D$5:$D$204,'列表'!$A$11)>0,"丢单","进行中"))) | N10: 在 10 月 28 日的预算会议上获批
A11: Olive Branch，第五家餐厅 | B11: Ines Moreau | C11: Jonah | D11: 续约或增购 | E11: 您的第五家餐厅：要加入报表吗？ | F11: 46350 | G11: 是 | H11: 第五家餐厅的报价 | I11: 46353 | J11: 46352 | K11: =IF(OR($A11="",$F11=""),"",IF($J11<>"","已完成",IF(OR($H11="",$I11=""),IF($M11="进行中","无带日期的下一步",""),IF(TODAY()>$I11,"已逾期",IF(TODAY()=$I11,"今天到期","未到期"))))) | L11: =IF($K11="已逾期",TODAY()-$I11,"") | M11: =IF($A11="","",IF(COUNTIFS($A$5:$A$204,$A11,$D$5:$D$204,'列表'!$A$10)>0,"赢单",IF(COUNTIFS($A$5:$A$204,$A11,$D$5:$D$204,'列表'!$A$11)>0,"丢单","进行中"))) | N11: 每月 $120，另加 $225 实施费。2 月开业。
A12: Harbor Lane Oyster Bar | B12: Mira Kowalczyk | C12: Astrid | D12: 方案或报价 | E12: 方案：2 家餐厅的周报 | F12: =TODAY()-24 | G12: 是 | H12: 决策通话 | I12: =TODAY()-17 | J12: =TODAY()-17 | K12: =IF(OR($A12="",$F12=""),"",IF($J12<>"","已完成",IF(OR($H12="",$I12=""),IF($M12="进行中","无带日期的下一步",""),IF(TODAY()>$I12,"已逾期",IF(TODAY()=$I12,"今天到期","未到期"))))) | L12: =IF($K12="已逾期",TODAY()-$I12,"") | M12: =IF($A12="","",IF(COUNTIFS($A$5:$A$204,$A12,$D$5:$D$204,'列表'!$A$10)>0,"赢单",IF(COUNTIFS($A$5:$A$204,$A12,$D$5:$D$204,'列表'!$A$11)>0,"丢单","进行中")))
A13: Harbor Lane Oyster Bar | B13: Mira Kowalczyk | C13: Astrid | D13: 丢单：询问原因 | E13: 关闭跟进前，想请教一个问题 | F13: =TODAY()-3 | G13: 是 | K13: =IF(OR($A13="",$F13=""),"",IF($J13<>"","已完成",IF(OR($H13="",$I13=""),IF($M13="进行中","无带日期的下一步",""),IF(TODAY()>$I13,"已逾期",IF(TODAY()=$I13,"今天到期","未到期"))))) | L13: =IF($K13="已逾期",TODAY()-$I13,"") | M13: =IF($A13="","",IF(COUNTIFS($A$5:$A$204,$A13,$D$5:$D$204,'列表'!$A$10)>0,"赢单",IF(COUNTIFS($A$5:$A$204,$A13,$D$5:$D$204,'列表'!$A$11)>0,"丢单","进行中"))) | N13: 原因：时机。他们要先开一家新店。
A14: Kiln & Crust Pizza | B14: Desmond Ferreira | C14: Astrid | D14: 回复咨询线索 | E14: 关于 3 家餐厅的周报：两个可选通话时间 | F14: =TODAY()-12 | G14: 是 | H14: 演示通话 | I14: =TODAY()-8 | J14: =TODAY()-8 | K14: =IF(OR($A14="",$F14=""),"",IF($J14<>"","已完成",IF(OR($H14="",$I14=""),IF($M14="进行中","无带日期的下一步",""),IF(TODAY()>$I14,"已逾期",IF(TODAY()=$I14,"今天到期","未到期"))))) | L14: =IF($K14="已逾期",TODAY()-$I14,"") | M14: =IF($A14="","",IF(COUNTIFS($A$5:$A$204,$A14,$D$5:$D$204,'列表'!$A$10)>0,"赢单",IF(COUNTIFS($A$5:$A$204,$A14,$D$5:$D$204,'列表'!$A$11)>0,"丢单","进行中")))
A15: Kiln & Crust Pizza | B15: Desmond Ferreira | C15: Astrid | D15: 通话或演示总结 | E15: 总结：每周一按餐厅统计食材成本 | F15: =TODAY()-8 | G15: 是 | H15: 方案 | I15: =TODAY()-6 | J15: =TODAY()-6 | K15: =IF(OR($A15="",$F15=""),"",IF($J15<>"","已完成",IF(OR($H15="",$I15=""),IF($M15="进行中","无带日期的下一步",""),IF(TODAY()>$I15,"已逾期",IF(TODAY()=$I15,"今天到期","未到期"))))) | L15: =IF($K15="已逾期",TODAY()-$I15,"") | M15: =IF($A15="","",IF(COUNTIFS($A$5:$A$204,$A15,$D$5:$D$204,'列表'!$A$10)>0,"赢单",IF(COUNTIFS($A$5:$A$204,$A15,$D$5:$D$204,'列表'!$A$11)>0,"丢单","进行中")))
A16: Kiln & Crust Pizza | B16: Desmond Ferreira | C16: Astrid | D16: 方案或报价 | E16: 方案：3 家餐厅的周报 | F16: =TODAY()-6 | G16: 否 | H16: 第 5 天邮件：一条有用的信息 | I16: =TODAY()-1 | K16: =IF(OR($A16="",$F16=""),"",IF($J16<>"","已完成",IF(OR($H16="",$I16=""),IF($M16="进行中","无带日期的下一步",""),IF(TODAY()>$I16,"已逾期",IF(TODAY()=$I16,"今天到期","未到期"))))) | L16: =IF($K16="已逾期",TODAY()-$I16,"") | M16: =IF($A16="","",IF(COUNTIFS($A$5:$A$204,$A16,$D$5:$D$204,'列表'!$A$10)>0,"赢单",IF(COUNTIFS($A$5:$A$204,$A16,$D$5:$D$204,'列表'!$A$11)>0,"丢单","进行中"))) | N16: 尚未回复：按照销售跟进邮件序列跟进
A17: Marlowe Street Deli | B17: Dara Whelan | C17: Jonah | D17: 回复咨询线索 | E17: 关于人工成本报表的问题：两个可选通话时间 | F17: =TODAY() | G17: 否 | H17: 需求挖掘电话 | I17: =TODAY()+2 | K17: =IF(OR($A17="",$F17=""),"",IF($J17<>"","已完成",IF(OR($H17="",$I17=""),IF($M17="进行中","无带日期的下一步",""),IF(TODAY()>$I17,"已逾期",IF(TODAY()=$I17,"今天到期","未到期"))))) | L17: =IF($K17="已逾期",TODAY()-$I17,"") | M17: =IF($A17="","",IF(COUNTIFS($A$5:$A$204,$A17,$D$5:$D$204,'列表'!$A$10)>0,"赢单",IF(COUNTIFS($A$5:$A$204,$A17,$D$5:$D$204,'列表'!$A$11)>0,"丢单","进行中")))
A18: Bellhaven Tavern | B18: Solveig Halvorsen | C18: Astrid | D18: 续约或增购 | E18: 您的续约：20 分钟回顾 | F18: =TODAY()-7 | G18: 是 | H18: 续约回顾通话 | I18: =TODAY() | K18: =IF(OR($A18="",$F18=""),"",IF($J18<>"","已完成",IF(OR($H18="",$I18=""),IF($M18="进行中","无带日期的下一步",""),IF(TODAY()>$I18,"已逾期",IF(TODAY()=$I18,"今天到期","未到期"))))) | L18: =IF($K18="已逾期",TODAY()-$I18,"") | M18: =IF($A18="","",IF(COUNTIFS($A$5:$A$204,$A18,$D$5:$D$204,'列表'!$A$10)>0,"赢单",IF(COUNTIFS($A$5:$A$204,$A18,$D$5:$D$204,'列表'!$A$11)>0,"丢单","进行中"))) | N18: 去年起成为客户
A19: Two Rivers Taqueria | B19: Tomas Arroyo | C19: Jonah | D19: 价格询问 | E19: 价格说明：2 家餐厅，每月 $240 | F19: =TODAY()-2 | G19: 否 | H19: 方案 | K19: =IF(OR($A19="",$F19=""),"",IF($J19<>"","已完成",IF(OR($H19="",$I19=""),IF($M19="进行中","无带日期的下一步",""),IF(TODAY()>$I19,"已逾期",IF(TODAY()=$I19,"今天到期","未到期"))))) | L19: =IF($K19="已逾期",TODAY()-$I19,"") | M19: =IF($A19="","",IF(COUNTIFS($A$5:$A$204,$A19,$D$5:$D$204,'列表'!$A$10)>0,"赢单",IF(COUNTIFS($A$5:$A$204,$A19,$D$5:$D$204,'列表'!$A$11)>0,"丢单","进行中"))) | N19: 补上截止日期
K20: =IF(OR($A20="",$F20=""),"",IF($J20<>"","已完成",IF(OR($H20="",$I20=""),IF($M20="进行中","无带日期的下一步",""),IF(TODAY()>$I20,"已逾期",IF(TODAY()=$I20,"今天到期","未到期"))))) | L20: =IF($K20="已逾期",TODAY()-$I20,"") | M20: =IF($A20="","",IF(COUNTIFS($A$5:$A$204,$A20,$D$5:$D$204,'列表'!$A$10)>0,"赢单",IF(COUNTIFS($A$5:$A$204,$A20,$D$5:$D$204,'列表'!$A$11)>0,"丢单","进行中")))
K21: =IF(OR($A21="",$F21=""),"",IF($J21<>"","已完成",IF(OR($H21="",$I21=""),IF($M21="进行中","无带日期的下一步",""),IF(TODAY()>$I21,"已逾期",IF(TODAY()=$I21,"今天到期","未到期"))))) | L21: =IF($K21="已逾期",TODAY()-$I21,"") | M21: =IF($A21="","",IF(COUNTIFS($A$5:$A$204,$A21,$D$5:$D$204,'列表'!$A$10)>0,"赢单",IF(COUNTIFS($A$5:$A$204,$A21,$D$5:$D$204,'列表'!$A$11)>0,"丢单","进行中")))
K22: =IF(OR($A22="",$F22=""),"",IF($J22<>"","已完成",IF(OR($H22="",$I22=""),IF($M22="进行中","无带日期的下一步",""),IF(TODAY()>$I22,"已逾期",IF(TODAY()=$I22,"今天到期","未到期"))))) | L22: =IF($K22="已逾期",TODAY()-$I22,"") | M22: =IF($A22="","",IF(COUNTIFS($A$5:$A$204,$A22,$D$5:$D$204,'列表'!$A$10)>0,"赢单",IF(COUNTIFS($A$5:$A$204,$A22,$D$5:$D$204,'列表'!$A$11)>0,"丢单","进行中")))
K23: =IF(OR($A23="",$F23=""),"",IF($J23<>"","已完成",IF(OR($H23="",$I23=""),IF($M23="进行中","无带日期的下一步",""),IF(TODAY()>$I23,"已逾期",IF(TODAY()=$I23,"今天到期","未到期"))))) | L23: =IF($K23="已逾期",TODAY()-$I23,"") | M23: =IF($A23="","",IF(COUNTIFS($A$5:$A$204,$A23,$D$5:$D$204,'列表'!$A$10)>0,"赢单",IF(COUNTIFS($A$5:$A$204,$A23,$D$5:$D$204,'列表'!$A$11)>0,"丢单","进行中")))
K24: =IF(OR($A24="",$F24=""),"",IF($J24<>"","已完成",IF(OR($H24="",$I24=""),IF($M24="进行中","无带日期的下一步",""),IF(TODAY()>$I24,"已逾期",IF(TODAY()=$I24,"今天到期","未到期"))))) | L24: =IF($K24="已逾期",TODAY()-$I24,"") | M24: =IF($A24="","",IF(COUNTIFS($A$5:$A$204,$A24,$D$5:$D$204,'列表'!$A$10)>0,"赢单",IF(COUNTIFS($A$5:$A$204,$A24,$D$5:$D$204,'列表'!$A$11)>0,"丢单","进行中")))
K25: =IF(OR($A25="",$F25=""),"",IF($J25<>"","已完成",IF(OR($H25="",$I25=""),IF($M25="进行中","无带日期的下一步",""),IF(TODAY()>$I25,"已逾期",IF(TODAY()=$I25,"今天到期","未到期"))))) | L25: =IF($K25="已逾期",TODAY()-$I25,"") | M25: =IF($A25="","",IF(COUNTIFS($A$5:$A$204,$A25,$D$5:$D$204,'列表'!$A$10)>0,"赢单",IF(COUNTIFS($A$5:$A$204,$A25,$D$5:$D$204,'列表'!$A$11)>0,"丢单","进行中")))
K26: =IF(OR($A26="",$F26=""),"",IF($J26<>"","已完成",IF(OR($H26="",$I26=""),IF($M26="进行中","无带日期的下一步",""),IF(TODAY()>$I26,"已逾期",IF(TODAY()=$I26,"今天到期","未到期"))))) | L26: =IF($K26="已逾期",TODAY()-$I26,"") | M26: =IF($A26="","",IF(COUNTIFS($A$5:$A$204,$A26,$D$5:$D$204,'列表'!$A$10)>0,"赢单",IF(COUNTIFS($A$5:$A$204,$A26,$D$5:$D$204,'列表'!$A$11)>0,"丢单","进行中")))
K27: =IF(OR($A27="",$F27=""),"",IF($J27<>"","已完成",IF(OR($H27="",$I27=""),IF($M27="进行中","无带日期的下一步",""),IF(TODAY()>$I27,"已逾期",IF(TODAY()=$I27,"今天到期","未到期"))))) | L27: =IF($K27="已逾期",TODAY()-$I27,"") | M27: =IF($A27="","",IF(COUNTIFS($A$5:$A$204,$A27,$D$5:$D$204,'列表'!$A$10)>0,"赢单",IF(COUNTIFS($A$5:$A$204,$A27,$D$5:$D$204,'列表'!$A$11)>0,"丢单","进行中")))
K28: =IF(OR($A28="",$F28=""),"",IF($J28<>"","已完成",IF(OR($H28="",$I28=""),IF($M28="进行中","无带日期的下一步",""),IF(TODAY()>$I28,"已逾期",IF(TODAY()=$I28,"今天到期","未到期"))))) | L28: =IF($K28="已逾期",TODAY()-$I28,"") | M28: =IF($A28="","",IF(COUNTIFS($A$5:$A$204,$A28,$D$5:$D$204,'列表'!$A$10)>0,"赢单",IF(COUNTIFS($A$5:$A$204,$A28,$D$5:$D$204,'列表'!$A$11)>0,"丢单","进行中")))
K29: =IF(OR($A29="",$F29=""),"",IF($J29<>"","已完成",IF(OR($H29="",$I29=""),IF($M29="进行中","无带日期的下一步",""),IF(TODAY()>$I29,"已逾期",IF(TODAY()=$I29,"今天到期","未到期"))))) | L29: =IF($K29="已逾期",TODAY()-$I29,"") | M29: =IF($A29="","",IF(COUNTIFS($A$5:$A$204,$A29,$D$5:$D$204,'列表'!$A$10)>0,"赢单",IF(COUNTIFS($A$5:$A$204,$A29,$D$5:$D$204,'列表'!$A$11)>0,"丢单","进行中")))
K30: =IF(OR($A30="",$F30=""),"",IF($J30<>"","已完成",IF(OR($H30="",$I30=""),IF($M30="进行中","无带日期的下一步",""),IF(TODAY()>$I30,"已逾期",IF(TODAY()=$I30,"今天到期","未到期"))))) | L30: =IF($K30="已逾期",TODAY()-$I30,"") | M30: =IF($A30="","",IF(COUNTIFS($A$5:$A$204,$A30,$D$5:$D$204,'列表'!$A$10)>0,"赢单",IF(COUNTIFS($A$5:$A$204,$A30,$D$5:$D$204,'列表'!$A$11)>0,"丢单","进行中")))
K31: =IF(OR($A31="",$F31=""),"",IF($J31<>"","已完成",IF(OR($H31="",$I31=""),IF($M31="进行中","无带日期的下一步",""),IF(TODAY()>$I31,"已逾期",IF(TODAY()=$I31,"今天到期","未到期"))))) | L31: =IF($K31="已逾期",TODAY()-$I31,"") | M31: =IF($A31="","",IF(COUNTIFS($A$5:$A$204,$A31,$D$5:$D$204,'列表'!$A$10)>0,"赢单",IF(COUNTIFS($A$5:$A$204,$A31,$D$5:$D$204,'列表'!$A$11)>0,"丢单","进行中")))
... K204: =IF(OR($A204="",$F204=""),"",IF($J204<>"","已完成",IF(OR($H204="",$I204=""),IF($M204="进行中","无带日期的下一步",""),IF(TODAY()>$I204,"已逾期",IF(TODAY()=$I204,"今天到期","未到期"))))) | L204: =IF($K204="已逾期",TODAY()-$I204,"") | M204: =IF($A204="","",IF(COUNTIFS($A$5:$A$204,$A204,$D$5:$D$204,'列表'!$A$10)>0,"赢单",IF(COUNTIFS($A$5:$A$204,$A204,$D$5:$D$204,'列表'!$A$11)>0,"丢单","进行中")))

Sheet 汇总
A1: 交易邮件汇总
A2: 数据来自“交易邮件记录”工作表。修改任意一行后会自动更新。
A4: 指标 | B4: 合计
A5: 已记录邮件 | B5: =COUNTA('交易邮件记录'!$A$5:$A$204)
A6: 有回复的邮件 | B6: =COUNTIF('交易邮件记录'!$G$5:$G$204,"是")
A7: 回复率 | B7: =IF(B5=0,"",B6/B5)
A8: 已完成的下一步 | B8: =COUNTIF('交易邮件记录'!$K$5:$K$204,"已完成")
A9: 未到期 | B9: =COUNTIF('交易邮件记录'!$K$5:$K$204,"未到期")
A10: 今天到期 | B10: =COUNTIF('交易邮件记录'!$K$5:$K$204,"今天到期")
A11: 已逾期 | B11: =COUNTIF('交易邮件记录'!$K$5:$K$204,"已逾期")
A12: 无带日期下一步的行 | B12: =COUNTIF('交易邮件记录'!$K$5:$K$204,"无带日期的下一步")
A14: 按状态统计交易
A15: 交易状态 | B15: 交易数
A16: 进行中 | B16: =SUMPRODUCT(('交易邮件记录'!$M$5:$M$204=A16)/COUNTIF('交易邮件记录'!$A$5:$A$204,'交易邮件记录'!$A$5:$A$204&""))
A17: 赢单 | B17: =SUMPRODUCT(('交易邮件记录'!$M$5:$M$204=A17)/COUNTIF('交易邮件记录'!$A$5:$A$204,'交易邮件记录'!$A$5:$A$204&""))
A18: 丢单 | B18: =SUMPRODUCT(('交易邮件记录'!$M$5:$M$204=A18)/COUNTIF('交易邮件记录'!$A$5:$A$204,'交易邮件记录'!$A$5:$A$204&""))
A19: 全部交易 | B19: =SUMPRODUCT(('交易邮件记录'!$A$5:$A$204<>"")/COUNTIF('交易邮件记录'!$A$5:$A$204,'交易邮件记录'!$A$5:$A$204&""))
A20: 赢单率（赢单占赢单与丢单之和的比例） | B20: =IF(B17+B18=0,"",B17/(B17+B18))
A22: 按阶段
A23: 阶段 | B23: 邮件 | C23: 回复 | D23: 回复率
A24: ='列表'!$A$5 | B24: =COUNTIF('交易邮件记录'!$D$5:$D$204,A24) | C24: =COUNTIFS('交易邮件记录'!$D$5:$D$204,A24,'交易邮件记录'!$G$5:$G$204,"是") | D24: =IF(B24=0,"",C24/B24)
A25: ='列表'!$A$6 | B25: =COUNTIF('交易邮件记录'!$D$5:$D$204,A25) | C25: =COUNTIFS('交易邮件记录'!$D$5:$D$204,A25,'交易邮件记录'!$G$5:$G$204,"是") | D25: =IF(B25=0,"",C25/B25)
A26: ='列表'!$A$7 | B26: =COUNTIF('交易邮件记录'!$D$5:$D$204,A26) | C26: =COUNTIFS('交易邮件记录'!$D$5:$D$204,A26,'交易邮件记录'!$G$5:$G$204,"是") | D26: =IF(B26=0,"",C26/B26)
A27: ='列表'!$A$8 | B27: =COUNTIF('交易邮件记录'!$D$5:$D$204,A27) | C27: =COUNTIFS('交易邮件记录'!$D$5:$D$204,A27,'交易邮件记录'!$G$5:$G$204,"是") | D27: =IF(B27=0,"",C27/B27)
A28: ='列表'!$A$9 | B28: =COUNTIF('交易邮件记录'!$D$5:$D$204,A28) | C28: =COUNTIFS('交易邮件记录'!$D$5:$D$204,A28,'交易邮件记录'!$G$5:$G$204,"是") | D28: =IF(B28=0,"",C28/B28)
A29: ='列表'!$A$10 | B29: =COUNTIF('交易邮件记录'!$D$5:$D$204,A29) | C29: =COUNTIFS('交易邮件记录'!$D$5:$D$204,A29,'交易邮件记录'!$G$5:$G$204,"是") | D29: =IF(B29=0,"",C29/B29)
A30: ='列表'!$A$11 | B30: =COUNTIF('交易邮件记录'!$D$5:$D$204,A30) | C30: =COUNTIFS('交易邮件记录'!$D$5:$D$204,A30,'交易邮件记录'!$G$5:$G$204,"是") | D30: =IF(B30=0,"",C30/B30)
A31: ='列表'!$A$12 | B31: =COUNTIF('交易邮件记录'!$D$5:$D$204,A31) | C31: =COUNTIFS('交易邮件记录'!$D$5:$D$204,A31,'交易邮件记录'!$G$5:$G$204,"是") | D31: =IF(B31=0,"",C31/B31)
A33: 按负责人统计待办工作
A34: 负责人 | B34: 邮件 | C34: 今天到期 | D34: 已逾期 | E34: 无带日期的下一步
A35: =IF('列表'!$B$5="","",'列表'!$B$5) | B35: =IF(A35="","",COUNTIF('交易邮件记录'!$C$5:$C$204,A35)) | C35: =IF(A35="","",COUNTIFS('交易邮件记录'!$C$5:$C$204,A35,'交易邮件记录'!$K$5:$K$204,"今天到期")) | D35: =IF(A35="","",COUNTIFS('交易邮件记录'!$C$5:$C$204,A35,'交易邮件记录'!$K$5:$K$204,"已逾期")) | E35: =IF(A35="","",COUNTIFS('交易邮件记录'!$C$5:$C$204,A35,'交易邮件记录'!$K$5:$K$204,"无带日期的下一步"))
A36: =IF('列表'!$B$6="","",'列表'!$B$6) | B36: =IF(A36="","",COUNTIF('交易邮件记录'!$C$5:$C$204,A36)) | C36: =IF(A36="","",COUNTIFS('交易邮件记录'!$C$5:$C$204,A36,'交易邮件记录'!$K$5:$K$204,"今天到期")) | D36: =IF(A36="","",COUNTIFS('交易邮件记录'!$C$5:$C$204,A36,'交易邮件记录'!$K$5:$K$204,"已逾期")) | E36: =IF(A36="","",COUNTIFS('交易邮件记录'!$C$5:$C$204,A36,'交易邮件记录'!$K$5:$K$204,"无带日期的下一步"))
A37: =IF('列表'!$B$7="","",'列表'!$B$7) | B37: =IF(A37="","",COUNTIF('交易邮件记录'!$C$5:$C$204,A37)) | C37: =IF(A37="","",COUNTIFS('交易邮件记录'!$C$5:$C$204,A37,'交易邮件记录'!$K$5:$K$204,"今天到期")) | D37: =IF(A37="","",COUNTIFS('交易邮件记录'!$C$5:$C$204,A37,'交易邮件记录'!$K$5:$K$204,"已逾期")) | E37: =IF(A37="","",COUNTIFS('交易邮件记录'!$C$5:$C$204,A37,'交易邮件记录'!$K$5:$K$204,"无带日期的下一步"))
A38: =IF('列表'!$B$8="","",'列表'!$B$8) | B38: =IF(A38="","",COUNTIF('交易邮件记录'!$C$5:$C$204,A38)) | C38: =IF(A38="","",COUNTIFS('交易邮件记录'!$C$5:$C$204,A38,'交易邮件记录'!$K$5:$K$204,"今天到期")) | D38: =IF(A38="","",COUNTIFS('交易邮件记录'!$C$5:$C$204,A38,'交易邮件记录'!$K$5:$K$204,"已逾期")) | E38: =IF(A38="","",COUNTIFS('交易邮件记录'!$C$5:$C$204,A38,'交易邮件记录'!$K$5:$K$204,"无带日期的下一步"))
A39: =IF('列表'!$B$9="","",'列表'!$B$9) | B39: =IF(A39="","",COUNTIF('交易邮件记录'!$C$5:$C$204,A39)) | C39: =IF(A39="","",COUNTIFS('交易邮件记录'!$C$5:$C$204,A39,'交易邮件记录'!$K$5:$K$204,"今天到期")) | D39: =IF(A39="","",COUNTIFS('交易邮件记录'!$C$5:$C$204,A39,'交易邮件记录'!$K$5:$K$204,"已逾期")) | E39: =IF(A39="","",COUNTIFS('交易邮件记录'!$C$5:$C$204,A39,'交易邮件记录'!$K$5:$K$204,"无带日期的下一步"))
A40: =IF('列表'!$B$10="","",'列表'!$B$10) | B40: =IF(A40="","",COUNTIF('交易邮件记录'!$C$5:$C$204,A40)) | C40: =IF(A40="","",COUNTIFS('交易邮件记录'!$C$5:$C$204,A40,'交易邮件记录'!$K$5:$K$204,"今天到期")) | D40: =IF(A40="","",COUNTIFS('交易邮件记录'!$C$5:$C$204,A40,'交易邮件记录'!$K$5:$K$204,"已逾期")) | E40: =IF(A40="","",COUNTIFS('交易邮件记录'!$C$5:$C$204,A40,'交易邮件记录'!$K$5:$K$204,"无带日期的下一步"))
A41: =IF('列表'!$B$11="","",'列表'!$B$11) | B41: =IF(A41="","",COUNTIF('交易邮件记录'!$C$5:$C$204,A41)) | C41: =IF(A41="","",COUNTIFS('交易邮件记录'!$C$5:$C$204,A41,'交易邮件记录'!$K$5:$K$204,"今天到期")) | D41: =IF(A41="","",COUNTIFS('交易邮件记录'!$C$5:$C$204,A41,'交易邮件记录'!$K$5:$K$204,"已逾期")) | E41: =IF(A41="","",COUNTIFS('交易邮件记录'!$C$5:$C$204,A41,'交易邮件记录'!$K$5:$K$204,"无带日期的下一步"))
A42: =IF('列表'!$B$12="","",'列表'!$B$12) | B42: =IF(A42="","",COUNTIF('交易邮件记录'!$C$5:$C$204,A42)) | C42: =IF(A42="","",COUNTIFS('交易邮件记录'!$C$5:$C$204,A42,'交易邮件记录'!$K$5:$K$204,"今天到期")) | D42: =IF(A42="","",COUNTIFS('交易邮件记录'!$C$5:$C$204,A42,'交易邮件记录'!$K$5:$K$204,"已逾期")) | E42: =IF(A42="","",COUNTIFS('交易邮件记录'!$C$5:$C$204,A42,'交易邮件记录'!$K$5:$K$204,"无带日期的下一步"))
A43: =IF('列表'!$B$13="","",'列表'!$B$13) | B43: =IF(A43="","",COUNTIF('交易邮件记录'!$C$5:$C$204,A43)) | C43: =IF(A43="","",COUNTIFS('交易邮件记录'!$C$5:$C$204,A43,'交易邮件记录'!$K$5:$K$204,"今天到期")) | D43: =IF(A43="","",COUNTIFS('交易邮件记录'!$C$5:$C$204,A43,'交易邮件记录'!$K$5:$K$204,"已逾期")) | E43: =IF(A43="","",COUNTIFS('交易邮件记录'!$C$5:$C$204,A43,'交易邮件记录'!$K$5:$K$204,"无带日期的下一步"))
A44: =IF('列表'!$B$14="","",'列表'!$B$14) | B44: =IF(A44="","",COUNTIF('交易邮件记录'!$C$5:$C$204,A44)) | C44: =IF(A44="","",COUNTIFS('交易邮件记录'!$C$5:$C$204,A44,'交易邮件记录'!$K$5:$K$204,"今天到期")) | D44: =IF(A44="","",COUNTIFS('交易邮件记录'!$C$5:$C$204,A44,'交易邮件记录'!$K$5:$K$204,"已逾期")) | E44: =IF(A44="","",COUNTIFS('交易邮件记录'!$C$5:$C$204,A44,'交易邮件记录'!$K$5:$K$204,"无带日期的下一步"))
...

Sheet 列表
A1: 列表
A2: 在这里修改负责人姓名。“交易邮件记录”工作表中的下拉列表使用这些列表。请保持阶段顺序不变：“交易状态”会查找第 6 阶段（赢单）和第 7 阶段（丢单）。
A4: 阶段 | B4: 负责人 | C4: 回复
A5: 回复咨询线索 | B5: Jonah | C5: 是
A6: 通话或演示总结 | B6: Astrid | C6: 否
A7: 价格询问
A8: 方案或报价
A9: 采购小组沟通
A10: 赢单：下一步
A11: 丢单：询问原因
A12: 续约或增购
